Workbook

Sheet 第１表
E1: 介護保険事業状況報告
F2: 8 | G2: 7
E4: 第1号被保険者数（人） | H4: =G2 -> 7
F6: 当月末現在
G7: ６５歳以上７５歳未満 | H7: ７５歳以上８５歳未満 | I7: ８５歳以上
E8: 神奈川県 | F8: 2375752 | G8: 946351 | H8: 972815 | I8: 456586
E9: 横浜市 | F9: 951675 | G9: 382353 | H9: 382012 | I9: 187310
E10: 川崎市 | F10: 315624 | G10: 134382 | H10: 123234 | I10: 58008
E11: 相模原市 | F11: 191231 | G11: 75648 | H11: 80790 | I11: 34793
E12: 横須賀市 | F12: 123601 | G12: 45582 | H12: 52796 | I12: 25223
E13: 平塚市 | F13: 74503 | G13: 29624 | H13: 31313 | I13: 13566
E14: 鎌倉市 | F14: 53391 | G14: 19057 | H14: 21627 | I14: 12707
E15: 藤沢市 | F15: 110681 | G15: 43274 | H15: 45484 | I15: 21923
E16: 小田原市 | F16: 57884 | G16: 23079 | H16: 23713 | I16: 11092
E17: 茅ヶ崎市 | F17: 66989 | G17: 26054 | H17: 27575 | I17: 13360
E18: 逗子市 | F18: 18375 | G18: 6561 | H18: 7484 | I18: 4330
E19: 三浦市 | F19: 15727 | G19: 5975 | H19: 6695 | I19: 3057
... E41: 清川村 | F41: 1073 | G41: 462 | H41: 438 | I41: 173

Sheet 第２-1表
B1: 要介護（要支援）認定者数（人） | F1: =第１表!F2 -> 8 | H1: =第１表!G2 -> 7 | I1: =H1 -> 7
B2: ①総数
B3: 区分 | C3: 男 | CX3: 女 | GS3: 計
C4: 第１号被保険者 | CB4: 第２号被保険者 | CM4: 総数 | CX4: 第１号被保険者 | FW4: 第２号被保険者 | GH4: 総数 | GS4: 第１号被保険者 | JR4: 第２号被保険者 | KC4: 総数
N5: ６５歳以上７０歳未満 | Y5: ７０歳以上７５歳未満 | AJ5: ７５歳以上８０歳未満 | AU5: ８０歳以上８５歳未満 | BF5: ８５歳以上９０歳未満 | BQ5: ９０歳以上 | DI5: ６５歳以上７０歳未満 | DT5: ７０歳以上７５歳未満 | EE5: ７５歳以上８０歳未満 | EP5: ８０歳以上８５歳未満 | FA5: ８５歳以上９０歳未満 | FL5: ９０歳以上 | HD5: ６５歳以上７０歳未満 | HO5: ７０歳以上７５歳未満 | HZ5: ７５歳以上８０歳未満 | IK5: ８０歳以上８５歳未満 | IV5: ８５歳以上９０歳未満 | JG5: ９０歳以上
B6: 市町村名 | C6: 要支援１ | D6: 要支援２ | E6: 計 | F6: 経過的 要介護 | G6: 要介護１ | H6: 要介護２ | I6: 要介護３ | J6: 要介護４ | K6: 要介護５ | L6: 計 | M6: 合計 | N6: 要支援１ | O6: 要支援２ | P6: 計 | Q6: 経過的 要介護 | R6: 要介護１ | S6: 要介護２ | T6: 要介護３ | U6: 要介護４ | V6: 要介護５ | W6: 計 | X6: 合計 | Y6: 要支援１ | Z6: 要支援２ | AA6: 計 | AB6: 経過的 要介護 | AC6: 要介護１ | AD6: 要介護２ | AE6: 要介護３ | AF6: 要介護４ | AG6: 要介護５ | AH6: 計 | AI6: 合計 | AJ6: 要支援１ | AK6: 要支援２ | AL6: 計 | AM6: 経過的 要介護 | AN6: 要介護１ | AO6: 要介護２ | AP6: 要介護３ | AQ6: 要介護４ | AR6: 要介護５ | AS6: 計 | AT6: 合計 | AU6: 要支援１ | AV6: 要支援２ | AW6: 計 | AX6: 経過的 要介護 | AY6: 要介護１ | AZ6: 要介護２ | BA6: 要介護３ | BB6: 要介護４ | BC6: 要介護５ | BD6: 計 | BE6: 合計 | BF6: 要支援１ | BG6: 要支援２ | BH6: 計 | BI6: 経過的 要介護 | BJ6: 要介護１ | BK6: 要介護２ | BL6: 要介護３ | BM6: 要介護４ | BN6: 要介護５ | BO6: 計 | BP6: 合計 | BQ6: 要支援１ | BR6: 要支援２ | BS6: 計 | BT6: 経過的 要介護 | BU6: 要介護１ | BV6: 要介護２ | BW6: 要介護３ | BX6: 要介護４ | BY6: 要介護５ | BZ6: 計 | CA6: 合計 | CB6: 要支援１ | CC6: 要支援２ | CD6: 計 | CE6: 経過的 要介護 | CF6: 要介護１ | CG6: 要介護２ | CH6: 要介護３ | CI6: 要介護４ | CJ6: 要介護５ | CK6: 計 | CL6: 合計 | CM6: 要支援１ | CN6: 要支援２ | CO6: 計 | CP6: 経過的 要介護 | CQ6: 要介護１ | CR6: 要介護２ | CS6: 要介護３ | CT6: 要介護４ | CU6: 要介護５ | CV6: 計 | CW6: 合計 | CX6: 要支援１ | CY6: 要支援２ | CZ6: 計 | DA6: 経過的 要介護 | DB6: 要介護１ | DC6: 要介護２ | DD6: 要介護３ | DE6: 要介護４ | DF6: 要介護５ | DG6: 計 | DH6: 合計 | DI6: 要支援１ | DJ6: 要支援２ | DK6: 計 | DL6: 経過的 要介護 | DM6: 要介護１ | DN6: 要介護２ | DO6: 要介護３ | DP6: 要介護４ | DQ6: 要介護５ | DR6: 計 | DS6: 合計 | DT6: 要支援１ | DU6: 要支援２ | DV6: 計 | DW6: 経過的 要介護 | DX6: 要介護１ | DY6: 要介護２ | DZ6: 要介護３ | EA6: 要介護４ | EB6: 要介護５ | EC6: 計 | ED6: 合計 | EE6: 要支援１ | EF6: 要支援２ | EG6: 計 | EH6: 経過的 要介護 | EI6: 要介護１ | EJ6: 要介護２ | EK6: 要介護３ | EL6: 要介護４ | EM6: 要介護５ | EN6: 計 | EO6: 合計 | EP6: 要支援１ | EQ6: 要支援２ | ER6: 計 | ES6: 経過的 要介護 | ET6: 要介護１ | EU6: 要介護２ | EV6: 要介護３ | EW6: 要介護４ | EX6: 要介護５ | EY6: 計 | EZ6: 合計 | FA6: 要支援１ | FB6: 要支援２ | FC6: 計 | FD6: 経過的 要介護 | FE6: 要介護１ | FF6: 要介護２ | FG6: 要介護３ | FH6: 要介護４ | FI6: 要介護５ | FJ6: 計 | FK6: 合計 | FL6: 要支援１ | FM6: 要支援２ | FN6: 計 | FO6: 経過的 要介護 | FP6: 要介護１ | FQ6: 要介護２ | FR6: 要介護３ | FS6: 要介護４ | FT6: 要介護５ | FU6: 計 | FV6: 合計 | FW6: 要支援１ | FX6: 要支援２ | FY6: 計 | FZ6: 経過的 要介護 | GA6: 要介護１ | GB6: 要介護２ | GC6: 要介護３ | GD6: 要介護４ | GE6: 要介護５ | GF6: 計 | GG6: 合計 | GH6: 要支援１ | GI6: 要支援２ | GJ6: 計 | GK6: 経過的 要介護 | GL6: 要介護１ | GM6: 要介護２ | GN6: 要介護３ | GO6: 要介護４ | GP6: 要介護５ | GQ6: 計 | GR6: 合計 | GS6: 要支援１ | GT6: 要支援２ | GU6: 計 | GV6: 経過的 要介護 | GW6: 要介護１ | GX6: 要介護２ | GY6: 要介護３ | GZ6: 要介護４ | HA6: 要介護５ | HB6: 計 | HC6: 合計 | HD6: 要支援１ | HE6: 要支援２ | HF6: 計 | HG6: 経過的 要介護 | HH6: 要介護１ | HI6: 要介護２ | HJ6: 要介護３ | HK6: 要介護４ | HL6: 要介護５ | HM6: 計 | HN6: 合計 | HO6: 要支援１ | HP6: 要支援２ | HQ6: 計 | HR6: 経過的 要介護 | HS6: 要介護１ | HT6: 要介護２ | HU6: 要介護３ | HV6: 要介護４ | HW6: 要介護５ | HX6: 計 | HY6: 合計 | HZ6: 要支援１ | IA6: 要支援２ | IB6: 計 | IC6: 経過的 要介護 | ID6: 要介護１ | IE6: 要介護２ | IF6: 要介護３ | IG6: 要介護４ | IH6: 要介護５ | II6: 計 | IJ6: 合計 | IK6: 要支援１ | IL6: 要支援２ | IM6: 計 | IN6: 経過的 要介護 | IO6: 要介護１ | IP6: 要介護２ | IQ6: 要介護３ | IR6: 要介護４ | IS6: 要介護５ | IT6: 計 | IU6: 合計 | IV6: 要支援１ | IW6: 要支援２ | IX6: 計 | IY6: 経過的 要介護 | IZ6: 要介護１ | JA6: 要介護２ | JB6: 要介護３ | JC6: 要介護４ | JD6: 要介護５ | JE6: 計 | JF6: 合計 | JG6: 要支援１ | JH6: 要支援２ | JI6: 計 | JJ6: 経過的 要介護 | JK6: 要介護１ | JL6: 要介護２ | JM6: 要介護３ | JN6: 要介護４ | JO6: 要介護５ | JP6: 計 | JQ6: 合計 | JR6: 要支援１ | JS6: 要支援２ | JT6: 計 | JU6: 経過的 要介護 | JV6: 要介護１ | JW6: 要介護２ | JX6: 要介護３ | JY6: 要介護４ | JZ6: 要介護５ | KA6: 計 | KB6: 合計 | KC6: 要支援１ | KD6: 要支援２ | KE6: 計 | KF6: 経過的 要介護 | KG6: 要介護１ | KH6: 要介護２ | KI6: 要介護３ | KJ6: 要介護４ | KK6: 要介護５ | KL6: 計 | KM6: 合計
B7: 神奈川県 | C7: 22826 | D7: 23526 | E7: 46352 | F7: 0 | G7: 33599 | H7: 33684 | I7: 22092 | J7: 18013 | K7: 10630 | L7: 118018 | M7: 164370 | N7: 815 | O7: 1037 | P7: 1852 | Q7: 0 | R7: 1299 | S7: 1665 | T7: 1130 | U7: 951 | V7: 746 | W7: 5791 | X7: 7643 | Y7: 1623 | Z7: 2057 | AA7: 3680 | AB7: 0 | AC7: 2418 | AD7: 2932 | AE7: 1868 | AF7: 1738 | AG7: 1183 | AH7: 10139 | AI7: 13819 | AJ7: 3828 | AK7: 4319 | AL7: 8147 | AM7: 0 | AN7: 5659 | AO7: 6100 | AP7: 3811 | AQ7: 3295 | AR7: 2222 | AS7: 21087 | AT7: 29234 | AU7: 5702 | AV7: 5388 | AW7: 11090 | AX7: 0 | AY7: 8004 | AZ7: 7336 | BA7: 4738 | BB7: 3723 | BC7: 2246 | BD7: 26047 | BE7: 37137 | BF7: 6470 | BG7: 6194 | BH7: 12664 | BI7: 0 | BJ7: 9091 | BK7: 8358 | BL7: 5434 | BM7: 4192 | BN7: 2260 | BO7: 29335 | BP7: 41999 | BQ7: 4388 | BR7: 4531 | BS7: 8919 | BT7: 0 | BU7: 7128 | BV7: 7293 | BW7: 5111 | BX7: 4114 | BY7: 1973 | BZ7: 25619 | CA7: 34538 | CB7: 529 | CC7: 913 | CD7: 1442 | CE7: 0 | CF7: 912 | CG7: 1501 | CH7: 952 | CI7: 844 | CJ7: 803 | CK7: 5012 | CL7: 6454 | CM7: 23355 | CN7: 24439 | CO7: 47794 | CP7: 0 | CQ7: 34511 | CR7: 35185 | CS7: 23044 | CT7: 18857 | CU7: 11433 | CV7: 123030 | CW7: 170824 | CX7: 44085 | CY7: 51220 | CZ7: 95305 | DA7: 0 | DB7: 62332 | DC7: 58718 | DD7: 42069 | DE7: 41226 | DF7: 25593 | DG7: 229938 | DH7: 325243 | DI7: 861 | DJ7: 1131 | DK7: 1992 | DL7: 0 | DM7: 1029 | DN7: 1182 | DO7: 698 | DP7: 674 | DQ7: 598 | DR7: 4181 | DS7: 6173 | DT7: 2322 | DU7: 2747 | DV7: 5069 | DW7: 0 | DX7: 2291 | DY7: 2432 | DZ7: 1489 | EA7: 1398 | EB7: 1148 | EC7: 8758 | ED7: 13827 | EE7: 7020 | EF7: 7916 | EG7: 14936 | EH7: 0 | EI7: 7606 | EJ7: 6730 | EK7: 4124 | EL7: 3979 | EM7: 2901 | EN7: 25340 | EO7: 40276 | EP7: 12622 | EQ7: 13230 | ER7: 25852 | ES7: 0 | ET7: 14331 | EU7: 11794 | EV7: 7346 | EW7: 6592 | EX7: 4528 | EY7: 44591 | EZ7: 70443 | FA7: 13612 | FB7: 15283 | FC7: 28895 | FD7: 0 | FE7: 18920 | FF7: 16382 | FG7: 11094 | FH7: 10294 | FI7: 6261 | FJ7: 62951 | FK7: 91846 | FL7: 7648 | FM7: 10913 | FN7: 18561 | FO7: 0 | FP7: 18155 | FQ7: 20198 | FR7: 17318 | FS7: 18289 | FT7: 10157 | FU7: 84117 | FV7: 102678 | FW7: 413 | FX7: 758 | FY7: 1171 | FZ7: 0 | GA7: 736 | GB7: 1161 | GC7: 627 | GD7: 626 | GE7: 668 | GF7: 3818 | GG7: 4989 | GH7: 44498 | GI7: 51978 | GJ7: 96476 | GK7: 0 | GL7: 63068 | GM7: 59879 | GN7: 42696 | GO7: 41852 | GP7: 26261 | GQ7: 233756 | GR7: 330232 | GS7: 66911 | GT7: 74746 | GU7: 141657 | GV7: 0 | GW7: 95931 | GX7: 92402 | GY7: 64161 | GZ7: 59239 | HA7: 36223 | HB7: 347956 | HC7: 489613 | HD7: 1676 | HE7: 2168 | HF7: 3844 | HG7: 0 | HH7: 2328 | HI7: 2847 | HJ7: 1828 | HK7: 1625 | HL7: 1344 | HM7: 9972 | HN7: 13816 | HO7: 3945 | HP7: 4804 | HQ7: 8749 | HR7: 0 | HS7: 4709 | HT7: 5364 | HU7: 3357 | HV7: 3136 | HW7: 2331 | HX7: 18897 | HY7: 27646 | HZ7: 10848 | IA7: 12235 | IB7: 23083 | IC7: 0 | ID7: 13265 | IE7: 12830 | IF7: 7935 | IG7: 7274 | IH7: 5123 | II7: 46427 | IJ7: 69510 | IK7: 18324 | IL7: 18618 | IM7: 36942 | IN7: 0 | IO7: 22335 | IP7: 19130 | IQ7: 12084 | IR7: 10315 | IS7: 6774 | IT7: 70638 | IU7: 107580 | IV7: 20082 | IW7: 21477 | IX7: 41559 | IY7: 0 | IZ7: 28011 | JA7: 24740 | JB7: 16528 | JC7: 14486 | JD7: 8521 | JE7: 92286 | JF7: 133845 | JG7: 12036 | JH7: 15444 | JI7: 27480 | JJ7: 0 | JK7: 25283 | JL7: 27491 | JM7: 22429 | JN7: 22403 | JO7: 12130 | JP7: 109736 | JQ7: 137216 | JR7: 942 | JS7: 1671 | JT7: 2613 | JU7: 0 | JV7: 1648 | JW7: 2662 | JX7: 1579 | JY7: 1470 | JZ7: 1471 | KA7: 8830 | KB7: 11443 | KC7: 67853 | KD7: 76417 | KE7: 144270 | KF7: 0 | KG7: 97579 | KH7: 95064 | KI7: 65740 | KJ7: 60709 | KK7: 37694 | KL7: 356786 | KM7: 501056
B8: 横浜市 | C8: 8680 | D8: 11193 | E8: 19873 | F8: 0 | G8: 11130 | H8: 15205 | I8: 9315 | J8: 7453 | K8: 4430 | L8: 47533 | M8: 67406 | N8: 301 | O8: 485 | P8: 786 | Q8: 0 | R8: 417 | S8: 803 | T8: 494 | U8: 404 | V8: 300 | W8: 2418 | X8: 3204 | Y8: 569 | Z8: 938 | AA8: 1507 | AB8: 0 | AC8: 726 | AD8: 1300 | AE8: 803 | AF8: 695 | AG8: 517 | AH8: 4041 | AI8: 5548 | AJ8: 1442 | AK8: 2029 | AL8: 3471 | AM8: 0 | AN8: 1785 | AO8: 2744 | AP8: 1573 | AQ8: 1407 | AR8: 907 | AS8: 8416 | AT8: 11887 | AU8: 2110 | AV8: 2570 | AW8: 4680 | AX8: 0 | AY8: 2567 | AZ8: 3270 | BA8: 1943 | BB8: 1494 | BC8: 901 | BD8: 10175 | BE8: 14855 | BF8: 2482 | BG8: 2900 | BH8: 5382 | BI8: 0 | BJ8: 3066 | BK8: 3691 | BL8: 2242 | BM8: 1679 | BN8: 947 | BO8: 11625 | BP8: 17007 | BQ8: 1776 | BR8: 2271 | BS8: 4047 | BT8: 0 | BU8: 2569 | BV8: 3397 | BW8: 2260 | BX8: 1774 | BY8: 858 | BZ8: 10858 | CA8: 14905 | CB8: 202 | CC8: 434 | CD8: 636 | CE8: 0 | CF8: 249 | CG8: 665 | CH8: 386 | CI8: 367 | CJ8: 366 | CK8: 2033 | CL8: 2669 | CM8: 8882 | CN8: 11627 | CO8: 20509 | CP8: 0 | CQ8: 11379 | CR8: 15870 | CS8: 9701 | CT8: 7820 | CU8: 4796 | CV8: 49566 | CW8: 70075 | CX8: 16474 | CY8: 22886 | CZ8: 39360 | DA8: 0 | DB8: 21567 | DC8: 26919 | DD8: 17684 | DE8: 17146 | DF8: 10536 | DG8: 93852 | DH8: 133212 | DI8: 310 | DJ8: 467 | DK8: 777 | DL8: 0 | DM8: 292 | DN8: 577 | DO8: 292 | DP8: 285 | DQ8: 246 | DR8: 1692 | DS8: 2469 | DT8: 817 | DU8: 1262 | DV8: 2079 | DW8: 0 | DX8: 692 | DY8: 1067 | DZ8: 608 | EA8: 573 | EB8: 443 | EC8: 3383 | ED8: 5462 | EE8: 2505 | EF8: 3444 | EG8: 5949 | EH8: 0 | EI8: 2491 | EJ8: 2997 | EK8: 1712 | EL8: 1581 | EM8: 1194 | EN8: 9975 | EO8: 15924 | EP8: 4680 | EQ8: 5774 | ER8: 10454 | ES8: 0 | ET8: 4847 | EU8: 5233 | EV8: 2991 | EW8: 2717 | EX8: 1827 | EY8: 17615 | EZ8: 28069 | FA8: 5177 | FB8: 6828 | FC8: 12005 | FD8: 0 | FE8: 6786 | FF8: 7571 | FG8: 4634 | FH8: 4253 | FI8: 2598 | FJ8: 25842 | FK8: 37847 | FL8: 2985 | FM8: 5111 | FN8: 8096 | FO8: 0 | FP8: 6459 | FQ8: 9474 | FR8: 7447 | FS8: 7737 | FT8: 4228 | FU8: 35345 | FV8: 43441 | FW8: 161 | FX8: 313 | FY8: 474 | FZ8: 0 | GA8: 206 | GB8: 530 | GC8: 255 | GD8: 262 | GE8: 292 | GF8: 1545 | GG8: 2019 | GH8: 16635 | GI8: 23199 | GJ8: 39834 | GK8: 0 | GL8: 21773 | GM8: 27449 | GN8: 17939 | GO8: 17408 | GP8: 10828 | GQ8: 95397 | GR8: 135231 | GS8: 25154 | GT8: 34079 | GU8: 59233 | GV8: 0 | GW8: 32697 | GX8: 42124 | GY8: 26999 | GZ8: 24599 | HA8: 14966 | HB8: 141385 | HC8: 200618 | HD8: 611 | HE8: 952 | HF8: 1563 | HG8: 0 | HH8: 709 | HI8: 1380 | HJ8: 786 | HK8: 689 | HL8: 546 | HM8: 4110 | HN8: 5673 | HO8: 1386 | HP8: 2200 | HQ8: 3586 | HR8: 0 | HS8: 1418 | HT8: 2367 | HU8: 1411 | HV8: 1268 | HW8: 960 | HX8: 7424 | HY8: 11010 | HZ8: 3947 | IA8: 5473 | IB8: 9420 | IC8: 0 | ID8: 4276 | IE8: 5741 | IF8: 3285 | IG8: 2988 | IH8: 2101 | II8: 18391 | IJ8: 27811 | IK8: 6790 | IL8: 8344 | IM8: 15134 | IN8: 0 | IO8: 7414 | IP8: 8503 | IQ8: 4934 | IR8: 4211 | IS8: 2728 | IT8: 27790 | IU8: 42924 | IV8: 7659 | IW8: 9728 | IX8: 17387 | IY8: 0 | IZ8: 9852 | JA8: 11262 | JB8: 6876 | JC8: 5932 | JD8: 3545 | JE8: 37467 | JF8: 54854 | JG8: 4761 | JH8: 7382 | JI8: 12143 | JJ8: 0 | JK8: 9028 | JL8: 12871 | JM8: 9707 | JN8: 9511 | JO8: 5086 | JP8: 46203 | JQ8: 58346 | JR8: 363 | JS8: 747 | JT8: 1110 | JU8: 0 | JV8: 455 | JW8: 1195 | JX8: 641 | JY8: 629 | JZ8: 658 | KA8: 3578 | KB8: 4688 | KC8: 25517 | KD8: 34826 | KE8: 60343 | KF8: 0 | KG8: 33152 | KH8: 43319 | KI8: 27640 | KJ8: 25228 | KK8: 15624 | KL8: 144963 | KM8: 205306
B9: 川崎市 | C9: 3149 | D9: 2674 | E9: 5823 | F9: 0 | G9: 5556 | H9: 4252 | I9: 2959 | J9: 2385 | K9: 1537 | L9: 16689 | M9: 22512 | N9: 146 | O9: 146 | P9: 292 | Q9: 0 | R9: 261 | S9: 226 | T9: 175 | U9: 167 | V9: 116 | W9: 945 | X9: 1237 | Y9: 250 | Z9: 295 | AA9: 545 | AB9: 0 | AC9: 478 | AD9: 418 | AE9: 265 | AF9: 260 | AG9: 187 | AH9: 1608 | AI9: 2153 | AJ9: 569 | AK9: 493 | AL9: 1062 | AM9: 0 | AN9: 1000 | AO9: 818 | AP9: 552 | AQ9: 443 | AR9: 339 | AS9: 3152 | AT9: 4214 | AU9: 783 | AV9: 605 | AW9: 1388 | AX9: 0 | AY9: 1291 | AZ9: 923 | BA9: 615 | BB9: 519 | BC9: 322 | BD9: 3670 | BE9: 5058 | BF9: 848 | BG9: 672 | BH9: 1520 | BI9: 0 | BJ9: 1400 | BK9: 987 | BL9: 708 | BM9: 506 | BN9: 291 | BO9: 3892 | BP9: 5412 | BQ9: 553 | BR9: 463 | BS9: 1016 | BT9: 0 | BU9: 1126 | BV9: 880 | BW9: 644 | BX9: 490 | BY9: 282 | BZ9: 3422 | CA9: 4438 | CB9: 81 | CC9: 109 | CD9: 190 | CE9: 0 | CF9: 173 | CG9: 210 | CH9: 159 | CI9: 118 | CJ9: 110 | CK9: 770 | CL9: 960 | CM9: 3230 | CN9: 2783 | CO9: 6013 | CP9: 0 | CQ9: 5729 | CR9: 4462 | CS9: 3118 | CT9: 2503 | CU9: 1647 | CV9: 17459 | CW9: 23472 | CX9: 6216 | CY9: 5870 | CZ9: 12086 | DA9: 0 | DB9: 9733 | DC9: 7308 | DD9: 5534 | DE9: 5348 | DF9: 3482 | DG9: 31405 | DH9: 43491 | DI9: 139 | DJ9: 144 | DK9: 283 | DL9: 0 | DM9: 199 | DN9: 152 | DO9: 101 | DP9: 104 | DQ9: 81 | DR9: 637 | DS9: 920 | DT9: 359 | DU9: 320 | DV9: 679 | DW9: 0 | DX9: 395 | DY9: 300 | DZ9: 210 | EA9: 194 | EB9: 177 | EC9: 1276 | ED9: 1955 | EE9: 1027 | EF9: 887 | EG9: 1914 | EH9: 0 | EI9: 1213 | EJ9: 777 | EK9: 521 | EL9: 529 | EM9: 409 | EN9: 3449 | EO9: 5363 | EP9: 1692 | EQ9: 1513 | ER9: 3205 | ES9: 0 | ET9: 2143 | EU9: 1429 | EV9: 923 | EW9: 810 | EX9: 597 | EY9: 5902 | EZ9: 9107 | FA9: 1894 | FB9: 1742 | FC9: 3636 | FD9: 0 | FE9: 2874 | FF9: 1999 | FG9: 1457 | FH9: 1368 | FI9: 825 | FJ9: 8523 | FK9: 12159 | FL9: 1105 | FM9: 1264 | FN9: 2369 | FO9: 0 | FP9: 2909 | FQ9: 2651 | FR9: 2322 | FS9: 2343 | FT9: 1393 | FU9: 11618 | FV9: 13987 | FW9: 63 | FX9: 98 | FY9: 161 | FZ9: 0 | GA9: 131 | GB9: 142 | GC9: 86 | GD9: 96 | GE9: 96 | GF9: 551 | GG9: 712 | GH9: 6279 | GI9: 5968 | GJ9: 12247 | GK9: 0 | GL9: 9864 | GM9: 7450 | GN9: 5620 | GO9: 5444 | GP9: 3578 | GQ9: 31956 | GR9: 44203 | GS9: 9365 | GT9: 8544 | GU9: 17909 | GV9: 0 | GW9: 15289 | GX9: 11560 | GY9: 8493 | GZ9: 7733 | HA9: 5019 | HB9: 48094 | HC9: 66003 | HD9: 285 | HE9: 290 | HF9: 575 | HG9: 0 | HH9: 460 | HI9: 378 | HJ9: 276 | HK9: 271 | HL9: 197 | HM9: 1582 | HN9: 2157 | HO9: 609 | HP9: 615 | HQ9: 1224 | HR9: 0 | HS9: 873 | HT9: 718 | HU9: 475 | HV9: 454 | HW9: 364 | HX9: 2884 | HY9: 4108 | HZ9: 1596 | IA9: 1380 | IB9: 2976 | IC9: 0 | ID9: 2213 | IE9: 1595 | IF9: 1073 | IG9: 972 | IH9: 748 | II9: 6601 | IJ9: 9577 | IK9: 2475 | IL9: 2118 | IM9: 4593 | IN9: 0 | IO9: 3434 | IP9: 2352 | IQ9: 1538 | IR9: 1329 | IS9: 919 | IT9: 9572 | IU9: 14165 | IV9: 2742 | IW9: 2414 | IX9: 5156 | IY9: 0 | IZ9: 4274 | JA9: 2986 | JB9: 2165 | JC9: 1874 | JD9: 1116 | JE9: 12415 | JF9: 17571 | JG9: 1658 | JH9: 1727 | JI9: 3385 | JJ9: 0 | JK9: 4035 | JL9: 3531 | JM9: 2966 | JN9: 2833 | JO9: 1675 | JP9: 15040 | JQ9: 18425 | JR9: 144 | JS9: 207 | JT9: 351 | JU9: 0 | JV9: 304 | JW9: 352 | JX9: 245 | JY9: 214 | JZ9: 206 | KA9: 1321 | KB9: 1672 | KC9: 9509 | KD9: 8751 | KE9: 18260 | KF9: 0 | KG9: 15593 | KH9: 11912 | KI9: 8738 | KJ9: 7947 | KK9: 5225 | KL9: 49415 | KM9: 67675
B10: 相模原市 | C10: 1525 | D10: 2064 | E10: 3589 | F10: 0 | G10: 2443 | H10: 2968 | I10: 2100 | J10: 1624 | K10: 962 | L10: 10097 | M10: 13686 | N10: 57 | O10: 101 | P10: 158 | Q10: 0 | R10: 94 | S10: 138 | T10: 94 | U10: 80 | V10: 75 | W10: 481 | X10: 639 | Y10: 112 | Z10: 216 | AA10: 328 | AB10: 0 | AC10: 164 | AD10: 251 | AE10: 179 | AF10: 149 | AG10: 97 | AH10: 840 | AI10: 1168 | AJ10: 267 | AK10: 376 | AL10: 643 | AM10: 0 | AN10: 404 | AO10: 516 | AP10: 367 | AQ10: 297 | AR10: 217 | AS10: 1801 | AT10: 2444 | AU10: 401 | AV10: 494 | AW10: 895 | AX10: 0 | AY10: 627 | AZ10: 695 | BA10: 479 | BB10: 328 | BC10: 220 | BD10: 2349 | BE10: 3244 | BF10: 438 | BG10: 580 | BH10: 1018 | BI10: 0 | BJ10: 729 | BK10: 795 | BL10: 546 | BM10: 416 | BN10: 204 | BO10: 2690 | BP10: 3708 | BQ10: 250 | BR10: 297 | BS10: 547 | BT10: 0 | BU10: 425 | BV10: 573 | BW10: 435 | BX10: 354 | BY10: 149 | BZ10: 1936 | CA10: 2483 | CB10: 42 | CC10: 96 | CD10: 138 | CE10: 0 | CF10: 43 | CG10: 138 | CH10: 89 | CI10: 80 | CJ10: 53 | CK10: 403 | CL10: 541 | CM10: 1567 | CN10: 2160 | CO10: 3727 | CP10: 0 | CQ10: 2486 | CR10: 3106 | CS10: 2189 | CT10: 1704 | CU10: 1015 | CV10: 10500 | CW10: 14227 | CX10: 2845 | CY10: 4500 | CZ10: 7345 | DA10: 0 | DB10: 4360 | DC10: 4717 | DD10: 3650 | DE10: 3345 | DF10: 2130 | DG10: 18202 | DH10: 25547 | DI10: 55 | DJ10: 107 | DK10: 162 | DL10: 0 | DM10: 82 | DN10: 86 | DO10: 59 | DP10: 77 | DQ10: 55 | DR10: 359 | DS10: 521 | DT10: 158 | DU10: 231 | DV10: 389 | DW10: 0 | DX10: 153 | DY10: 222 | DZ10: 139 | EA10: 123 | EB10: 97 | EC10: 734 | ED10: 1123 | EE10: 472 | EF10: 786 | EG10: 1258 | EH10: 0 | EI10: 577 | EJ10: 626 | EK10: 398 | EL10: 372 | EM10: 262 | EN10: 2235 | EO10: 3493 | EP10: 897 | EQ10: 1265 | ER10: 2162 | ES10: 0 | ET10: 1179 | EU10: 1148 | EV10: 768 | EW10: 616 | EX10: 424 | EY10: 4135 | EZ10: 6297 | FA10: 856 | FB10: 1303 | FC10: 2159 | FD10: 0 | FE10: 1340 | FF10: 1341 | FG10: 951 | FH10: 848 | FI10: 530 | FJ10: 5010 | FK10: 7169 | FL10: 407 | FM10: 808 | FN10: 1215 | FO10: 0 | FP10: 1029 | FQ10: 1294 | FR10: 1335 | FS10: 1309 | FT10: 762 | FU10: 5729 | FV10: 6944 | FW10: 24 | FX10: 88 | FY10: 112 | FZ10: 0 | GA10: 36 | GB10: 95 | GC10: 58 | GD10: 52 | GE10: 45 | GF10: 286 | GG10: 398 | GH10: 2869 | GI10: 4588 | GJ10: 7457 | GK10: 0 | GL10: 4396 | GM10: 4812 | GN10: 3708 | GO10: 3397 | GP10: 2175 | GQ10: 18488 | GR10: 25945 | GS10: 4370 | GT10: 6564 | GU10: 10934 | GV10: 0 | GW10: 6803 | GX10: 7685 | GY10: 5750 | GZ10: 4969 | HA10: 3092 | HB10: 28299 | HC10: 39233 | HD10: 112 | HE10: 208 | HF10: 320 | HG10: 0 | HH10: 176 | HI10: 224 | HJ10: 153 | HK10: 157 | HL10: 130 | HM10: 840 | HN10: 1160 | HO10: 270 | HP10: 447 | HQ10: 717 | HR10: 0 | HS10: 317 | HT10: 473 | HU10: 318 | HV10: 272 | HW10: 194 | HX10: 1574 | HY10: 2291 | HZ10: 739 | IA10: 1162 | IB10: 1901 | IC10: 0 | ID10: 981 | IE10: 1142 | IF10: 765 | IG10: 669 | IH10: 479 | II10: 4036 | IJ10: 5937 | IK10: 1298 | IL10: 1759 | IM10: 3057 | IN10: 0 | IO10: 1806 | IP10: 1843 | IQ10: 1247 | IR10: 944 | IS10: 644 | IT10: 6484 | IU10: 9541 | IV10: 1294 | IW10: 1883 | IX10: 3177 | IY10: 0 | IZ10: 2069 | JA10: 2136 | JB10: 1497 | JC10: 1264 | JD10: 734 | JE10: 7700 | JF10: 10877 | JG10: 657 | JH10: 1105 | JI10: 1762 | JJ10: 0 | JK10: 1454 | JL10: 1867 | JM10: 1770 | JN10: 1663 | JO10: 911 | JP10: 7665 | JQ10: 9427 | JR10: 66 | JS10: 184 | JT10: 250 | JU10: 0 | JV10: 79 | JW10: 233 | JX10: 147 | JY10: 132 | JZ10: 98 | KA10: 689 | KB10: 939 | KC10: 4436 | KD10: 6748 | KE10: 11184 | KF10: 0 | KG10: 6882 | KH10: 7918 | KI10: 5897 | KJ10: 5101 | KK10: 3190 | KL10: 28988 | KM10: 40172
B11: 横須賀市 | C11: 1299 | D11: 966 | E11: 2265 | F11: 0 | G11: 2532 | H11: 1415 | I11: 936 | J11: 840 | K11: 402 | L11: 6125 | M11: 8390 | N11: 44 | O11: 32 | P11: 76 | Q11: 0 | R11: 98 | S11: 56 | T11: 29 | U11: 34 | V11: 34 | W11: 251 | X11: 327 | Y11: 83 | Z11: 71 | AA11: 154 | AB11: 0 | AC11: 185 | AD11: 121 | AE11: 74 | AF11: 88 | AG11: 31 | AH11: 499 | AI11: 653 | AJ11: 194 | AK11: 175 | AL11: 369 | AM11: 0 | AN11: 481 | AO11: 283 | AP11: 164 | AQ11: 139 | AR11: 90 | AS11: 1157 | AT11: 1526 | AU11: 314 | AV11: 223 | AW11: 537 | AX11: 0 | AY11: 586 | AZ11: 274 | BA11: 218 | BB11: 191 | BC11: 87 | BD11: 1356 | BE11: 1893 | BF11: 378 | BG11: 250 | BH11: 628 | BI11: 0 | BJ11: 665 | BK11: 333 | BL11: 228 | BM11: 204 | BN11: 83 | BO11: 1513 | BP11: 2141 | BQ11: 286 | BR11: 215 | BS11: 501 | BT11: 0 | BU11: 517 | BV11: 348 | BW11: 223 | BX11: 184 | BY11: 77 | BZ11: 1349 | CA11: 1850 | CB11: 28 | CC11: 26 | CD11: 54 | CE11: 0 | CF11: 69 | CG11: 60 | CH11: 51 | CI11: 39 | CJ11: 15 | CK11: 234 | CL11: 288 | CM11: 1327 | CN11: 992 | CO11: 2319 | CP11: 0 | CQ11: 2601 | CR11: 1475 | CS11: 987 | CT11: 879 | CU11: 417 | CV11: 6359 | CW11: 8678 | CX11: 2515 | CY11: 2422 | CZ11: 4937 | DA11: 0 | DB11: 4612 | DC11: 2563 | DD11: 2070 | DE11: 2102 | DF11: 1058 | DG11: 12405 | DH11: 17342 | DI11: 54 | DJ11: 53 | DK11: 107 | DL11: 0 | DM11: 73 | DN11: 58 | DO11: 27 | DP11: 29 | DQ11: 31 | DR11: 218 | DS11: 325 | DT11: 125 | DU11: 124 | DV11: 249 | DW11: 0 | DX11: 187 | DY11: 103 | DZ11: 51 | EA11: 72 | EB11: 51 | EC11: 464 | ED11: 713 | EE11: 407 | EF11: 361 | EG11: 768 | EH11: 0 | EI11: 560 | EJ11: 296 | EK11: 222 | EL11: 212 | EM11: 118 | EN11: 1408 | EO11: 2176 | EP11: 718 | EQ11: 635 | ER11: 1353 | ES11: 0 | ET11: 1028 | EU11: 473 | EV11: 353 | EW11: 340 | EX11: 177 | EY11: 2371 | EZ11: 3724 | FA11: 776 | FB11: 745 | FC11: 1521 | FD11: 0 | FE11: 1333 | FF11: 692 | FG11: 538 | FH11: 512 | FI11: 253 | FJ11: 3328 | FK11: 4849 | FL11: 435 | FM11: 504 | FN11: 939 | FO11: 0 | FP11: 1431 | FQ11: 941 | FR11: 879 | FS11: 937 | FT11: 428 | FU11: 4616 | FV11: 5555 | FW11: 16 | FX11: 21 | FY11: 37 | FZ11: 0 | GA11: 74 | GB11: 52 | GC11: 31 | GD11: 39 | GE11: 27 | GF11: 223 | GG11: 260 | GH11: 2531 | GI11: 2443 | GJ11: 4974 | GK11: 0 | GL11: 4686 | GM11: 2615 | GN11: 2101 | GO11: 2141 | GP11: 1085 | GQ11: 12628 | GR11: 17602 | GS11: 3814 | GT11: 3388 | GU11: 7202 | GV11: 0 | GW11: 7144 | GX11: 3978 | GY11: 3006 | GZ11: 2942 | HA11: 1460 | HB11: 18530 | HC11: 25732 | HD11: 98 | HE11: 85 | HF11: 183 | HG11: 0 | HH11: 171 | HI11: 114 | HJ11: 56 | HK11: 63 | HL11: 65 | HM11: 469 | HN11: 652 | HO11: 208 | HP11: 195 | HQ11: 403 | HR11: 0 | HS11: 372 | HT11: 224 | HU11: 125 | HV11: 160 | HW11: 82 | HX11: 963 | HY11: 1366 | HZ11: 601 | IA11: 536 | IB11: 1137 | IC11: 0 | ID11: 1041 | IE11: 579 | IF11: 386 | IG11: 351 | IH11: 208 | II11: 2565 | IJ11: 3702 | IK11: 1032 | IL11: 858 | IM11: 1890 | IN11: 0 | IO11: 1614 | IP11: 747 | IQ11: 571 | IR11: 531 | IS11: 264 | IT11: 3727 | IU11: 5617 | IV11: 1154 | IW11: 995 | IX11: 2149 | IY11: 0 | IZ11: 1998 | JA11: 1025 | JB11: 766 | JC11: 716 | JD11: 336 | JE11: 4841 | JF11: 6990 | JG11: 721 | JH11: 719 | JI11: 1440 | JJ11: 0 | JK11: 1948 | JL11: 1289 | JM11: 1102 | JN11: 1121 | JO11: 505 | JP11: 5965 | JQ11: 7405 | JR11: 44 | JS11: 47 | JT11: 91 | JU11: 0 | JV11: 143 | JW11: 112 | JX11: 82 | JY11: 78 | JZ11: 42 | KA11: 457 | KB11: 548 | KC11: 3858 | KD11: 3435 | KE11: 7293 | KF11: 0 | KG11: 7287 | KH11: 4090 | KI11: 3088 | KJ11: 3020 | KK11: 1502 | KL11: 18987 | KM11: 26280
B12: 平塚市 | C12: 639 | D12: 432 | E12: 1071 | F12: 0 | G12: 1069 | H12: 990 | I12: 763 | J12: 532 | K12: 296 | L12: 3650 | M12: 4721 | N12: 17 | O12: 28 | P12: 45 | Q12: 0 | R12: 45 | S12: 48 | T12: 45 | U12: 25 | V12: 25 | W12: 188 | X12: 233 | Y12: 49 | Z12: 46 | AA12: 95 | AB12: 0 | AC12: 81 | AD12: 100 | AE12: 74 | AF12: 64 | AG12: 34 | AH12: 353 | AI12: 448 | AJ12: 119 | AK12: 80 | AL12: 199 | AM12: 0 | AN12: 203 | AO12: 174 | AP12: 132 | AQ12: 98 | AR12: 57 | AS12: 664 | AT12: 863 | AU12: 173 | AV12: 83 | AW12: 256 | AX12: 0 | AY12: 276 | AZ12: 231 | BA12: 169 | BB12: 103 | BC12: 75 | BD12: 854 | BE12: 1110 | BF12: 178 | BG12: 123 | BH12: 301 | BI12: 0 | BJ12: 264 | BK12: 244 | BL12: 202 | BM12: 132 | BN12: 61 | BO12: 903 | BP12: 1204 | BQ12: 103 | BR12: 72 | BS12: 175 | BT12: 0 | BU12: 200 | BV12: 193 | BW12: 141 | BX12: 110 | BY12: 44 | BZ12: 688 | CA12: 863 | CB12: 14 | CC12: 15 | CD12: 29 | CE12: 0 | CF12: 40 | CG12: 53 | CH12: 24 | CI12: 18 | CJ12: 24 | CK12: 159 | CL12: 188 | CM12: 653 | CN12: 447 | CO12: 1100 | CP12: 0 | CQ12: 1109 | CR12: 1043 | CS12: 787 | CT12: 550 | CU12: 320 | CV12: 3809 | CW12: 4909 | CX12: 1285 | CY12: 1122 | CZ12: 2407 | DA12: 0 | DB12: 1938 | DC12: 1778 | DD12: 1370 | DE12: 1211 | DF12: 761 | DG12: 7058 | DH12: 9465 | DI12: 31 | DJ12: 31 | DK12: 62 | DL12: 0 | DM12: 24 | DN12: 42 | DO12: 21 | DP12: 26 | DQ12: 16 | DR12: 129 | DS12: 191 | DT12: 71 | DU12: 63 | DV12: 134 | DW12: 0 | DX12: 90 | DY12: 90 | DZ12: 49 | EA12: 46 | EB12: 35 | EC12: 310 | ED12: 444 | EE12: 225 | EF12: 175 | EG12: 400 | EH12: 0 | EI12: 247 | EJ12: 184 | EK12: 147 | EL12: 139 | EM12: 86 | EN12: 803 | EO12: 1203 | EP12: 337 | EQ12: 312 | ER12: 649 | ES12: 0 | ET12: 500 | EU12: 362 | EV12: 242 | EW12: 158 | EX12: 161 | EY12: 1423 | EZ12: 2072 | FA12: 406 | FB12: 326 | FC12: 732 | FD12: 0 | FE12: 563 | FF12: 513 | FG12: 352 | FH12: 316 | FI12: 189 | FJ12: 1933 | FK12: 2665 | FL12: 215 | FM12: 215 | FN12: 430 | FO12: 0 | FP12: 514 | FQ12: 587 | FR12: 559 | FS12: 526 | FT12: 274 | FU12: 2460 | FV12: 2890 | FW12: 7 | FX12: 17 | FY12: 24 | FZ12: 0 | GA12: 25 | GB12: 41 | GC12: 23 | GD12: 15 | GE12: 18 | GF12: 122 | GG12: 146 | GH12: 1292 | GI12: 1139 | GJ12: 2431 | GK12: 0 | GL12: 1963 | GM12: 1819 | GN12: 1393 | GO12: 1226 | GP12: 779 | GQ12: 7180 | GR12: 9611 | GS12: 1924 | GT12: 1554 | GU12: 3478 | GV12: 0 | GW12: 3007 | GX12: 2768 | GY12: 2133 | GZ12: 1743 | HA12: 1057 | HB12: 10708 | HC12: 14186 | HD12: 48 | HE12: 59 | HF12: 107 | HG12: 0 | HH12: 69 | HI12: 90 | HJ12: 66 | HK12: 51 | HL12: 41 | HM12: 317 | HN12: 424 | HO12: 120 | HP12: 109 | HQ12: 229 | HR12: 0 | HS12: 171 | HT12: 190 | HU12: 123 | HV12: 110 | HW12: 69 | HX12: 663 | HY12: 892 | HZ12: 344 | IA12: 255 | IB12: 599 | IC12: 0 | ID12: 450 | IE12: 358 | IF12: 279 | IG12: 237 | IH12: 143 | II12: 1467 | IJ12: 2066 | IK12: 510 | IL12: 395 | IM12: 905 | IN12: 0 | IO12: 776 | IP12: 593 | IQ12: 411 | IR12: 261 | IS12: 236 | IT12: 2277 | IU12: 3182 | IV12: 584 | IW12: 449 | IX12: 1033 | IY12: 0 | IZ12: 827 | JA12: 757 | JB12: 554 | JC12: 448 | JD12: 250 | JE12: 2836 | JF12: 3869 | JG12: 318 | JH12: 287 | JI12: 605 | JJ12: 0 | JK12: 714 | JL12: 780 | JM12: 700 | JN12: 636 | JO12: 318 | JP12: 3148 | JQ12: 3753 | JR12: 21 | JS12: 32 | JT12: 53 | JU12: 0 | JV12: 65 | JW12: 94 | JX12: 47 | JY12: 33 | JZ12: 42 | KA12: 281 | KB12: 334 | KC12: 1945 | KD12: 1586 | KE12: 3531 | KF12: 0 | KG12: 3072 | KH12: 2862 | KI12: 2180 | KJ12: 1776 | KK12: 1099 | KL12: 10989 | KM12: 14520
B13: 鎌倉市 | C13: 754 | D13: 424 | E13: 1178 | F13: 0 | G13: 944 | H13: 633 | I13: 485 | J13: 401 | K13: 250 | L13: 2713 | M13: 3891 | N13: 20 | O13: 10 | P13: 30 | Q13: 0 | R13: 31 | S13: 29 | T13: 18 | U13: 14 | V13: 10 | W13: 102 | X13: 132 | Y13: 47 | Z13: 24 | AA13: 71 | AB13: 0 | AC13: 42 | AD13: 39 | AE13: 31 | AF13: 23 | AG13: 16 | AH13: 151 | AI13: 222 | AJ13: 87 | AK13: 59 | AL13: 146 | AM13: 0 | AN13: 117 | AO13: 81 | AP13: 66 | AQ13: 56 | AR13: 39 | AS13: 359 | AT13: 505 | AU13: 179 | AV13: 86 | AW13: 265 | AX13: 0 | AY13: 194 | AZ13: 120 | BA13: 90 | BB13: 79 | BC13: 47 | BD13: 530 | BE13: 795 | BF13: 229 | BG13: 121 | BH13: 350 | BI13: 0 | BJ13: 278 | BK13: 160 | BL13: 129 | BM13: 90 | BN13: 73 | BO13: 730 | BP13: 1080 | BQ13: 192 | BR13: 124 | BS13: 316 | BT13: 0 | BU13: 282 | BV13: 204 | BW13: 151 | BX13: 139 | BY13: 65 | BZ13: 841 | CA13: 1157 | CB13: 2 | CC13: 12 | CD13: 14 | CE13: 0 | CF13: 31 | CG13: 28 | CH13: 13 | CI13: 14 | CJ13: 16 | CK13: 102 | CL13: 116 | CM13: 756 | CN13: 436 | CO13: 1192 | CP13: 0 | CQ13: 975 | CR13: 661 | CS13: 498 | CT13: 415 | CU13: 266 | CV13: 2815 | CW13: 4007 | CX13: 1659 | CY13: 1097 | CZ13: 2756 | DA13: 0 | DB13: 1843 | DC13: 1250 | DD13: 1029 | DE13: 1079 | DF13: 767 | DG13: 5968 | DH13: 8724 | DI13: 23 | DJ13: 19 | DK13: 42 | DL13: 0 | DM13: 28 | DN13: 14 | DO13: 13 | DP13: 15 | DQ13: 9 | DR13: 79 | DS13: 121 | DT13: 69 | DU13: 43 | DV13: 112 | DW13: 0 | DX13: 51 | DY13: 26 | DZ13: 30 | EA13: 21 | EB13: 30 | EC13: 158 | ED13: 270 | EE13: 224 | EF13: 132 | EG13: 356 | EH13: 0 | EI13: 187 | EJ13: 119 | EK13: 62 | EL13: 68 | EM13: 60 | EN13: 496 | EO13: 852 | EP13: 471 | EQ13: 278 | ER13: 749 | ES13: 0 | ET13: 386 | EU13: 214 | EV13: 149 | EW13: 154 | EX13: 114 | EY13: 1017 | EZ13: 1766 | FA13: 552 | FB13: 345 | FC13: 897 | FD13: 0 | FE13: 538 | FF13: 337 | FG13: 249 | FH13: 258 | FI13: 176 | FJ13: 1558 | FK13: 2455 | FL13: 320 | FM13: 280 | FN13: 600 | FO13: 0 | FP13: 653 | FQ13: 540 | FR13: 526 | FS13: 563 | FT13: 378 | FU13: 2660 | FV13: 3260 | FW13: 12 | FX13: 12 | FY13: 24 | FZ13: 0 | GA13: 27 | GB13: 23 | GC13: 10 | GD13: 7 | GE13: 9 | GF13: 76 | GG13: 100 | GH13: 1671 | GI13: 1109 | GJ13: 2780 | GK13: 0 | GL13: 1870 | GM13: 1273 | GN13: 1039 | GO13: 1086 | GP13: 776 | GQ13: 6044 | GR13: 8824 | GS13: 2413 | GT13: 1521 | GU13: 3934 | GV13: 0 | GW13: 2787 | GX13: 1883 | GY13: 1514 | GZ13: 1480 | HA13: 1017 | HB13: 8681 | HC13: 12615 | HD13: 43 | HE13: 29 | HF13: 72 | HG13: 0 | HH13: 59 | HI13: 43 | HJ13: 31 | HK13: 29 | HL13: 19 | HM13: 181 | HN13: 253 | HO13: 116 | HP13: 67 | HQ13: 183 | HR13: 0 | HS13: 93 | HT13: 65 | HU13: 61 | HV13: 44 | HW13: 46 | HX13: 309 | HY13: 492 | HZ13: 311 | IA13: 191 | IB13: 502 | IC13: 0 | ID13: 304 | IE13: 200 | IF13: 128 | IG13: 124 | IH13: 99 | II13: 855 | IJ13: 1357 | IK13: 650 | IL13: 364 | IM13: 1014 | IN13: 0 | IO13: 580 | IP13: 334 | IQ13: 239 | IR13: 233 | IS13: 161 | IT13: 1547 | IU13: 2561 | IV13: 781 | IW13: 466 | IX13: 1247 | IY13: 0 | IZ13: 816 | JA13: 497 | JB13: 378 | JC13: 348 | JD13: 249 | JE13: 2288 | JF13: 3535 | JG13: 512 | JH13: 404 | JI13: 916 | JJ13: 0 | JK13: 935 | JL13: 744 | JM13: 677 | JN13: 702 | JO13: 443 | JP13: 3501 | JQ13: 4417 | JR13: 14 | JS13: 24 | JT13: 38 | JU13: 0 | JV13: 58 | JW13: 51 | JX13: 23 | JY13: 21 | JZ13: 25 | KA13: 178 | KB13: 216 | KC13: 2427 | KD13: 1545 | KE13: 3972 | KF13: 0 | KG13: 2845 | KH13: 1934 | KI13: 1537 | KJ13: 1501 | KK13: 1042 | KL13: 8859 | KM13: 12831
B14: 藤沢市 | C14: 1876 | D14: 1013 | E14: 2889 | F14: 0 | G14: 1948 | H14: 1022 | I14: 714 | J14: 684 | K14: 408 | L14: 4776 | M14: 7665 | N14: 57 | O14: 36 | P14: 93 | Q14: 0 | R14: 76 | S14: 51 | T14: 35 | U14: 33 | V14: 29 | W14: 224 | X14: 317 | Y14: 122 | Z14: 84 | AA14: 206 | AB14: 0 | AC14: 152 | AD14: 81 | AE14: 56 | AF14: 61 | AG14: 42 | AH14: 392 | AI14: 598 | AJ14: 313 | AK14: 184 | AL14: 497 | AM14: 0 | AN14: 320 | AO14: 179 | AP14: 109 | AQ14: 125 | AR14: 97 | AS14: 830 | AT14: 1327 | AU14: 441 | AV14: 213 | AW14: 654 | AX14: 0 | AY14: 458 | AZ14: 213 | BA14: 150 | BB14: 135 | BC14: 84 | BD14: 1040 | BE14: 1694 | BF14: 553 | BG14: 263 | BH14: 816 | BI14: 0 | BJ14: 522 | BK14: 265 | BL14: 186 | BM14: 160 | BN14: 88 | BO14: 1221 | BP14: 2037 | BQ14: 390 | BR14: 233 | BS14: 623 | BT14: 0 | BU14: 420 | BV14: 233 | BW14: 178 | BX14: 170 | BY14: 68 | BZ14: 1069 | CA14: 1692 | CB14: 49 | CC14: 35 | CD14: 84 | CE14: 0 | CF14: 64 | CG14: 45 | CH14: 39 | CI14: 31 | CJ14: 50 | CK14: 229 | CL14: 313 | CM14: 1925 | CN14: 1048 | CO14: 2973 | CP14: 0 | CQ14: 2012 | CR14: 1067 | CS14: 753 | CT14: 715 | CU14: 458 | CV14: 5005 | CW14: 7978 | CX14: 3652 | CY14: 2313 | CZ14: 5965 | DA14: 0 | DB14: 3972 | DC14: 1827 | DD14: 1406 | DE14: 1650 | DF14: 1180 | DG14: 10035 | DH14: 16000 | DI14: 58 | DJ14: 48 | DK14: 106 | DL14: 0 | DM14: 65 | DN14: 27 | DO14: 18 | DP14: 22 | DQ14: 23 | DR14: 155 | DS14: 261 | DT14: 195 | DU14: 112 | DV14: 307 | DW14: 0 | DX14: 153 | DY14: 66 | DZ14: 45 | EA14: 40 | EB14: 51 | EC14: 355 | ED14: 662 | EE14: 568 | EF14: 337 | EG14: 905 | EH14: 0 | EI14: 449 | EJ14: 206 | EK14: 102 | EL14: 146 | EM14: 116 | EN14: 1019 | EO14: 1924 | EP14: 1062 | EQ14: 569 | ER14: 1631 | ES14: 0 | ET14: 825 | EU14: 344 | EV14: 245 | EW14: 260 | EX14: 203 | EY14: 1877 | EZ14: 3508 | FA14: 1106 | FB14: 727 | FC14: 1833 | FD14: 0 | FE14: 1120 | FF14: 490 | FG14: 369 | FH14: 392 | FI14: 302 | FJ14: 2673 | FK14: 4506 | FL14: 663 | FM14: 520 | FN14: 1183 | FO14: 0 | FP14: 1360 | FQ14: 694 | FR14: 627 | FS14: 790 | FT14: 485 | FU14: 3956 | FV14: 5139 | FW14: 38 | FX14: 41 | FY14: 79 | FZ14: 0 | GA14: 61 | GB14: 33 | GC14: 24 | GD14: 20 | GE14: 30 | GF14: 168 | GG14: 247 | GH14: 3690 | GI14: 2354 | GJ14: 6044 | GK14: 0 | GL14: 4033 | GM14: 1860 | GN14: 1430 | GO14: 1670 | GP14: 1210 | GQ14: 10203 | GR14: 16247 | GS14: 5528 | GT14: 3326 | GU14: 8854 | GV14: 0 | GW14: 5920 | GX14: 2849 | GY14: 2120 | GZ14: 2334 | HA14: 1588 | HB14: 14811 | HC14: 23665 | HD14: 115 | HE14: 84 | HF14: 199 | HG14: 0 | HH14: 141 | HI14: 78 | HJ14: 53 | HK14: 55 | HL14: 52 | HM14: 379 | HN14: 578 | HO14: 317 | HP14: 196 | HQ14: 513 | HR14: 0 | HS14: 305 | HT14: 147 | HU14: 101 | HV14: 101 | HW14: 93 | HX14: 747 | HY14: 1260 | HZ14: 881 | IA14: 521 | IB14: 1402 | IC14: 0 | ID14: 769 | IE14: 385 | IF14: 211 | IG14: 271 | IH14: 213 | II14: 1849 | IJ14: 3251 | IK14: 1503 | IL14: 782 | IM14: 2285 | IN14: 0 | IO14: 1283 | IP14: 557 | IQ14: 395 | IR14: 395 | IS14: 287 | IT14: 2917 | IU14: 5202 | IV14: 1659 | IW14: 990 | IX14: 2649 | IY14: 0 | IZ14: 1642 | JA14: 755 | JB14: 555 | JC14: 552 | JD14: 390 | JE14: 3894 | JF14: 6543 | JG14: 1053 | JH14: 753 | JI14: 1806 | JJ14: 0 | JK14: 1780 | JL14: 927 | JM14: 805 | JN14: 960 | JO14: 553 | JP14: 5025 | JQ14: 6831 | JR14: 87 | JS14: 76 | JT14: 163 | JU14: 0 | JV14: 125 | JW14: 78 | JX14: 63 | JY14: 51 | JZ14: 80 | KA14: 397 | KB14: 560 | KC14: 5615 | KD14: 3402 | KE14: 9017 | KF14: 0 | KG14: 6045 | KH14: 2927 | KI14: 2183 | KJ14: 2385 | KK14: 1668 | KL14: 15208 | KM14: 24225
B15: 小田原市 | C15: 465 | D15: 403 | E15: 868 | F15: 0 | G15: 899 | H15: 651 | I15: 511 | J15: 492 | K15: 279 | L15: 2832 | M15: 3700 | N15: 23 | O15: 20 | P15: 43 | Q15: 0 | R15: 44 | S15: 29 | T15: 24 | U15: 17 | V15: 16 | W15: 130 | X15: 173 | Y15: 32 | Z15: 29 | AA15: 61 | AB15: 0 | AC15: 67 | AD15: 54 | AE15: 43 | AF15: 42 | AG15: 30 | AH15: 236 | AI15: 297 | AJ15: 78 | AK15: 83 | AL15: 161 | AM15: 0 | AN15: 148 | AO15: 142 | AP15: 91 | AQ15: 109 | AR15: 54 | AS15: 544 | AT15: 705 | AU15: 111 | AV15: 88 | AW15: 199 | AX15: 0 | AY15: 225 | AZ15: 136 | BA15: 107 | BB15: 97 | BC15: 65 | BD15: 630 | BE15: 829 | BF15: 119 | BG15: 94 | BH15: 213 | BI15: 0 | BJ15: 212 | BK15: 160 | BL15: 121 | BM15: 102 | BN15: 57 | BO15: 652 | BP15: 865 | BQ15: 102 | BR15: 89 | BS15: 191 | BT15: 0 | BU15: 203 | BV15: 130 | BW15: 125 | BX15: 125 | BY15: 57 | BZ15: 640 | CA15: 831 | CB15: 9 | CC15: 10 | CD15: 19 | CE15: 0 | CF15: 34 | CG15: 23 | CH15: 22 | CI15: 18 | CJ15: 18 | CK15: 115 | CL15: 134 | CM15: 474 | CN15: 413 | CO15: 887 | CP15: 0 | CQ15: 933 | CR15: 674 | CS15: 533 | CT15: 510 | CU15: 297 | CV15: 2947 | CW15: 3834 | CX15: 960 | CY15: 879 | CZ15: 1839 | DA15: 0 | DB15: 1813 | DC15: 1232 | DD15: 1039 | DE15: 1073 | DF15: 583 | DG15: 5740 | DH15: 7579 | DI15: 24 | DJ15: 23 | DK15: 47 | DL15: 0 | DM15: 46 | DN15: 19 | DO15: 14 | DP15: 11 | DQ15: 14 | DR15: 104 | DS15: 151 | DT15: 47 | DU15: 37 | DV15: 84 | DW15: 0 | DX15: 84 | DY15: 48 | DZ15: 53 | EA15: 37 | EB15: 26 | EC15: 248 | ED15: 332 | EE15: 137 | EF15: 120 | EG15: 257 | EH15: 0 | EI15: 242 | EJ15: 144 | EK15: 98 | EL15: 96 | EM15: 58 | EN15: 638 | EO15: 895 | EP15: 260 | EQ15: 229 | ER15: 489 | ES15: 0 | ET15: 388 | EU15: 235 | EV15: 172 | EW15: 155 | EX15: 107 | EY15: 1057 | EZ15: 1546 | FA15: 317 | FB15: 270 | FC15: 587 | FD15: 0 | FE15: 535 | FF15: 359 | FG15: 278 | FH15: 266 | FI15: 133 | FJ15: 1571 | FK15: 2158 | FL15: 175 | FM15: 200 | FN15: 375 | FO15: 0 | FP15: 518 | FQ15: 427 | FR15: 424 | FS15: 508 | FT15: 245 | FU15: 2122 | FV15: 2497 | FW15: 10 | FX15: 15 | FY15: 25 | FZ15: 0 | GA15: 23 | GB15: 19 | GC15: 14 | GD15: 20 | GE15: 12 | GF15: 88 | GG15: 113 | GH15: 970 | GI15: 894 | GJ15: 1864 | GK15: 0 | GL15: 1836 | GM15: 1251 | GN15: 1053 | GO15: 1093 | GP15: 595 | GQ15: 5828 | GR15: 7692 | GS15: 1425 | GT15: 1282 | GU15: 2707 | GV15: 0 | GW15: 2712 | GX15: 1883 | GY15: 1550 | GZ15: 1565 | HA15: 862 | HB15: 8572 | HC15: 11279 | HD15: 47 | HE15: 43 | HF15: 90 | HG15: 0 | HH15: 90 | HI15: 48 | HJ15: 38 | HK15: 28 | HL15: 30 | HM15: 234 | HN15: 324 | HO15: 79 | HP15: 66 | HQ15: 145 | HR15: 0 | HS15: 151 | HT15: 102 | HU15: 96 | HV15: 79 | HW15: 56 | HX15: 484 | HY15: 629 | HZ15: 215 | IA15: 203 | IB15: 418 | IC15: 0 | ID15: 390 | IE15: 286 | IF15: 189 | IG15: 205 | IH15: 112 | II15: 1182 | IJ15: 1600 | IK15: 371 | IL15: 317 | IM15: 688 | IN15: 0 | IO15: 613 | IP15: 371 | IQ15: 279 | IR15: 252 | IS15: 172 | IT15: 1687 | IU15: 2375 | IV15: 436 | IW15: 364 | IX15: 800 | IY15: 0 | IZ15: 747 | JA15: 519 | JB15: 399 | JC15: 368 | JD15: 190 | JE15: 2223 | JF15: 3023 | JG15: 277 | JH15: 289 | JI15: 566 | JJ15: 0 | JK15: 721 | JL15: 557 | JM15: 549 | JN15: 633 | JO15: 302 | JP15: 2762 | JQ15: 3328 | JR15: 19 | JS15: 25 | JT15: 44 | JU15: 0 | JV15: 57 | JW15: 42 | JX15: 36 | JY15: 38 | JZ15: 30 | KA15: 203 | KB15: 247 | KC15: 1444 | KD15: 1307 | KE15: 2751 | KF15: 0 | KG15: 2769 | KH15: 1925 | KI15: 1586 | KJ15: 1603 | KK15: 892 | KL15: 8775 | KM15: 11526
B16: 茅ヶ崎市 | C16: 808 | D16: 820 | E16: 1628 | F16: 0 | G16: 827 | H16: 751 | I16: 466 | J16: 487 | K16: 241 | L16: 2772 | M16: 4400 | N16: 21 | O16: 33 | P16: 54 | Q16: 0 | R16: 25 | S16: 31 | T16: 19 | U16: 18 | V16: 17 | W16: 110 | X16: 164 | Y16: 61 | Z16: 63 | AA16: 124 | AB16: 0 | AC16: 42 | AD16: 53 | AE16: 37 | AF16: 36 | AG16: 23 | AH16: 191 | AI16: 315 | AJ16: 123 | AK16: 149 | AL16: 272 | AM16: 0 | AN16: 111 | AO16: 121 | AP16: 51 | AQ16: 93 | AR16: 45 | AS16: 421 | AT16: 693 | AU16: 196 | AV16: 189 | AW16: 385 | AX16: 0 | AY16: 213 | AZ16: 167 | BA16: 113 | BB16: 96 | BC16: 54 | BD16: 643 | BE16: 1028 | BF16: 260 | BG16: 231 | BH16: 491 | BI16: 0 | BJ16: 237 | BK16: 183 | BL16: 116 | BM16: 133 | BN16: 55 | BO16: 724 | BP16: 1215 | BQ16: 147 | BR16: 155 | BS16: 302 | BT16: 0 | BU16: 199 | BV16: 196 | BW16: 130 | BX16: 111 | BY16: 47 | BZ16: 683 | CA16: 985 | CB16: 12 | CC16: 43 | CD16: 55 | CE16: 0 | CF16: 16 | CG16: 34 | CH16: 15 | CI16: 16 | CJ16: 17 | CK16: 98 | CL16: 153 | CM16: 820 | CN16: 863 | CO16: 1683 | CP16: 0 | CQ16: 843 | CR16: 785 | CS16: 481 | CT16: 503 | CU16: 258 | CV16: 2870 | CW16: 4553 | CX16: 1557 | CY16: 1722 | CZ16: 3279 | DA16: 0 | DB16: 1708 | DC16: 1312 | DD16: 993 | DE16: 1147 | DF16: 690 | DG16: 5850 | DH16: 9129 | DI16: 32 | DJ16: 44 | DK16: 76 | DL16: 0 | DM16: 22 | DN16: 19 | DO16: 24 | DP16: 11 | DQ16: 14 | DR16: 90 | DS16: 166 | DT16: 70 | DU16: 85 | DV16: 155 | DW16: 0 | DX16: 43 | DY16: 47 | DZ16: 28 | EA16: 33 | EB16: 23 | EC16: 174 | ED16: 329 | EE16: 236 | EF16: 313 | EG16: 549 | EH16: 0 | EI16: 166 | EJ16: 129 | EK16: 88 | EL16: 119 | EM16: 87 | EN16: 589 | EO16: 1138 | EP16: 436 | EQ16: 398 | ER16: 834 | ES16: 0 | ET16: 390 | EU16: 262 | EV16: 166 | EW16: 154 | EX16: 127 | EY16: 1099 | EZ16: 1933 | FA16: 485 | FB16: 503 | FC16: 988 | FD16: 0 | FE16: 574 | FF16: 362 | FG16: 258 | FH16: 279 | FI16: 160 | FJ16: 1633 | FK16: 2621 | FL16: 298 | FM16: 379 | FN16: 677 | FO16: 0 | FP16: 513 | FQ16: 493 | FR16: 429 | FS16: 551 | FT16: 279 | FU16: 2265 | FV16: 2942 | FW16: 12 | FX16: 25 | FY16: 37 | FZ16: 0 | GA16: 10 | GB16: 22 | GC16: 11 | GD16: 15 | GE16: 9 | GF16: 67 | GG16: 104 | GH16: 1569 | GI16: 1747 | GJ16: 3316 | GK16: 0 | GL16: 1718 | GM16: 1334 | GN16: 1004 | GO16: 1162 | GP16: 699 | GQ16: 5917 | GR16: 9233 | GS16: 2365 | GT16: 2542 | GU16: 4907 | GV16: 0 | GW16: 2535 | GX16: 2063 | GY16: 1459 | GZ16: 1634 | HA16: 931 | HB16: 8622 | HC16: 13529 | HD16: 53 | HE16: 77 | HF16: 130 | HG16: 0 | HH16: 47 | HI16: 50 | HJ16: 43 | HK16: 29 | HL16: 31 | HM16: 200 | HN16: 330 | HO16: 131 | HP16: 148 | HQ16: 279 | HR16: 0 | HS16: 85 | HT16: 100 | HU16: 65 | HV16: 69 | HW16: 46 | HX16: 365 | HY16: 644 | HZ16: 359 | IA16: 462 | IB16: 821 | IC16: 0 | ID16: 277 | IE16: 250 | IF16: 139 | IG16: 212 | IH16: 132 | II16: 1010 | IJ16: 1831 | IK16: 632 | IL16: 587 | IM16: 1219 | IN16: 0 | IO16: 603 | IP16: 429 | IQ16: 279 | IR16: 250 | IS16: 181 | IT16: 1742 | IU16: 2961 | IV16: 745 | IW16: 734 | IX16: 1479 | IY16: 0 | IZ16: 811 | JA16: 545 | JB16: 374 | JC16: 412 | JD16: 215 | JE16: 2357 | JF16: 3836 | JG16: 445 | JH16: 534 | JI16: 979 | JJ16: 0 | JK16: 712 | JL16: 689 | JM16: 559 | JN16: 662 | JO16: 326 | JP16: 2948 | JQ16: 3927 | JR16: 24 | JS16: 68 | JT16: 92 | JU16: 0 | JV16: 26 | JW16: 56 | JX16: 26 | JY16: 31 | JZ16: 26 | KA16: 165 | KB16: 257 | KC16: 2389 | KD16: 2610 | KE16: 4999 | KF16: 0 | KG16: 2561 | KH16: 2119 | KI16: 1485 | KJ16: 1665 | KK16: 957 | KL16: 8787 | KM16: 13786
B17: 逗子市 | C17: 160 | D17: 154 | E17: 314 | F17: 0 | G17: 321 | H17: 287 | I17: 188 | J17: 147 | K17: 87 | L17: 1030 | M17: 1344 | N17: 4 | O17: 4 | P17: 8 | Q17: 0 | R17: 9 | S17: 9 | T17: 8 | U17: 3 | V17: 7 | W17: 36 | X17: 44 | Y17: 11 | Z17: 3 | AA17: 14 | AB17: 0 | AC17: 30 | AD17: 21 | AE17: 3 | AF17: 18 | AG17: 7 | AH17: 79 | AI17: 93 | AJ17: 20 | AK17: 26 | AL17: 46 | AM17: 0 | AN17: 45 | AO17: 39 | AP17: 28 | AQ17: 16 | AR17: 14 | AS17: 142 | AT17: 188 | AU17: 45 | AV17: 36 | AW17: 81 | AX17: 0 | AY17: 69 | AZ17: 60 | BA17: 39 | BB17: 27 | BC17: 18 | BD17: 213 | BE17: 294 | BF17: 44 | BG17: 41 | BH17: 85 | BI17: 0 | BJ17: 88 | BK17: 68 | BL17: 59 | BM17: 39 | BN17: 18 | BO17: 272 | BP17: 357 | BQ17: 36 | BR17: 44 | BS17: 80 | BT17: 0 | BU17: 80 | BV17: 90 | BW17: 51 | BX17: 44 | BY17: 23 | BZ17: 288 | CA17: 368 | CB17: 3 | CC17: 3 | CD17: 6 | CE17: 0 | CF17: 8 | CG17: 15 | CH17: 4 | CI17: 3 | CJ17: 11 | CK17: 41 | CL17: 47 | CM17: 163 | CN17: 157 | CO17: 320 | CP17: 0 | CQ17: 329 | CR17: 302 | CS17: 192 | CT17: 150 | CU17: 98 | CV17: 1071 | CW17: 1391 | CX17: 413 | CY17: 450 | CZ17: 863 | DA17: 0 | DB17: 623 | DC17: 552 | DD17: 356 | DE17: 375 | DF17: 273 | DG17: 2179 | DH17: 3042 | DI17: 2 | DJ17: 5 | DK17: 7 | DL17: 0 | DM17: 11 | DN17: 6 | DO17: 3 | DP17: 3 | DQ17: 8 | DR17: 31 | DS17: 38 | DT17: 14 | DU17: 15 | DV17: 29 | DW17: 0 | DX17: 20 | DY17: 21 | DZ17: 6 | EA17: 13 | EB17: 7 | EC17: 67 | ED17: 96 | EE17: 53 | EF17: 52 | EG17: 105 | EH17: 0 | EI17: 53 | EJ17: 55 | EK17: 29 | EL17: 27 | EM17: 26 | EN17: 190 | EO17: 295 | EP17: 109 | EQ17: 118 | ER17: 227 | ES17: 0 | ET17: 143 | EU17: 94 | EV17: 51 | EW17: 55 | EX17: 41 | EY17: 384 | EZ17: 611 | FA17: 141 | FB17: 148 | FC17: 289 | FD17: 0 | FE17: 196 | FF17: 143 | FG17: 83 | FH17: 84 | FI17: 70 | FJ17: 576 | FK17: 865 | FL17: 94 | FM17: 112 | FN17: 206 | FO17: 0 | FP17: 200 | FQ17: 233 | FR17: 184 | FS17: 193 | FT17: 121 | FU17: 931 | FV17: 1137 | FW17: 2 | FX17: 0 | FY17: 2 | FZ17: 0 | GA17: 12 | GB17: 7 | GC17: 7 | GD17: 3 | GE17: 6 | GF17: 35 | GG17: 37 | GH17: 415 | GI17: 450 | GJ17: 865 | GK17: 0 | GL17: 635 | GM17: 559 | GN17: 363 | GO17: 378 | GP17: 279 | GQ17: 2214 | GR17: 3079 | GS17: 573 | GT17: 604 | GU17: 1177 | GV17: 0 | GW17: 944 | GX17: 839 | GY17: 544 | GZ17: 522 | HA17: 360 | HB17: 3209 | HC17: 4386 | HD17: 6 | HE17: 9 | HF17: 15 | HG17: 0 | HH17: 20 | HI17: 15 | HJ17: 11 | HK17: 6 | HL17: 15 | HM17: 67 | HN17: 82 | HO17: 25 | HP17: 18 | HQ17: 43 | HR17: 0 | HS17: 50 | HT17: 42 | HU17: 9 | HV17: 31 | HW17: 14 | HX17: 146 | HY17: 189 | HZ17: 73 | IA17: 78 | IB17: 151 | IC17: 0 | ID17: 98 | IE17: 94 | IF17: 57 | IG17: 43 | IH17: 40 | II17: 332 | IJ17: 483 | IK17: 154 | IL17: 154 | IM17: 308 | IN17: 0 | IO17: 212 | IP17: 154 | IQ17: 90 | IR17: 82 | IS17: 59 | IT17: 597 | IU17: 905 | IV17: 185 | IW17: 189 | IX17: 374 | IY17: 0 | IZ17: 284 | JA17: 211 | JB17: 142 | JC17: 123 | JD17: 88 | JE17: 848 | JF17: 1222 | JG17: 130 | JH17: 156 | JI17: 286 | JJ17: 0 | JK17: 280 | JL17: 323 | JM17: 235 | JN17: 237 | JO17: 144 | JP17: 1219 | JQ17: 1505 | JR17: 5 | JS17: 3 | JT17: 8 | JU17: 0 | JV17: 20 | JW17: 22 | JX17: 11 | JY17: 6 | JZ17: 17 | KA17: 76 | KB17: 84 | KC17: 578 | KD17: 607 | KE17: 1185 | KF17: 0 | KG17: 964 | KH17: 861 | KI17: 555 | KJ17: 528 | KK17: 377 | KL17: 3285 | KM17: 4470
B18: 三浦市 | C18: 140 | D18: 145 | E18: 285 | F18: 0 | G18: 247 | H18: 253 | I18: 169 | J18: 149 | K18: 69 | L18: 887 | M18: 1172 | N18: 6 | O18: 7 | P18: 13 | Q18: 0 | R18: 5 | S18: 14 | T18: 7 | U18: 10 | V18: 4 | W18: 40 | X18: 53 | Y18: 15 | Z18: 9 | AA18: 24 | AB18: 0 | AC18: 25 | AD18: 23 | AE18: 13 | AF18: 18 | AG18: 4 | AH18: 83 | AI18: 107 | AJ18: 32 | AK18: 38 | AL18: 70 | AM18: 0 | AN18: 51 | AO18: 50 | AP18: 34 | AQ18: 23 | AR18: 12 | AS18: 170 | AT18: 240 | AU18: 37 | AV18: 26 | AW18: 63 | AX18: 0 | AY18: 51 | AZ18: 63 | BA18: 41 | BB18: 28 | BC18: 19 | BD18: 202 | BE18: 265 | BF18: 30 | BG18: 41 | BH18: 71 | BI18: 0 | BJ18: 66 | BK18: 50 | BL18: 39 | BM18: 32 | BN18: 16 | BO18: 203 | BP18: 274 | BQ18: 20 | BR18: 24 | BS18: 44 | BT18: 0 | BU18: 49 | BV18: 53 | BW18: 35 | BX18: 38 | BY18: 14 | BZ18: 189 | CA18: 233 | CB18: 1 | CC18: 3 | CD18: 4 | CE18: 0 | CF18: 11 | CG18: 6 | CH18: 5 | CI18: 6 | CJ18: 10 | CK18: 38 | CL18: 42 | CM18: 141 | CN18: 148 | CO18: 289 | CP18: 0 | CQ18: 258 | CR18: 259 | CS18: 174 | CT18: 155 | CU18: 79 | CV18: 925 | CW18: 1214 | CX18: 312 | CY18: 372 | CZ18: 684 | DA18: 0 | DB18: 466 | DC18: 495 | DD18: 340 | DE18: 316 | DF18: 167 | DG18: 1784 | DH18: 2468 | DI18: 6 | DJ18: 6 | DK18: 12 | DL18: 0 | DM18: 8 | DN18: 14 | DO18: 5 | DP18: 1 | DQ18: 3 | DR18: 31 | DS18: 43 | DT18: 21 | DU18: 20 | DV18: 41 | DW18: 0 | DX18: 21 | DY18: 26 | DZ18: 15 | EA18: 13 | EB18: 10 | EC18: 85 | ED18: 126 | EE18: 69 | EF18: 63 | EG18: 132 | EH18: 0 | EI18: 65 | EJ18: 65 | EK18: 37 | EL18: 33 | EM18: 15 | EN18: 215 | EO18: 347 | EP18: 92 | EQ18: 91 | ER18: 183 | ES18: 0 | ET18: 111 | EU18: 99 | EV18: 50 | EW18: 55 | EX18: 30 | EY18: 345 | EZ18: 528 | FA18: 80 | FB18: 119 | FC18: 199 | FD18: 0 | FE18: 138 | FF18: 132 | FG18: 97 | FH18: 67 | FI18: 45 | FJ18: 479 | FK18: 678 | FL18: 44 | FM18: 73 | FN18: 117 | FO18: 0 | FP18: 123 | FQ18: 159 | FR18: 136 | FS18: 147 | FT18: 64 | FU18: 629 | FV18: 746 | FW18: 2 | FX18: 4 | FY18: 6 | FZ18: 0 | GA18: 2 | GB18: 13 | GC18: 5 | GD18: 2 | GE18: 3 | GF18: 25 | GG18: 31 | GH18: 314 | GI18: 376 | GJ18: 690 | GK18: 0 | GL18: 468 | GM18: 508 | GN18: 345 | GO18: 318 | GP18: 170 | GQ18: 1809 | GR18: 2499 | GS18: 452 | GT18: 517 | GU18: 969 | GV18: 0 | GW18: 713 | GX18: 748 | GY18: 509 | GZ18: 465 | HA18: 236 | HB18: 2671 | HC18: 3640 | HD18: 12 | HE18: 13 | HF18: 25 | HG18: 0 | HH18: 13 | HI18: 28 | HJ18: 12 | HK18: 11 | HL18: 7 | HM18: 71 | HN18: 96 | HO18: 36 | HP18: 29 | HQ18: 65 | HR18: 0 | HS18: 46 | HT18: 49 | HU18: 28 | HV18: 31 | HW18: 14 | HX18: 168 | HY18: 233 | HZ18: 101 | IA18: 101 | IB18: 202 | IC18: 0 | ID18: 116 | IE18: 115 | IF18: 71 | IG18: 56 | IH18: 27 | II18: 385 | IJ18: 587 | IK18: 129 | IL18: 117 | IM18: 246 | IN18: 0 | IO18: 162 | IP18: 162 | IQ18: 91 | IR18: 83 | IS18: 49 | IT18: 547 | IU18: 793 | IV18: 110 | IW18: 160 | IX18: 270 | IY18: 0 | IZ18: 204 | JA18: 182 | JB18: 136 | JC18: 99 | JD18: 61 | JE18: 682 | JF18: 952 | JG18: 64 | JH18: 97 | JI18: 161 | JJ18: 0 | JK18: 172 | JL18: 212 | JM18: 171 | JN18: 185 | JO18: 78 | JP18: 818 | JQ18: 979 | JR18: 3 | JS18: 7 | JT18: 10 | JU18: 0 | JV18: 13 | JW18: 19 | JX18: 10 | JY18: 8 | JZ18: 13 | KA18: 63 | KB18: 73 | KC18: 455 | KD18: 524 | KE18: 979 | KF18: 0 | KG18: 726 | KH18: 767 | KI18: 519 | KJ18: 473 | KK18: 249 | KL18: 2734 | KM18: 3713
... B40: 清川村 | C40: 4 | D40: 1 | E40: 5 | F40: 0 | G40: 15 | H40: 13 | I40: 10 | J40: 6 | K40: 3 | L40: 47 | M40: 52 | N40: 0 | O40: 0 | P40: 0 | Q40: 0 | R40: 1 | S40: 1 | T40: 0 | U40: 0 | V40: 0 | W40: 2 | X40: 2 | Y40: 1 | Z40: 0 | AA40: 1 | AB40: 0 | AC40: 3 | AD40: 1 | AE40: 0 | AF40: 2 | AG40: 1 | AH40: 7 | AI40: 8 | AJ40: 0 | AK40: 1 | AL40: 1 | AM40: 0 | AN40: 0 | AO40: 3 | AP40: 4 | AQ40: 0 | AR40: 1 | AS40: 8 | AT40: 9 | AU40: 1 | AV40: 0 | AW40: 1 | AX40: 0 | AY40: 4 | AZ40: 3 | BA40: 1 | BB40: 2 | BC40: 0 | BD40: 10 | BE40: 11 | BF40: 2 | BG40: 0 | BH40: 2 | BI40: 0 | BJ40: 5 | BK40: 3 | BL40: 2 | BM40: 0 | BN40: 0 | BO40: 10 | BP40: 12 | BQ40: 0 | BR40: 0 | BS40: 0 | BT40: 0 | BU40: 2 | BV40: 2 | BW40: 3 | BX40: 2 | BY40: 1 | BZ40: 10 | CA40: 10 | CB40: 0 | CC40: 0 | CD40: 0 | CE40: 0 | CF40: 0 | CG40: 1 | CH40: 0 | CI40: 3 | CJ40: 0 | CK40: 4 | CL40: 4 | CM40: 4 | CN40: 1 | CO40: 5 | CP40: 0 | CQ40: 15 | CR40: 14 | CS40: 10 | CT40: 9 | CU40: 3 | CV40: 51 | CW40: 56 | CX40: 8 | CY40: 3 | CZ40: 11 | DA40: 0 | DB40: 19 | DC40: 24 | DD40: 14 | DE40: 21 | DF40: 14 | DG40: 92 | DH40: 103 | DI40: 0 | DJ40: 0 | DK40: 0 | DL40: 0 | DM40: 0 | DN40: 0 | DO40: 0 | DP40: 0 | DQ40: 1 | DR40: 1 | DS40: 1 | DT40: 0 | DU40: 0 | DV40: 0 | DW40: 0 | DX40: 0 | DY40: 1 | DZ40: 1 | EA40: 2 | EB40: 0 | EC40: 4 | ED40: 4 | EE40: 2 | EF40: 0 | EG40: 2 | EH40: 0 | EI40: 0 | EJ40: 4 | EK40: 1 | EL40: 1 | EM40: 2 | EN40: 8 | EO40: 10 | EP40: 0 | EQ40: 2 | ER40: 2 | ES40: 0 | ET40: 4 | EU40: 6 | EV40: 1 | EW40: 2 | EX40: 2 | EY40: 15 | EZ40: 17 | FA40: 4 | FB40: 1 | FC40: 5 | FD40: 0 | FE40: 6 | FF40: 5 | FG40: 3 | FH40: 8 | FI40: 3 | FJ40: 25 | FK40: 30 | FL40: 2 | FM40: 0 | FN40: 2 | FO40: 0 | FP40: 9 | FQ40: 8 | FR40: 8 | FS40: 8 | FT40: 6 | FU40: 39 | FV40: 41 | FW40: 0 | FX40: 0 | FY40: 0 | FZ40: 0 | GA40: 0 | GB40: 1 | GC40: 0 | GD40: 0 | GE40: 0 | GF40: 1 | GG40: 1 | GH40: 8 | GI40: 3 | GJ40: 11 | GK40: 0 | GL40: 19 | GM40: 25 | GN40: 14 | GO40: 21 | GP40: 14 | GQ40: 93 | GR40: 104 | GS40: 12 | GT40: 4 | GU40: 16 | GV40: 0 | GW40: 34 | GX40: 37 | GY40: 24 | GZ40: 27 | HA40: 17 | HB40: 139 | HC40: 155 | HD40: 0 | HE40: 0 | HF40: 0 | HG40: 0 | HH40: 1 | HI40: 1 | HJ40: 0 | HK40: 0 | HL40: 1 | HM40: 3 | HN40: 3 | HO40: 1 | HP40: 0 | HQ40: 1 | HR40: 0 | HS40: 3 | HT40: 2 | HU40: 1 | HV40: 4 | HW40: 1 | HX40: 11 | HY40: 12 | HZ40: 2 | IA40: 1 | IB40: 3 | IC40: 0 | ID40: 0 | IE40: 7 | IF40: 5 | IG40: 1 | IH40: 3 | II40: 16 | IJ40: 19 | IK40: 1 | IL40: 2 | IM40: 3 | IN40: 0 | IO40: 8 | IP40: 9 | IQ40: 2 | IR40: 4 | IS40: 2 | IT40: 25 | IU40: 28 | IV40: 6 | IW40: 1 | IX40: 7 | IY40: 0 | IZ40: 11 | JA40: 8 | JB40: 5 | JC40: 8 | JD40: 3 | JE40: 35 | JF40: 42 | JG40: 2 | JH40: 0 | JI40: 2 | JJ40: 0 | JK40: 11 | JL40: 10 | JM40: 11 | JN40: 10 | JO40: 7 | JP40: 49 | JQ40: 51 | JR40: 0 | JS40: 0 | JT40: 0 | JU40: 0 | JV40: 0 | JW40: 2 | JX40: 0 | JY40: 3 | JZ40: 0 | KA40: 5 | KB40: 5 | KC40: 12 | KD40: 4 | KE40: 16 | KF40: 0 | KG40: 34 | KH40: 39 | KI40: 24 | KJ40: 30 | KK40: 17 | KL40: 144 | KM40: 160

Sheet 第２-2表
B1: 要介護（要支援）認定者数（人） | F1: =第１表!F2 -> 8 | H1: =第１表!G2 -> 7 | I1: =H1 -> 7
B2: ②総数（再掲：第1号被保険者の2割負担対象者分）
B3: 区分 | C3: 男 | CX3: 女 | GS3: 計
C4: 第１号被保険者 | CB4: 第２号被保険者 | CM4: 総数 | CX4: 第１号被保険者 | FW4: 第２号被保険者 | GH4: 総数 | GS4: 第１号被保険者 | JR4: 第２号被保険者 | KC4: 総数
N5: ６５歳以上７０歳未満 | Y5: ７０歳以上７５歳未満 | AJ5: ７５歳以上８０歳未満 | AU5: ８０歳以上８５歳未満 | BF5: ８５歳以上９０歳未満 | BQ5: ９０歳以上 | DI5: ６５歳以上７０歳未満 | DT5: ７０歳以上７５歳未満 | EE5: ７５歳以上８０歳未満 | EP5: ８０歳以上８５歳未満 | FA5: ８５歳以上９０歳未満 | FL5: ９０歳以上 | HD5: ６５歳以上７０歳未満 | HO5: ７０歳以上７５歳未満 | HZ5: ７５歳以上８０歳未満 | IK5: ８０歳以上８５歳未満 | IV5: ８５歳以上９０歳未満 | JG5: ９０歳以上
B6: 市町村名 | C6: 要支援１ | D6: 要支援２ | E6: 計 | F6: 経過的 要介護 | G6: 要介護１ | H6: 要介護２ | I6: 要介護３ | J6: 要介護４ | K6: 要介護５ | L6: 計 | M6: 合計 | N6: 要支援１ | O6: 要支援２ | P6: 計 | Q6: 経過的 要介護 | R6: 要介護１ | S6: 要介護２ | T6: 要介護３ | U6: 要介護４ | V6: 要介護５ | W6: 計 | X6: 合計 | Y6: 要支援１ | Z6: 要支援２ | AA6: 計 | AB6: 経過的 要介護 | AC6: 要介護１ | AD6: 要介護２ | AE6: 要介護３ | AF6: 要介護４ | AG6: 要介護５ | AH6: 計 | AI6: 合計 | AJ6: 要支援１ | AK6: 要支援２ | AL6: 計 | AM6: 経過的 要介護 | AN6: 要介護１ | AO6: 要介護２ | AP6: 要介護３ | AQ6: 要介護４ | AR6: 要介護５ | AS6: 計 | AT6: 合計 | AU6: 要支援１ | AV6: 要支援２ | AW6: 計 | AX6: 経過的 要介護 | AY6: 要介護１ | AZ6: 要介護２ | BA6: 要介護３ | BB6: 要介護４ | BC6: 要介護５ | BD6: 計 | BE6: 合計 | BF6: 要支援１ | BG6: 要支援２ | BH6: 計 | BI6: 経過的 要介護 | BJ6: 要介護１ | BK6: 要介護２ | BL6: 要介護３ | BM6: 要介護４ | BN6: 要介護５ | BO6: 計 | BP6: 合計 | BQ6: 要支援１ | BR6: 要支援２ | BS6: 計 | BT6: 経過的 要介護 | BU6: 要介護１ | BV6: 要介護２ | BW6: 要介護３ | BX6: 要介護４ | BY6: 要介護５ | BZ6: 計 | CA6: 合計 | CB6: 要支援１ | CC6: 要支援２ | CD6: 計 | CE6: 経過的 要介護 | CF6: 要介護１ | CG6: 要介護２ | CH6: 要介護３ | CI6: 要介護４ | CJ6: 要介護５ | CK6: 計 | CL6: 合計 | CM6: 要支援１ | CN6: 要支援２ | CO6: 計 | CP6: 経過的 要介護 | CQ6: 要介護１ | CR6: 要介護２ | CS6: 要介護３ | CT6: 要介護４ | CU6: 要介護５ | CV6: 計 | CW6: 合計 | CX6: 要支援１ | CY6: 要支援２ | CZ6: 計 | DA6: 経過的 要介護 | DB6: 要介護１ | DC6: 要介護２ | DD6: 要介護３ | DE6: 要介護４ | DF6: 要介護５ | DG6: 計 | DH6: 合計 | DI6: 要支援１ | DJ6: 要支援２ | DK6: 計 | DL6: 経過的 要介護 | DM6: 要介護１ | DN6: 要介護２ | DO6: 要介護３ | DP6: 要介護４ | DQ6: 要介護５ | DR6: 計 | DS6: 合計 | DT6: 要支援１ | DU6: 要支援２ | DV6: 計 | DW6: 経過的 要介護 | DX6: 要介護１ | DY6: 要介護２ | DZ6: 要介護３ | EA6: 要介護４ | EB6: 要介護５ | EC6: 計 | ED6: 合計 | EE6: 要支援１ | EF6: 要支援２ | EG6: 計 | EH6: 経過的 要介護 | EI6: 要介護１ | EJ6: 要介護２ | EK6: 要介護３ | EL6: 要介護４ | EM6: 要介護５ | EN6: 計 | EO6: 合計 | EP6: 要支援１ | EQ6: 要支援２ | ER6: 計 | ES6: 経過的 要介護 | ET6: 要介護１ | EU6: 要介護２ | EV6: 要介護３ | EW6: 要介護４ | EX6: 要介護５ | EY6: 計 | EZ6: 合計 | FA6: 要支援１ | FB6: 要支援２ | FC6: 計 | FD6: 経過的 要介護 | FE6: 要介護１ | FF6: 要介護２ | FG6: 要介護３ | FH6: 要介護４ | FI6: 要介護５ | FJ6: 計 | FK6: 合計 | FL6: 要支援１ | FM6: 要支援２ | FN6: 計 | FO6: 経過的 要介護 | FP6: 要介護１ | FQ6: 要介護２ | FR6: 要介護３ | FS6: 要介護４ | FT6: 要介護５ | FU6: 計 | FV6: 合計 | FW6: 要支援１ | FX6: 要支援２ | FY6: 計 | FZ6: 経過的 要介護 | GA6: 要介護１ | GB6: 要介護２ | GC6: 要介護３ | GD6: 要介護４ | GE6: 要介護５ | GF6: 計 | GG6: 合計 | GH6: 要支援１ | GI6: 要支援２ | GJ6: 計 | GK6: 経過的 要介護 | GL6: 要介護１ | GM6: 要介護２ | GN6: 要介護３ | GO6: 要介護４ | GP6: 要介護５ | GQ6: 計 | GR6: 合計 | GS6: 要支援１ | GT6: 要支援２ | GU6: 計 | GV6: 経過的 要介護 | GW6: 要介護１ | GX6: 要介護２ | GY6: 要介護３ | GZ6: 要介護４ | HA6: 要介護５ | HB6: 計 | HC6: 合計 | HD6: 要支援１ | HE6: 要支援２ | HF6: 計 | HG6: 経過的 要介護 | HH6: 要介護１ | HI6: 要介護２ | HJ6: 要介護３ | HK6: 要介護４ | HL6: 要介護５ | HM6: 計 | HN6: 合計 | HO6: 要支援１ | HP6: 要支援２ | HQ6: 計 | HR6: 経過的 要介護 | HS6: 要介護１ | HT6: 要介護２ | HU6: 要介護３ | HV6: 要介護４ | HW6: 要介護５ | HX6: 計 | HY6: 合計 | HZ6: 要支援１ | IA6: 要支援２ | IB6: 計 | IC6: 経過的 要介護 | ID6: 要介護１ | IE6: 要介護２ | IF6: 要介護３ | IG6: 要介護４ | IH6: 要介護５ | II6: 計 | IJ6: 合計 | IK6: 要支援１ | IL6: 要支援２ | IM6: 計 | IN6: 経過的 要介護 | IO6: 要介護１ | IP6: 要介護２ | IQ6: 要介護３ | IR6: 要介護４ | IS6: 要介護５ | IT6: 計 | IU6: 合計 | IV6: 要支援１ | IW6: 要支援２ | IX6: 計 | IY6: 経過的 要介護 | IZ6: 要介護１ | JA6: 要介護２ | JB6: 要介護３ | JC6: 要介護４ | JD6: 要介護５ | JE6: 計 | JF6: 合計 | JG6: 要支援１ | JH6: 要支援２ | JI6: 計 | JJ6: 経過的 要介護 | JK6: 要介護１ | JL6: 要介護２ | JM6: 要介護３ | JN6: 要介護４ | JO6: 要介護５ | JP6: 計 | JQ6: 合計 | JR6: 要支援１ | JS6: 要支援２ | JT6: 計 | JU6: 経過的 要介護 | JV6: 要介護１ | JW6: 要介護２ | JX6: 要介護３ | JY6: 要介護４ | JZ6: 要介護５ | KA6: 計 | KB6: 合計 | KC6: 要支援１ | KD6: 要支援２ | KE6: 計 | KF6: 経過的 要介護 | KG6: 要介護１ | KH6: 要介護２ | KI6: 要介護３ | KJ6: 要介護４ | KK6: 要介護５ | KL6: 計 | KM6: 合計
B7: 神奈川県 | C7: 4878 | D7: 4773 | E7: 9651 | F7: 0 | G7: 6702 | H7: 6034 | I7: 3764 | J7: 3000 | K7: 1682 | L7: 21182 | M7: 30833 | N7: 52 | O7: 66 | P7: 118 | Q7: 0 | R7: 76 | S7: 85 | T7: 58 | U7: 49 | V7: 35 | W7: 303 | X7: 421 | Y7: 170 | Z7: 198 | AA7: 368 | AB7: 0 | AC7: 222 | AD7: 245 | AE7: 137 | AF7: 128 | AG7: 101 | AH7: 833 | AI7: 1201 | AJ7: 478 | AK7: 474 | AL7: 952 | AM7: 0 | AN7: 576 | AO7: 551 | AP7: 319 | AQ7: 287 | AR7: 182 | AS7: 1915 | AT7: 2867 | AU7: 909 | AV7: 847 | AW7: 1756 | AX7: 0 | AY7: 1177 | AZ7: 950 | BA7: 570 | BB7: 456 | BC7: 293 | BD7: 3446 | BE7: 5202 | BF7: 1558 | BG7: 1494 | BH7: 3052 | BI7: 0 | BJ7: 2137 | BK7: 1753 | BL7: 1062 | BM7: 787 | BN7: 479 | BO7: 6218 | BP7: 9270 | BQ7: 1711 | BR7: 1694 | BS7: 3405 | BT7: 0 | BU7: 2514 | BV7: 2450 | BW7: 1618 | BX7: 1293 | BY7: 592 | BZ7: 8467 | CA7: 11872 | CB7: 0 | CC7: 0 | CD7: 0 | CE7: 0 | CF7: 0 | CG7: 0 | CH7: 0 | CI7: 0 | CJ7: 0 | CK7: 0 | CL7: 0 | CM7: 4878 | CN7: 4773 | CO7: 9651 | CP7: 0 | CQ7: 6702 | CR7: 6034 | CS7: 3764 | CT7: 3000 | CU7: 1682 | CV7: 21182 | CW7: 30833 | CX7: 817 | CY7: 868 | CZ7: 1685 | DA7: 0 | DB7: 972 | DC7: 899 | DD7: 604 | DE7: 627 | DF7: 399 | DG7: 3501 | DH7: 5186 | DI7: 25 | DJ7: 45 | DK7: 70 | DL7: 0 | DM7: 19 | DN7: 14 | DO7: 8 | DP7: 9 | DQ7: 12 | DR7: 62 | DS7: 132 | DT7: 52 | DU7: 55 | DV7: 107 | DW7: 0 | DX7: 42 | DY7: 30 | DZ7: 27 | EA7: 22 | EB7: 18 | EC7: 139 | ED7: 246 | EE7: 135 | EF7: 127 | EG7: 262 | EH7: 0 | EI7: 90 | EJ7: 80 | EK7: 42 | EL7: 38 | EM7: 40 | EN7: 290 | EO7: 552 | EP7: 205 | EQ7: 178 | ER7: 383 | ES7: 0 | ET7: 159 | EU7: 155 | EV7: 74 | EW7: 75 | EX7: 53 | EY7: 516 | EZ7: 899 | FA7: 236 | FB7: 245 | FC7: 481 | FD7: 0 | FE7: 292 | FF7: 244 | FG7: 130 | FH7: 141 | FI7: 71 | FJ7: 878 | FK7: 1359 | FL7: 164 | FM7: 218 | FN7: 382 | FO7: 0 | FP7: 370 | FQ7: 376 | FR7: 323 | FS7: 342 | FT7: 205 | FU7: 1616 | FV7: 1998 | FW7: 0 | FX7: 0 | FY7: 0 | FZ7: 0 | GA7: 0 | GB7: 0 | GC7: 0 | GD7: 0 | GE7: 0 | GF7: 0 | GG7: 0 | GH7: 817 | GI7: 868 | GJ7: 1685 | GK7: 0 | GL7: 972 | GM7: 899 | GN7: 604 | GO7: 627 | GP7: 399 | GQ7: 3501 | GR7: 5186 | GS7: 5695 | GT7: 5641 | GU7: 11336 | GV7: 0 | GW7: 7674 | GX7: 6933 | GY7: 4368 | GZ7: 3627 | HA7: 2081 | HB7: 24683 | HC7: 36019 | HD7: 77 | HE7: 111 | HF7: 188 | HG7: 0 | HH7: 95 | HI7: 99 | HJ7: 66 | HK7: 58 | HL7: 47 | HM7: 365 | HN7: 553 | HO7: 222 | HP7: 253 | HQ7: 475 | HR7: 0 | HS7: 264 | HT7: 275 | HU7: 164 | HV7: 150 | HW7: 119 | HX7: 972 | HY7: 1447 | HZ7: 613 | IA7: 601 | IB7: 1214 | IC7: 0 | ID7: 666 | IE7: 631 | IF7: 361 | IG7: 325 | IH7: 222 | II7: 2205 | IJ7: 3419 | IK7: 1114 | IL7: 1025 | IM7: 2139 | IN7: 0 | IO7: 1336 | IP7: 1105 | IQ7: 644 | IR7: 531 | IS7: 346 | IT7: 3962 | IU7: 6101 | IV7: 1794 | IW7: 1739 | IX7: 3533 | IY7: 0 | IZ7: 2429 | JA7: 1997 | JB7: 1192 | JC7: 928 | JD7: 550 | JE7: 7096 | JF7: 10629 | JG7: 1875 | JH7: 1912 | JI7: 3787 | JJ7: 0 | JK7: 2884 | JL7: 2826 | JM7: 1941 | JN7: 1635 | JO7: 797 | JP7: 10083 | JQ7: 13870 | JR7: 0 | JS7: 0 | JT7: 0 | JU7: 0 | JV7: 0 | JW7: 0 | JX7: 0 | JY7: 0 | JZ7: 0 | KA7: 0 | KB7: 0 | KC7: 5695 | KD7: 5641 | KE7: 11336 | KF7: 0 | KG7: 7674 | KH7: 6933 | KI7: 4368 | KJ7: 3627 | KK7: 2081 | KL7: 24683 | KM7: 36019
B8: 横浜市 | C8: 1942 | D8: 2383 | E8: 4325 | F8: 0 | G8: 2409 | H8: 2859 | I8: 1689 | J8: 1295 | K8: 766 | L8: 9018 | M8: 13343 | N8: 17 | O8: 29 | P8: 46 | Q8: 0 | R8: 25 | S8: 36 | T8: 31 | U8: 13 | V8: 14 | W8: 119 | X8: 165 | Y8: 60 | Z8: 101 | AA8: 161 | AB8: 0 | AC8: 70 | AD8: 125 | AE8: 64 | AF8: 56 | AG8: 44 | AH8: 359 | AI8: 520 | AJ8: 176 | AK8: 234 | AL8: 410 | AM8: 0 | AN8: 203 | AO8: 257 | AP8: 140 | AQ8: 116 | AR8: 81 | AS8: 797 | AT8: 1207 | AU8: 352 | AV8: 422 | AW8: 774 | AX8: 0 | AY8: 399 | AZ8: 418 | BA8: 240 | BB8: 189 | BC8: 142 | BD8: 1388 | BE8: 2162 | BF8: 615 | BG8: 714 | BH8: 1329 | BI8: 0 | BJ8: 752 | BK8: 839 | BL8: 459 | BM8: 319 | BN8: 211 | BO8: 2580 | BP8: 3909 | BQ8: 722 | BR8: 883 | BS8: 1605 | BT8: 0 | BU8: 960 | BV8: 1184 | BW8: 755 | BX8: 602 | BY8: 274 | BZ8: 3775 | CA8: 5380 | CB8: 0 | CC8: 0 | CD8: 0 | CE8: 0 | CF8: 0 | CG8: 0 | CH8: 0 | CI8: 0 | CJ8: 0 | CK8: 0 | CL8: 0 | CM8: 1942 | CN8: 2383 | CO8: 4325 | CP8: 0 | CQ8: 2409 | CR8: 2859 | CS8: 1689 | CT8: 1295 | CU8: 766 | CV8: 9018 | CW8: 13343 | CX8: 347 | CY8: 379 | CZ8: 726 | DA8: 0 | DB8: 361 | DC8: 439 | DD8: 277 | DE8: 266 | DF8: 181 | DG8: 1524 | DH8: 2250 | DI8: 8 | DJ8: 20 | DK8: 28 | DL8: 0 | DM8: 10 | DN8: 7 | DO8: 2 | DP8: 7 | DQ8: 10 | DR8: 36 | DS8: 64 | DT8: 19 | DU8: 29 | DV8: 48 | DW8: 0 | DX8: 13 | DY8: 15 | DZ8: 13 | EA8: 11 | EB8: 5 | EC8: 57 | ED8: 105 | EE8: 63 | EF8: 57 | EG8: 120 | EH8: 0 | EI8: 38 | EJ8: 38 | EK8: 20 | EL8: 14 | EM8: 17 | EN8: 127 | EO8: 247 | EP8: 74 | EQ8: 81 | ER8: 155 | ES8: 0 | ET8: 64 | EU8: 76 | EV8: 33 | EW8: 31 | EX8: 25 | EY8: 229 | EZ8: 384 | FA8: 109 | FB8: 100 | FC8: 209 | FD8: 0 | FE8: 93 | FF8: 111 | FG8: 56 | FH8: 74 | FI8: 32 | FJ8: 366 | FK8: 575 | FL8: 74 | FM8: 92 | FN8: 166 | FO8: 0 | FP8: 143 | FQ8: 192 | FR8: 153 | FS8: 129 | FT8: 92 | FU8: 709 | FV8: 875 | FW8: 0 | FX8: 0 | FY8: 0 | FZ8: 0 | GA8: 0 | GB8: 0 | GC8: 0 | GD8: 0 | GE8: 0 | GF8: 0 | GG8: 0 | GH8: 347 | GI8: 379 | GJ8: 726 | GK8: 0 | GL8: 361 | GM8: 439 | GN8: 277 | GO8: 266 | GP8: 181 | GQ8: 1524 | GR8: 2250 | GS8: 2289 | GT8: 2762 | GU8: 5051 | GV8: 0 | GW8: 2770 | GX8: 3298 | GY8: 1966 | GZ8: 1561 | HA8: 947 | HB8: 10542 | HC8: 15593 | HD8: 25 | HE8: 49 | HF8: 74 | HG8: 0 | HH8: 35 | HI8: 43 | HJ8: 33 | HK8: 20 | HL8: 24 | HM8: 155 | HN8: 229 | HO8: 79 | HP8: 130 | HQ8: 209 | HR8: 0 | HS8: 83 | HT8: 140 | HU8: 77 | HV8: 67 | HW8: 49 | HX8: 416 | HY8: 625 | HZ8: 239 | IA8: 291 | IB8: 530 | IC8: 0 | ID8: 241 | IE8: 295 | IF8: 160 | IG8: 130 | IH8: 98 | II8: 924 | IJ8: 1454 | IK8: 426 | IL8: 503 | IM8: 929 | IN8: 0 | IO8: 463 | IP8: 494 | IQ8: 273 | IR8: 220 | IS8: 167 | IT8: 1617 | IU8: 2546 | IV8: 724 | IW8: 814 | IX8: 1538 | IY8: 0 | IZ8: 845 | JA8: 950 | JB8: 515 | JC8: 393 | JD8: 243 | JE8: 2946 | JF8: 4484 | JG8: 796 | JH8: 975 | JI8: 1771 | JJ8: 0 | JK8: 1103 | JL8: 1376 | JM8: 908 | JN8: 731 | JO8: 366 | JP8: 4484 | JQ8: 6255 | JR8: 0 | JS8: 0 | JT8: 0 | JU8: 0 | JV8: 0 | JW8: 0 | JX8: 0 | JY8: 0 | JZ8: 0 | KA8: 0 | KB8: 0 | KC8: 2289 | KD8: 2762 | KE8: 5051 | KF8: 0 | KG8: 2770 | KH8: 3298 | KI8: 1966 | KJ8: 1561 | KK8: 947 | KL8: 10542 | KM8: 15593
