Workbook

Sheet 第１表
E1: 介護保険事業状況報告
F2: 8 | G2: 7
E4: 第1号被保険者数（人） | H4: =G2 -> 7
F6: 当月末現在
G7: ６５歳以上７５歳未満 | H7: ７５歳以上８５歳未満 | I7: ８５歳以上
E8: 神奈川県 | F8: 2375752 | G8: 946351 | H8: 972815 | I8: 456586
E9: 横浜市 | F9: 951675 | G9: 382353 | H9: 382012 | I9: 187310
E10: 川崎市 | F10: 315624 | G10: 134382 | H10: 123234 | I10: 58008
E11: 相模原市 | F11: 191231 | G11: 75648 | H11: 80790 | I11: 34793
E12: 横須賀市 | F12: 123601 | G12: 45582 | H12: 52796 | I12: 25223
E13: 平塚市 | F13: 74503 | G13: 29624 | H13: 31313 | I13: 13566
E14: 鎌倉市 | F14: 53391 | G14: 19057 | H14: 21627 | I14: 12707
E15: 藤沢市 | F15: 110681 | G15: 43274 | H15: 45484 | I15: 21923
E16: 小田原市 | F16: 57884 | G16: 23079 | H16: 23713 | I16: 11092
E17: 茅ヶ崎市 | F17: 66989 | G17: 26054 | H17: 27575 | I17: 13360
E18: 逗子市 | F18: 18375 | G18: 6561 | H18: 7484 | I18: 4330
E19: 三浦市 | F19: 15727 | G19: 5975 | H19: 6695 | I19: 3057
... E41: 清川村 | F41: 1073 | G41: 462 | H41: 438 | I41: 173

Sheet 第２-1表
B1: 要介護（要支援）認定者数（人） | F1: =第１表!F2 -> 8 | H1: =第１表!G2 -> 7 | I1: =H1 -> 7
B2: ①総数
B3: 区分 | C3: 男 | CX3: 女 | GS3: 計
C4: 第１号被保険者 | CB4: 第２号被保険者 | CM4: 総数 | CX4: 第１号被保険者 | FW4: 第２号被保険者 | GH4: 総数 | GS4: 第１号被保険者 | JR4: 第２号被保険者 | KC4: 総数
N5: ６５歳以上７０歳未満 | Y5: ７０歳以上７５歳未満 | AJ5: ７５歳以上８０歳未満 | AU5: ８０歳以上８５歳未満 | BF5: ８５歳以上９０歳未満 | BQ5: ９０歳以上 | DI5: ６５歳以上７０歳未満 | DT5: ７０歳以上７５歳未満 | EE5: ７５歳以上８０歳未満 | EP5: ８０歳以上８５歳未満 | FA5: ８５歳以上９０歳未満 | FL5: ９０歳以上 | HD5: ６５歳以上７０歳未満 | HO5: ７０歳以上７５歳未満 | HZ5: ７５歳以上８０歳未満 | IK5: ８０歳以上８５歳未満 | IV5: ８５歳以上９０歳未満 | JG5: ９０歳以上
B6: 市町村名 | C6: 要支援１ | D6: 要支援２ | E6: 計 | F6: 経過的 要介護 | G6: 要介護１ | H6: 要介護２ | I6: 要介護３ | J6: 要介護４ | K6: 要介護５ | L6: 計 | M6: 合計 | N6: 要支援１ | O6: 要支援２ | P6: 計 | Q6: 経過的 要介護 | R6: 要介護１ | S6: 要介護２ | T6: 要介護３ | U6: 要介護４ | V6: 要介護５ | W6: 計 | X6: 合計 | Y6: 要支援１ | Z6: 要支援２ | AA6: 計 | AB6: 経過的 要介護 | AC6: 要介護１ | AD6: 要介護２ | AE6: 要介護３ | AF6: 要介護４ | AG6: 要介護５ | AH6: 計 | AI6: 合計 | AJ6: 要支援１ | AK6: 要支援２ | AL6: 計 | AM6: 経過的 要介護 | AN6: 要介護１ | AO6: 要介護２ | AP6: 要介護３ | AQ6: 要介護４ | AR6: 要介護５ | AS6: 計 | AT6: 合計 | AU6: 要支援１ | AV6: 要支援２ | AW6: 計 | AX6: 経過的 要介護 | AY6: 要介護１ | AZ6: 要介護２ | BA6: 要介護３ | BB6: 要介護４ | BC6: 要介護５ | BD6: 計 | BE6: 合計 | BF6: 要支援１ | BG6: 要支援２ | BH6: 計 | BI6: 経過的 要介護 | BJ6: 要介護１ | BK6: 要介護２ | BL6: 要介護３ | BM6: 要介護４ | BN6: 要介護５ | BO6: 計 | BP6: 合計 | BQ6: 要支援１ | BR6: 要支援２ | BS6: 計 | BT6: 経過的 要介護 | BU6: 要介護１ | BV6: 要介護２ | BW6: 要介護３ | BX6: 要介護４ | BY6: 要介護５ | BZ6: 計 | CA6: 合計 | CB6: 要支援１ | CC6: 要支援２ | CD6: 計 | CE6: 経過的 要介護 | CF6: 要介護１ | CG6: 要介護２ | CH6: 要介護３ | CI6: 要介護４ | CJ6: 要介護５ | CK6: 計 | CL6: 合計 | CM6: 要支援１ | CN6: 要支援２ | CO6: 計 | CP6: 経過的 要介護 | CQ6: 要介護１ | CR6: 要介護２ | CS6: 要介護３ | CT6: 要介護４ | CU6: 要介護５ | CV6: 計 | CW6: 合計 | CX6: 要支援１ | CY6: 要支援２ | CZ6: 計 | DA6: 経過的 要介護 | DB6: 要介護１ | DC6: 要介護２ | DD6: 要介護３ | DE6: 要介護４ | DF6: 要介護５ | DG6: 計 | DH6: 合計 | DI6: 要支援１ | DJ6: 要支援２ | DK6: 計 | DL6: 経過的 要介護 | DM6: 要介護１ | DN6: 要介護２ | DO6: 要介護３ | DP6: 要介護４ | DQ6: 要介護５ | DR6: 計 | DS6: 合計 | DT6: 要支援１ | DU6: 要支援２ | DV6: 計 | DW6: 経過的 要介護 | DX6: 要介護１ | DY6: 要介護２ | DZ6: 要介護３ | EA6: 要介護４ | EB6: 要介護５ | EC6: 計 | ED6: 合計 | EE6: 要支援１ | EF6: 要支援２ | EG6: 計 | EH6: 経過的 要介護 | EI6: 要介護１ | EJ6: 要介護２ | EK6: 要介護３ | EL6: 要介護４ | EM6: 要介護５ | EN6: 計 | EO6: 合計 | EP6: 要支援１ | EQ6: 要支援２ | ER6: 計 | ES6: 経過的 要介護 | ET6: 要介護１ | EU6: 要介護２ | EV6: 要介護３ | EW6: 要介護４ | EX6: 要介護５ | EY6: 計 | EZ6: 合計 | FA6: 要支援１ | FB6: 要支援２ | FC6: 計 | FD6: 経過的 要介護 | FE6: 要介護１ | FF6: 要介護２ | FG6: 要介護３ | FH6: 要介護４ | FI6: 要介護５ | FJ6: 計 | FK6: 合計 | FL6: 要支援１ | FM6: 要支援２ | FN6: 計 | FO6: 経過的 要介護 | FP6: 要介護１ | FQ6: 要介護２ | FR6: 要介護３ | FS6: 要介護４ | FT6: 要介護５ | FU6: 計 | FV6: 合計 | FW6: 要支援１ | FX6: 要支援２ | FY6: 計 | FZ6: 経過的 要介護 | GA6: 要介護１ | GB6: 要介護２ | GC6: 要介護３ | GD6: 要介護４ | GE6: 要介護５ | GF6: 計 | GG6: 合計 | GH6: 要支援１ | GI6: 要支援２ | GJ6: 計 | GK6: 経過的 要介護 | GL6: 要介護１ | GM6: 要介護２ | GN6: 要介護３ | GO6: 要介護４ | GP6: 要介護５ | GQ6: 計 | GR6: 合計 | GS6: 要支援１ | GT6: 要支援２ | GU6: 計 | GV6: 経過的 要介護 | GW6: 要介護１ | GX6: 要介護２ | GY6: 要介護３ | GZ6: 要介護４ | HA6: 要介護５ | HB6: 計 | HC6: 合計 | HD6: 要支援１ | HE6: 要支援２ | HF6: 計 | HG6: 経過的 要介護 | HH6: 要介護１ | HI6: 要介護２ | HJ6: 要介護３ | HK6: 要介護４ | HL6: 要介護５ | HM6: 計 | HN6: 合計 | HO6: 要支援１ | HP6: 要支援２ | HQ6: 計 | HR6: 経過的 要介護 | HS6: 要介護１ | HT6: 要介護２ | HU6: 要介護３ | HV6: 要介護４ | HW6: 要介護５ | HX6: 計 | HY6: 合計 | HZ6: 要支援１ | IA6: 要支援２ | IB6: 計 | IC6: 経過的 要介護 | ID6: 要介護１ | IE6: 要介護２ | IF6: 要介護３ | IG6: 要介護４ | IH6: 要介護５ | II6: 計 | IJ6: 合計 | IK6: 要支援１ | IL6: 要支援２ | IM6: 計 | IN6: 経過的 要介護 | IO6: 要介護１ | IP6: 要介護２ | IQ6: 要介護３ | IR6: 要介護４ | IS6: 要介護５ | IT6: 計 | IU6: 合計 | IV6: 要支援１ | IW6: 要支援２ | IX6: 計 | IY6: 経過的 要介護 | IZ6: 要介護１ | JA6: 要介護２ | JB6: 要介護３ | JC6: 要介護４ | JD6: 要介護５ | JE6: 計 | JF6: 合計 | JG6: 要支援１ | JH6: 要支援２ | JI6: 計 | JJ6: 経過的 要介護 | JK6: 要介護１ | JL6: 要介護２ | JM6: 要介護３ | JN6: 要介護４ | JO6: 要介護５ | JP6: 計 | JQ6: 合計 | JR6: 要支援１ | JS6: 要支援２ | JT6: 計 | JU6: 経過的 要介護 | JV6: 要介護１ | JW6: 要介護２ | JX6: 要介護３ | JY6: 要介護４ | JZ6: 要介護５ | KA6: 計 | KB6: 合計 | KC6: 要支援１ | KD6: 要支援２ | KE6: 計 | KF6: 経過的 要介護 | KG6: 要介護１ | KH6: 要介護２ | KI6: 要介護３ | KJ6: 要介護４ | KK6: 要介護５ | KL6: 計 | KM6: 合計
B7: 神奈川県 | C7: 22826 | D7: 23526 | E7: 46352 | F7: 0 | G7: 33599 | H7: 33684 | I7: 22092 | J7: 18013 | K7: 10630 | L7: 118018 | M7: 164370 | N7: 815 | O7: 1037 | P7: 1852 | Q7: 0 | R7: 1299 | S7: 1665 | T7: 1130 | U7: 951 | V7: 746 | W7: 5791 | X7: 7643 | Y7: 1623 | Z7: 2057 | AA7: 3680 | AB7: 0 | AC7: 2418 | AD7: 2932 | AE7: 1868 | AF7: 1738 | AG7: 1183 | AH7: 10139 | AI7: 13819 | AJ7: 3828 | AK7: 4319 | AL7: 8147 | AM7: 0 | AN7: 5659 | AO7: 6100 | AP7: 3811 | AQ7: 3295 | AR7: 2222 | AS7: 21087 | AT7: 29234 | AU7: 5702 | AV7: 5388 | AW7: 11090 | AX7: 0 | AY7: 8004 | AZ7: 7336 | BA7: 4738 | BB7: 3723 | BC7: 2246 | BD7: 26047 | BE7: 37137 | BF7: 6470 | BG7: 6194 | BH7: 12664 | BI7: 0 | BJ7: 9091 | BK7: 8358 | BL7: 5434 | BM7: 4192 | BN7: 2260 | BO7: 29335 | BP7: 41999 | BQ7: 4388 | BR7: 4531 | BS7: 8919 | BT7: 0 | BU7: 7128 | BV7: 7293 | BW7: 5111 | BX7: 4114 | BY7: 1973 | BZ7: 25619 | CA7: 34538 | CB7: 529 | CC7: 913 | CD7: 1442 | CE7: 0 | CF7: 912 | CG7: 1501 | CH7: 952 | CI7: 844 | CJ7: 803 | CK7: 5012 | CL7: 6454 | CM7: 23355 | CN7: 24439 | CO7: 47794 | CP7: 0 | CQ7: 34511 | CR7: 35185 | CS7: 23044 | CT7: 18857 | CU7: 11433 | CV7: 123030 | CW7: 170824 | CX7: 44085 | CY7: 51220 | CZ7: 95305 | DA7: 0 | DB7: 62332 | DC7: 58718 | DD7: 42069 | DE7: 41226 | DF7: 25593 | DG7: 229938 | DH7: 325243 | DI7: 861 | DJ7: 1131 | DK7: 1992 | DL7: 0 | DM7: 1029 | DN7: 1182 | DO7: 698 | DP7: 674 | DQ7: 598 | DR7: 4181 | DS7: 6173 | DT7: 2322 | DU7: 2747 | DV7: 5069 | DW7: 0 | DX7: 2291 | DY7: 2432 | DZ7: 1489 | EA7: 1398 | EB7: 1148 | EC7: 8758 | ED7: 13827 | EE7: 7020 | EF7: 7916 | EG7: 14936 | EH7: 0 | EI7: 7606 | EJ7: 6730 | EK7: 4124 | EL7: 3979 | EM7: 2901 | EN7: 25340 | EO7: 40276 | EP7: 12622 | EQ7: 13230 | ER7: 25852 | ES7: 0 | ET7: 14331 | EU7: 11794 | EV7: 7346 | EW7: 6592 | EX7: 4528 | EY7: 44591 | EZ7: 70443 | FA7: 13612 | FB7: 15283 | FC7: 28895 | FD7: 0 | FE7: 18920 | FF7: 16382 | FG7: 11094 | FH7: 10294 | FI7: 6261 | FJ7: 62951 | FK7: 91846 | FL7: 7648 | FM7: 10913 | FN7: 18561 | FO7: 0 | FP7: 18155 | FQ7: 20198 | FR7: 17318 | FS7: 18289 | FT7: 10157 | FU7: 84117 | FV7: 102678 | FW7: 413 | FX7: 758 | FY7: 1171 | FZ7: 0 | GA7: 736 | GB7: 1161 | GC7: 627 | GD7: 626 | GE7: 668 | GF7: 3818 | GG7: 4989 | GH7: 44498 | GI7: 51978 | GJ7: 96476 | GK7: 0 | GL7: 63068 | GM7: 59879 | GN7: 42696 | GO7: 41852 | GP7: 26261 | GQ7: 233756 | GR7: 330232 | GS7: 66911 | GT7: 74746 | GU7: 141657 | GV7: 0 | GW7: 95931 | GX7: 92402 | GY7: 64161 | GZ7: 59239 | HA7: 36223 | HB7: 347956 | HC7: 489613 | HD7: 1676 | HE7: 2168 | HF7: 3844 | HG7: 0 | HH7: 2328 | HI7: 2847 | HJ7: 1828 | HK7: 1625 | HL7: 1344 | HM7: 9972 | HN7: 13816 | HO7: 3945 | HP7: 4804 | HQ7: 8749 | HR7: 0 | HS7: 4709 | HT7: 5364 | HU7: 3357 | HV7: 3136 | HW7: 2331 | HX7: 18897 | HY7: 27646 | HZ7: 10848 | IA7: 12235 | IB7: 23083 | IC7: 0 | ID7: 13265 | IE7: 12830 | IF7: 7935 | IG7: 7274 | IH7: 5123 | II7: 46427 | IJ7: 69510 | IK7: 18324 | IL7: 18618 | IM7: 36942 | IN7: 0 | IO7: 22335 | IP7: 19130 | IQ7: 12084 | IR7: 10315 | IS7: 6774 | IT7: 70638 | IU7: 107580 | IV7: 20082 | IW7: 21477 | IX7: 41559 | IY7: 0 | IZ7: 28011 | JA7: 24740 | JB7: 16528 | JC7: 14486 | JD7: 8521 | JE7: 92286 | JF7: 133845 | JG7: 12036 | JH7: 15444 | JI7: 27480 | JJ7: 0 | JK7: 25283 | JL7: 27491 | JM7: 22429 | JN7: 22403 | JO7: 12130 | JP7: 109736 | JQ7: 137216 | JR7: 942 | JS7: 1671 | JT7: 2613 | JU7: 0 | JV7: 1648 | JW7: 2662 | JX7: 1579 | JY7: 1470 | JZ7: 1471 | KA7: 8830 | KB7: 11443 | KC7: 67853 | KD7: 76417 | KE7: 144270 | KF7: 0 | KG7: 97579 | KH7: 95064 | KI7: 65740 | KJ7: 60709 | KK7: 37694 | KL7: 356786 | KM7: 501056
B8: 横浜市 | C8: 8680 | D8: 11193 | E8: 19873 | F8: 0 | G8: 11130 | H8: 15205 | I8: 9315 | J8: 7453 | K8: 4430 | L8: 47533 | M8: 67406 | N8: 301 | O8: 485 | P8: 786 | Q8: 0 | R8: 417 | S8: 803 | T8: 494 | U8: 404 | V8: 300 | W8: 2418 | X8: 3204 | Y8: 569 | Z8: 938 | AA8: 1507 | AB8: 0 | AC8: 726 | AD8: 1300 | AE8: 803 | AF8: 695 | AG8: 517 | AH8: 4041 | AI8: 5548 | AJ8: 1442 | AK8: 2029 | AL8: 3471 | AM8: 0 | AN8: 1785 | AO8: 2744 | AP8: 1573 | AQ8: 1407 | AR8: 907 | AS8: 8416 | AT8: 11887 | AU8: 2110 | AV8: 2570 | AW8: 4680 | AX8: 0 | AY8: 2567 | AZ8: 3270 | BA8: 1943 | BB8: 1494 | BC8: 901 | BD8: 10175 | BE8: 14855 | BF8: 2482 | BG8: 2900 | BH8: 5382 | BI8: 0 | BJ8: 3066 | BK8: 3691 | BL8: 2242 | BM8: 1679 | BN8: 947 | BO8: 11625 | BP8: 17007 | BQ8: 1776 | BR8: 2271 | BS8: 4047 | BT8: 0 | BU8: 2569 | BV8: 3397 | BW8: 2260 | BX8: 1774 | BY8: 858 | BZ8: 10858 | CA8: 14905 | CB8: 202 | CC8: 434 | CD8: 636 | CE8: 0 | CF8: 249 | CG8: 665 | CH8: 386 | CI8: 367 | CJ8: 366 | CK8: 2033 | CL8: 2669 | CM8: 8882 | CN8: 11627 | CO8: 20509 | CP8: 0 | CQ8: 11379 | CR8: 15870 | CS8: 9701 | CT8: 7820 | CU8: 4796 | CV8: 49566 | CW8: 70075 | CX8: 16474 | CY8: 22886 | CZ8: 39360 | DA8: 0 | DB8: 21567 | DC8: 26919 | DD8: 17684 | DE8: 17146 | DF8: 10536 | DG8: 93852 | DH8: 133212 | DI8: 310 | DJ8: 467 | DK8: 777 | DL8: 0 | DM8: 292 | DN8: 577 | DO8: 292 | DP8: 285 | DQ8: 246 | DR8: 1692 | DS8: 2469 | DT8: 817 | DU8: 1262 | DV8: 2079 | DW8: 0 | DX8: 692 | DY8: 1067 | DZ8: 608 | EA8: 573 | EB8: 443 | EC8: 3383 | ED8: 5462 | EE8: 2505 | EF8: 3444 | EG8: 5949 | EH8: 0 | EI8: 2491 | EJ8: 2997 | EK8: 1712 | EL8: 1581 | EM8: 1194 | EN8: 9975 | EO8: 15924 | EP8: 4680 | EQ8: 5774 | ER8: 10454 | ES8: 0 | ET8: 4847 | EU8: 5233 | EV8: 2991 | EW8: 2717 | EX8: 1827 | EY8: 17615 | EZ8: 28069 | FA8: 5177 | FB8: 6828 | FC8: 12005 | FD8: 0 | FE8: 6786 | FF8: 7571 | FG8: 4634 | FH8: 4253 | FI8: 2598 | FJ8: 25842 | FK8: 37847 | FL8: 2985 | FM8: 5111 | FN8: 8096 | FO8: 0 | FP8: 6459 | FQ8: 9474 | FR8: 7447 | FS8: 7737 | FT8: 4228 | FU8: 35345 | FV8: 43441 | FW8: 161 | FX8: 313 | FY8: 474 | FZ8: 0 | GA8: 206 | GB8: 530 | GC8: 255 | GD8: 262 | GE8: 292 | GF8: 1545 | GG8: 2019 | GH8: 16635 | GI8: 23199 | GJ8: 39834 | GK8: 0 | GL8: 21773 | GM8: 27449 | GN8: 17939 | GO8: 17408 | GP8: 10828 | GQ8: 95397 | GR8: 135231 | GS8: 25154 | GT8: 34079 | GU8: 59233 | GV8: 0 | GW8: 32697 | GX8: 42124 | GY8: 26999 | GZ8: 24599 | HA8: 14966 | HB8: 141385 | HC8: 200618 | HD8: 611 | HE8: 952 | HF8: 1563 | HG8: 0 | HH8: 709 | HI8: 1380 | HJ8: 786 | HK8: 689 | HL8: 546 | HM8: 4110 | HN8: 5673 | HO8: 1386 | HP8: 2200 | HQ8: 3586 | HR8: 0 | HS8: 1418 | HT8: 2367 | HU8: 1411 | HV8: 1268 | HW8: 960 | HX8: 7424 | HY8: 11010 | HZ8: 3947 | IA8: 5473 | IB8: 9420 | IC8: 0 | ID8: 4276 | IE8: 5741 | IF8: 3285 | IG8: 2988 | IH8: 2101 | II8: 18391 | IJ8: 27811 | IK8: 6790 | IL8: 8344 | IM8: 15134 | IN8: 0 | IO8: 7414 | IP8: 8503 | IQ8: 4934 | IR8: 4211 | IS8: 2728 | IT8: 27790 | IU8: 42924 | IV8: 7659 | IW8: 9728 | IX8: 17387 | IY8: 0 | IZ8: 9852 | JA8: 11262 | JB8: 6876 | JC8: 5932 | JD8: 3545 | JE8: 37467 | JF8: 54854 | JG8: 4761 | JH8: 7382 | JI8: 12143 | JJ8: 0 | JK8: 9028 | JL8: 12871 | JM8: 9707 | JN8: 9511 | JO8: 5086 | JP8: 46203 | JQ8: 58346 | JR8: 363 | JS8: 747 | JT8: 1110 | JU8: 0 | JV8: 455 | JW8: 1195 | JX8: 641 | JY8: 629 | JZ8: 658 | KA8: 3578 | KB8: 4688 | KC8: 25517 | KD8: 34826 | KE8: 60343 | KF8: 0 | KG8: 33152 | KH8: 43319 | KI8: 27640 | KJ8: 25228 | KK8: 15624 | KL8: 144963 | KM8: 205306
B9: 川崎市 | C9: 3149 | D9: 2674 | E9: 5823 | F9: 0 | G9: 5556 | H9: 4252 | I9: 2959 | J9: 2385 | K9: 1537 | L9: 16689 | M9: 22512 | N9: 146 | O9: 146 | P9: 292 | Q9: 0 | R9: 261 | S9: 226 | T9: 175 | U9: 167 | V9: 116 | W9: 945 | X9: 1237 | Y9: 250 | Z9: 295 | AA9: 545 | AB9: 0 | AC9: 478 | AD9: 418 | AE9: 265 | AF9: 260 | AG9: 187 | AH9: 1608 | AI9: 2153 | AJ9: 569 | AK9: 493 | AL9: 1062 | AM9: 0 | AN9: 1000 | AO9: 818 | AP9: 552 | AQ9: 443 | AR9: 339 | AS9: 3152 | AT9: 4214 | AU9: 783 | AV9: 605 | AW9: 1388 | AX9: 0 | AY9: 1291 | AZ9: 923 | BA9: 615 | BB9: 519 | BC9: 322 | BD9: 3670 | BE9: 5058 | BF9: 848 | BG9: 672 | BH9: 1520 | BI9: 0 | BJ9: 1400 | BK9: 987 | BL9: 708 | BM9: 506 | BN9: 291 | BO9: 3892 | BP9: 5412 | BQ9: 553 | BR9: 463 | BS9: 1016 | BT9: 0 | BU9: 1126 | BV9: 880 | BW9: 644 | BX9: 490 | BY9: 282 | BZ9: 3422 | CA9: 4438 | CB9: 81 | CC9: 109 | CD9: 190 | CE9: 0 | CF9: 173 | CG9: 210 | CH9: 159 | CI9: 118 | CJ9: 110 | CK9: 770 | CL9: 960 | CM9: 3230 | CN9: 2783 | CO9: 6013 | CP9: 0 | CQ9: 5729 | CR9: 4462 | CS9: 3118 | CT9: 2503 | CU9: 1647 | CV9: 17459 | CW9: 23472 | CX9: 6216 | CY9: 5870 | CZ9: 12086 | DA9: 0 | DB9: 9733 | DC9: 7308 | DD9: 5534 | DE9: 5348 | DF9: 3482 | DG9: 31405 | DH9: 43491 | DI9: 139 | DJ9: 144 | DK9: 283 | DL9: 0 | DM9: 199 | DN9: 152 | DO9: 101 | DP9: 104 | DQ9: 81 | DR9: 637 | DS9: 920 | DT9: 359 | DU9: 320 | DV9: 679 | DW9: 0 | DX9: 395 | DY9: 300 | DZ9: 210 | EA9: 194 | EB9: 177 | EC9: 1276 | ED9: 1955 | EE9: 1027 | EF9: 887 | EG9: 1914 | EH9: 0 | EI9: 1213 | EJ9: 777 | EK9: 521 | EL9: 529 | EM9: 409 | EN9: 3449 | EO9: 5363 | EP9: 1692 | EQ9: 1513 | ER9: 3205 | ES9: 0 | ET9: 2143 | EU9: 1429 | EV9: 923 | EW9: 810 | EX9: 597 | EY9: 5902 | EZ9: 9107 | FA9: 1894 | FB9: 1742 | FC9: 3636 | FD9: 0 | FE9: 2874 | FF9: 1999 | FG9: 1457 | FH9: 1368 | FI9: 825 | FJ9: 8523 | FK9: 12159 | FL9: 1105 | FM9: 1264 | FN9: 2369 | FO9: 0 | FP9: 2909 | FQ9: 2651 | FR9: 2322 | FS9: 2343 | FT9: 1393 | FU9: 11618 | FV9: 13987 | FW9: 63 | FX9: 98 | FY9: 161 | FZ9: 0 | GA9: 131 | GB9: 142 | GC9: 86 | GD9: 96 | GE9: 96 | GF9: 551 | GG9: 712 | GH9: 6279 | GI9: 5968 | GJ9: 12247 | GK9: 0 | GL9: 9864 | GM9: 7450 | GN9: 5620 | GO9: 5444 | GP9: 3578 | GQ9: 31956 | GR9: 44203 | GS9: 9365 | GT9: 8544 | GU9: 17909 | GV9: 0 | GW9: 15289 | GX9: 11560 | GY9: 8493 | GZ9: 7733 | HA9: 5019 | HB9: 48094 | HC9: 66003 | HD9: 285 | HE9: 290 | HF9: 575 | HG9: 0 | HH9: 460 | HI9: 378 | HJ9: 276 | HK9: 271 | HL9: 197 | HM9: 1582 | HN9: 2157 | HO9: 609 | HP9: 615 | HQ9: 1224 | HR9: 0 | HS9: 873 | HT9: 718 | HU9: 475 | HV9: 454 | HW9: 364 | HX9: 2884 | HY9: 4108 | HZ9: 1596 | IA9: 1380 | IB9: 2976 | IC9: 0 | ID9: 2213 | IE9: 1595 | IF9: 1073 | IG9: 972 | IH9: 748 | II9: 6601 | IJ9: 9577 | IK9: 2475 | IL9: 2118 | IM9: 4593 | IN9: 0 | IO9: 3434 | IP9: 2352 | IQ9: 1538 | IR9: 1329 | IS9: 919 | IT9: 9572 | IU9: 14165 | IV9: 2742 | IW9: 2414 | IX9: 5156 | IY9: 0 | IZ9: 4274 | JA9: 2986 | JB9: 2165 | JC9: 1874 | JD9: 1116 | JE9: 12415 | JF9: 17571 | JG9: 1658 | JH9: 1727 | JI9: 3385 | JJ9: 0 | JK9: 4035 | JL9: 3531 | JM9: 2966 | JN9: 2833 | JO9: 1675 | JP9: 15040 | JQ9: 18425 | JR9: 144 | JS9: 207 | JT9: 351 | JU9: 0 | JV9: 304 | JW9: 352 | JX9: 245 | JY9: 214 | JZ9: 206 | KA9: 1321 | KB9: 1672 | KC9: 9509 | KD9: 8751 | KE9: 18260 | KF9: 0 | KG9: 15593 | KH9: 11912 | KI9: 8738 | KJ9: 7947 | KK9: 5225 | KL9: 49415 | KM9: 67675
B10: 相模原市 | C10: 1525 | D10: 2064 | E10: 3589 | F10: 0 | G10: 2443 | H10: 2968 | I10: 2100 | J10: 1624 | K10: 962 | L10: 10097 | M10: 13686 | N10: 57 | O10: 101 | P10: 158 | Q10: 0 | R10: 94 | S10: 138 | T10: 94 | U10: 80 | V10: 75 | W10: 481 | X10: 639 | Y10: 112 | Z10: 216 | AA10: 328 | AB10: 0 | AC10: 164 | AD10: 251 | AE10: 179 | AF10: 149 | AG10: 97 | AH10: 840 | AI10: 1168 | AJ10: 267 | AK10: 376 | AL10: 643 | AM10: 0 | AN10: 404 | AO10: 516 | AP10: 367 | AQ10: 297 | AR10: 217 | AS10: 1801 | AT10: 2444 | AU10: 401 | AV10: 494 | AW10: 895 | AX10: 0 | AY10: 627 | AZ10: 695 | BA10: 479 | BB10: 328 | BC10: 220 | BD10: 2349 | BE10: 3244 | BF10: 438 | BG10: 580 | BH10: 1018 | BI10: 0 | BJ10: 729 | BK10: 795 | BL10: 546 | BM10: 416 | BN10: 204 | BO10: 2690 | BP10: 3708 | BQ10: 250 | BR10: 297 | BS10: 547 | BT10: 0 | BU10: 425 | BV10: 573 | BW10: 435 | BX10: 354 | BY10: 149 | BZ10: 1936 | CA10: 2483 | CB10: 42 | CC10: 96 | CD10: 138 | CE10: 0 | CF10: 43 | CG10: 138 | CH10: 89 | CI10: 80 | CJ10: 53 | CK10: 403 | CL10: 541 | CM10: 1567 | CN10: 2160 | CO10: 3727 | CP10: 0 | CQ10: 2486 | CR10: 3106 | CS10: 2189 | CT10: 1704 | CU10: 1015 | CV10: 10500 | CW10: 14227 | CX10: 2845 | CY10: 4500 | CZ10: 7345 | DA10: 0 | DB10: 4360 | DC10: 4717 | DD10: 3650 | DE10: 3345 | DF10: 2130 | DG10: 18202 | DH10: 25547 | DI10: 55 | DJ10: 107 | DK10: 162 | DL10: 0 | DM10: 82 | DN10: 86 | DO10: 59 | DP10: 77 | DQ10: 55 | DR10: 359 | DS10: 521 | DT10: 158 | DU10: 231 | DV10: 389 | DW10: 0 | DX10: 153 | DY10: 222 | DZ10: 139 | EA10: 123 | EB10: 97 | EC10: 734 | ED10: 1123 | EE10: 472 | EF10: 786 | EG10: 1258 | EH10: 0 | EI10: 577 | EJ10: 626 | EK10: 398 | EL10: 372 | EM10: 262 | EN10: 2235 | EO10: 3493 | EP10: 897 | EQ10: 1265 | ER10: 2162 | ES10: 0 | ET10: 1179 | EU10: 1148 | EV10: 768 | EW10: 616 | EX10: 424 | EY10: 4135 | EZ10: 6297 | FA10: 856 | FB10: 1303 | FC10: 2159 | FD10: 0 | FE10: 1340 | FF10: 1341 | FG10: 951 | FH10: 848 | FI10: 530 | FJ10: 5010 | FK10: 7169 | FL10: 407 | FM10: 808 | FN10: 1215 | FO10: 0 | FP10: 1029 | FQ10: 1294 | FR10: 1335 | FS10: 1309 | FT10: 762 | FU10: 5729 | FV10: 6944 | FW10: 24 | FX10: 88 | FY10: 112 | FZ10: 0 | GA10: 36 | GB10: 95 | GC10: 58 | GD10: 52 | GE10: 45 | GF10: 286 | GG10: 398 | GH10: 2869 | GI10: 4588 | GJ10: 7457 | GK10: 0 | GL10: 4396 | GM10: 4812 | GN10: 3708 | GO10: 3397 | GP10: 2175 | GQ10: 18488 | GR10: 25945 | GS10: 4370 | GT10: 6564 | GU10: 10934 | GV10: 0 | GW10: 6803 | GX10: 7685 | GY10: 5750 | GZ10: 4969 | HA10: 3092 | HB10: 28299 | HC10: 39233 | HD10: 112 | HE10: 208 | HF10: 320 | HG10: 0 | HH10: 176 | HI10: 224 | HJ10: 153 | HK10: 157 | HL10: 130 | HM10: 840 | HN10: 1160 | HO10: 270 | HP10: 447 | HQ10: 717 | HR10: 0 | HS10: 317 | HT10: 473 | HU10: 318 | HV10: 272 | HW10: 194 | HX10: 1574 | HY10: 2291 | HZ10: 739 | IA10: 1162 | IB10: 1901 | IC10: 0 | ID10: 981 | IE10: 1142 | IF10: 765 | IG10: 669 | IH10: 479 | II10: 4036 | IJ10: 5937 | IK10: 1298 | IL10: 1759 | IM10: 3057 | IN10: 0 | IO10: 1806 | IP10: 1843 | IQ10: 1247 | IR10: 944 | IS10: 644 | IT10: 6484 | IU10: 9541 | IV10: 1294 | IW10: 1883 | IX10: 3177 | IY10: 0 | IZ10: 2069 | JA10: 2136 | JB10: 1497 | JC10: 1264 | JD10: 734 | JE10: 7700 | JF10: 10877 | JG10: 657 | JH10: 1105 | JI10: 1762 | JJ10: 0 | JK10: 1454 | JL10: 1867 | JM10: 1770 | JN10: 1663 | JO10: 911 | JP10: 7665 | JQ10: 9427 | JR10: 66 | JS10: 184 | JT10: 250 | JU10: 0 | JV10: 79 | JW10: 233 | JX10: 147 | JY10: 132 | JZ10: 98 | KA10: 689 | KB10: 939 | KC10: 4436 | KD10: 6748 | KE10: 11184 | KF10: 0 | KG10: 6882 | KH10: 7918 | KI10: 5897 | KJ10: 5101 | KK10: 3190 | KL10: 28988 | KM10: 40172
B11: 横須賀市 | C11: 1299 | D11: 966 | E11: 2265 | F11: 0 | G11: 2532 | H11: 1415 | I11: 936 | J11: 840 | K11: 402 | L11: 6125 | M11: 8390 | N11: 44 | O11: 32 | P11: 76 | Q11: 0 | R11: 98 | S11: 56 | T11: 29 | U11: 34 | V11: 34 | W11: 251 | X11: 327 | Y11: 83 | Z11: 71 | AA11: 154 | AB11: 0 | AC11: 185 | AD11: 121 | AE11: 74 | AF11: 88 | AG11: 31 | AH11: 499 | AI11: 653 | AJ11: 194 | AK11: 175 | AL11: 369 | AM11: 0 | AN11: 481 | AO11: 283 | AP11: 164 | AQ11: 139 | AR11: 90 | AS11: 1157 | AT11: 1526 | AU11: 314 | AV11: 223 | AW11: 537 | AX11: 0 | AY11: 586 | AZ11: 274 | BA11: 218 | BB11: 191 | BC11: 87 | BD11: 1356 | BE11: 1893 | BF11: 378 | BG11: 250 | BH11: 628 | BI11: 0 | BJ11: 665 | BK11: 333 | BL11: 228 | BM11: 204 | BN11: 83 | BO11: 1513 | BP11: 2141 | BQ11: 286 | BR11: 215 | BS11: 501 | BT11: 0 | BU11: 517 | BV11: 348 | BW11: 223 | BX11: 184 | BY11: 77 | BZ11: 1349 | CA11: 1850 | CB11: 28 | CC11: 26 | CD11: 54 | CE11: 0 | CF11: 69 | CG11: 60 | CH11: 51 | CI11: 39 | CJ11: 15 | CK11: 234 | CL11: 288 | CM11: 1327 | CN11: 992 | CO11: 2319 | CP11: 0 | CQ11: 2601 | CR11: 1475 | CS11: 987 | CT11: 879 | CU11: 417 | CV11: 6359 | CW11: 8678 | CX11: 2515 | CY11: 2422 | CZ11: 4937 | DA11: 0 | DB11: 4612 | DC11: 2563 | DD11: 2070 | DE11: 2102 | DF11: 1058 | DG11: 12405 | DH11: 17342 | DI11: 54 | DJ11: 53 | DK11: 107 | DL11: 0 | DM11: 73 | DN11: 58 | DO11: 27 | DP11: 29 | DQ11: 31 | DR11: 218 | DS11: 325 | DT11: 125 | DU11: 124 | DV11: 249 | DW11: 0 | DX11: 187 | DY11: 103 | DZ11: 51 | EA11: 72 | EB11: 51 | EC11: 464 | ED11: 713 | EE11: 407 | EF11: 361 | EG11: 768 | EH11: 0 | EI11: 560 | EJ11: 296 | EK11: 222 | EL11: 212 | EM11: 118 | EN11: 1408 | EO11: 2176 | EP11: 718 | EQ11: 635 | ER11: 1353 | ES11: 0 | ET11: 1028 | EU11: 473 | EV11: 353 | EW11: 340 | EX11: 177 | EY11: 2371 | EZ11: 3724 | FA11: 776 | FB11: 745 | FC11: 1521 | FD11: 0 | FE11: 1333 | FF11: 692 | FG11: 538 | FH11: 512 | FI11: 253 | FJ11: 3328 | FK11: 4849 | FL11: 435 | FM11: 504 | FN11: 939 | FO11: 0 | FP11: 1431 | FQ11: 941 | FR11: 879 | FS11: 937 | FT11: 428 | FU11: 4616 | FV11: 5555 | FW11: 16 | FX11: 21 | FY11: 37 | FZ11: 0 | GA11: 74 | GB11: 52 | GC11: 31 | GD11: 39 | GE11: 27 | GF11: 223 | GG11: 260 | GH11: 2531 | GI11: 2443 | GJ11: 4974 | GK11: 0 | GL11: 4686 | GM11: 2615 | GN11: 2101 | GO11: 2141 | GP11: 1085 | GQ11: 12628 | GR11: 17602 | GS11: 3814 | GT11: 3388 | GU11: 7202 | GV11: 0 | GW11: 7144 | GX11: 3978 | GY11: 3006 | GZ11: 2942 | HA11: 1460 | HB11: 18530 | HC11: 25732 | HD11: 98 | HE11: 85 | HF11: 183 | HG11: 0 | HH11: 171 | HI11: 114 | HJ11: 56 | HK11: 63 | HL11: 65 | HM11: 469 | HN11: 652 | HO11: 208 | HP11: 195 | HQ11: 403 | HR11: 0 | HS11: 372 | HT11: 224 | HU11: 125 | HV11: 160 | HW11: 82 | HX11: 963 | HY11: 1366 | HZ11: 601 | IA11: 536 | IB11: 1137 | IC11: 0 | ID11: 1041 | IE11: 579 | IF11: 386 | IG11: 351 | IH11: 208 | II11: 2565 | IJ11: 3702 | IK11: 1032 | IL11: 858 | IM11: 1890 | IN11: 0 | IO11: 1614 | IP11: 747 | IQ11: 571 | IR11: 531 | IS11: 264 | IT11: 3727 | IU11: 5617 | IV11: 1154 | IW11: 995 | IX11: 2149 | IY11: 0 | IZ11: 1998 | JA11: 1025 | JB11: 766 | JC11: 716 | JD11: 336 | JE11: 4841 | JF11: 6990 | JG11: 721 | JH11: 719 | JI11: 1440 | JJ11: 0 | JK11: 1948 | JL11: 1289 | JM11: 1102 | JN11: 1121 | JO11: 505 | JP11: 5965 | JQ11: 7405 | JR11: 44 | JS11: 47 | JT11: 91 | JU11: 0 | JV11: 143 | JW11: 112 | JX11: 82 | JY11: 78 | JZ11: 42 | KA11: 457 | KB11: 548 | KC11: 3858 | KD11: 3435 | KE11: 7293 | KF11: 0 | KG11: 7287 | KH11: 4090 | KI11: 3088 | KJ11: 3020 | KK11: 1502 | KL11: 18987 | KM11: 26280
B12: 平塚市 | C12: 639 | D12: 432 | E12: 1071 | F12: 0 | G12: 1069 | H12: 990 | I12: 763 | J12: 532 | K12: 296 | L12: 3650 | M12: 4721 | N12: 17 | O12: 28 | P12: 45 | Q12: 0 | R12: 45 | S12: 48 | T12: 45 | U12: 25 | V12: 25 | W12: 188 | X12: 233 | Y12: 49 | Z12: 46 | AA12: 95 | AB12: 0 | AC12: 81 | AD12: 100 | AE12: 74 | AF12: 64 | AG12: 34 | AH12: 353 | AI12: 448 | AJ12: 119 | AK12: 80 | AL12: 199 | AM12: 0 | AN12: 203 | AO12: 174 | AP12: 132 | AQ12: 98 | AR12: 57 | AS12: 664 | AT12: 863 | AU12: 173 | AV12: 83 | AW12: 256 | AX12: 0 | AY12: 276 | AZ12: 231 | BA12: 169 | BB12: 103 | BC12: 75 | BD12: 854 | BE12: 1110 | BF12: 178 | BG12: 123 | BH12: 301 | BI12: 0 | BJ12: 264 | BK12: 244 | BL12: 202 | BM12: 132 | BN12: 61 | BO12: 903 | BP12: 1204 | BQ12: 103 | BR12: 72 | BS12: 175 | BT12: 0 | BU12: 200 | BV12: 193 | BW12: 141 | BX12: 110 | BY12: 44 | BZ12: 688 | CA12: 863 | CB12: 14 | CC12: 15 | CD12: 29 | CE12: 0 | CF12: 40 | CG12: 53 | CH12: 24 | CI12: 18 | CJ12: 24 | CK12: 159 | CL12: 188 | CM12: 653 | CN12: 447 | CO12: 1100 | CP12: 0 | CQ12: 1109 | CR12: 1043 | CS12: 787 | CT12: 550 | CU12: 320 | CV12: 3809 | CW12: 4909 | CX12: 1285 | CY12: 1122 | CZ12: 2407 | DA12: 0 | DB12: 1938 | DC12: 1778 | DD12: 1370 | DE12: 1211 | DF12: 761 | DG12: 7058 | DH12: 9465 | DI12: 31 | DJ12: 31 | DK12: 62 | DL12: 0 | DM12: 24 | DN12: 42 | DO12: 21 | DP12: 26 | DQ12: 16 | DR12: 129 | DS12: 191 | DT12: 71 | DU12: 63 | DV12: 134 | DW12: 0 | DX12: 90 | DY12: 90 | DZ12: 49 | EA12: 46 | EB12: 35 | EC12: 310 | ED12: 444 | EE12: 225 | EF12: 175 | EG12: 400 | EH12: 0 | EI12: 247 | EJ12: 184 | EK12: 147 | EL12: 139 | EM12: 86 | EN12: 803 | EO12: 1203 | EP12: 337 | EQ12: 312 | ER12: 649 | ES12: 0 | ET12: 500 | EU12: 362 | EV12: 242 | EW12: 158 | EX12: 161 | EY12: 1423 | EZ12: 2072 | FA12: 406 | FB12: 326 | FC12: 732 | FD12: 0 | FE12: 563 | FF12: 513 | FG12: 352 | FH12: 316 | FI12: 189 | FJ12: 1933 | FK12: 2665 | FL12: 215 | FM12: 215 | FN12: 430 | FO12: 0 | FP12: 514 | FQ12: 587 | FR12: 559 | FS12: 526 | FT12: 274 | FU12: 2460 | FV12: 2890 | FW12: 7 | FX12: 17 | FY12: 24 | FZ12: 0 | GA12: 25 | GB12: 41 | GC12: 23 | GD12: 15 | GE12: 18 | GF12: 122 | GG12: 146 | GH12: 1292 | GI12: 1139 | GJ12: 2431 | GK12: 0 | GL12: 1963 | GM12: 1819 | GN12: 1393 | GO12: 1226 | GP12: 779 | GQ12: 7180 | GR12: 9611 | GS12: 1924 | GT12: 1554 | GU12: 3478 | GV12: 0 | GW12: 3007 | GX12: 2768 | GY12: 2133 | GZ12: 1743 | HA12: 1057 | HB12: 10708 | HC12: 14186 | HD12: 48 | HE12: 59 | HF12: 107 | HG12: 0 | HH12: 69 | HI12: 90 | HJ12: 66 | HK12: 51 | HL12: 41 | HM12: 317 | HN12: 424 | HO12: 120 | HP12: 109 | HQ12: 229 | HR12: 0 | HS12: 171 | HT12: 190 | HU12: 123 | HV12: 110 | HW12: 69 | HX12: 663 | HY12: 892 | HZ12: 344 | IA12: 255 | IB12: 599 | IC12: 0 | ID12: 450 | IE12: 358 | IF12: 279 | IG12: 237 | IH12: 143 | II12: 1467 | IJ12: 2066 | IK12: 510 | IL12: 395 | IM12: 905 | IN12: 0 | IO12: 776 | IP12: 593 | IQ12: 411 | IR12: 261 | IS12: 236 | IT12: 2277 | IU12: 3182 | IV12: 584 | IW12: 449 | IX12: 1033 | IY12: 0 | IZ12: 827 | JA12: 757 | JB12: 554 | JC12: 448 | JD12: 250 | JE12: 2836 | JF12: 3869 | JG12: 318 | JH12: 287 | JI12: 605 | JJ12: 0 | JK12: 714 | JL12: 780 | JM12: 700 | JN12: 636 | JO12: 318 | JP12: 3148 | JQ12: 3753 | JR12: 21 | JS12: 32 | JT12: 53 | JU12: 0 | JV12: 65 | JW12: 94 | JX12: 47 | JY12: 33 | JZ12: 42 | KA12: 281 | KB12: 334 | KC12: 1945 | KD12: 1586 | KE12: 3531 | KF12: 0 | KG12: 3072 | KH12: 2862 | KI12: 2180 | KJ12: 1776 | KK12: 1099 | KL12: 10989 | KM12: 14520
B13: 鎌倉市 | C13: 754 | D13: 424 | E13: 1178 | F13: 0 | G13: 944 | H13: 633 | I13: 485 | J13: 401 | K13: 250 | L13: 2713 | M13: 3891 | N13: 20 | O13: 10 | P13: 30 | Q13: 0 | R13: 31 | S13: 29 | T13: 18 | U13: 14 | V13: 10 | W13: 102 | X13: 132 | Y13: 47 | Z13: 24 | AA13: 71 | AB13: 0 | AC13: 42 | AD13: 39 | AE13: 31 | AF13: 23 | AG13: 16 | AH13: 151 | AI13: 222 | AJ13: 87 | AK13: 59 | AL13: 146 | AM13: 0 | AN13: 117 | AO13: 81 | AP13: 66 | AQ13: 56 | AR13: 39 | AS13: 359 | AT13: 505 | AU13: 179 | AV13: 86 | AW13: 265 | AX13: 0 | AY13: 194 | AZ13: 120 | BA13: 90 | BB13: 79 | BC13: 47 | BD13: 530 | BE13: 795 | BF13: 229 | BG13: 121 | BH13: 350 | BI13: 0 | BJ13: 278 | BK13: 160 | BL13: 129 | BM13: 90 | BN13: 73 | BO13: 730 | BP13: 1080 | BQ13: 192 | BR13: 124 | BS13: 316 | BT13: 0 | BU13: 282 | BV13: 204 | BW13: 151 | BX13: 139 | BY13: 65 | BZ13: 841 | CA13: 1157 | CB13: 2 | CC13: 12 | CD13: 14 | CE13: 0 | CF13: 31 | CG13: 28 | CH13: 13 | CI13: 14 | CJ13: 16 | CK13: 102 | CL13: 116 | CM13: 756 | CN13: 436 | CO13: 1192 | CP13: 0 | CQ13: 975 | CR13: 661 | CS13: 498 | CT13: 415 | CU13: 266 | CV13: 2815 | CW13: 4007 | CX13: 1659 | CY13: 1097 | CZ13: 2756 | DA13: 0 | DB13: 1843 | DC13: 1250 | DD13: 1029 | DE13: 1079 | DF13: 767 | DG13: 5968 | DH13: 8724 | DI13: 23 | DJ13: 19 | DK13: 42 | DL13: 0 | DM13: 28 | DN13: 14 | DO13: 13 | DP13: 15 | DQ13: 9 | DR13: 79 | DS13: 121 | DT13: 69 | DU13: 43 | DV13: 112 | DW13: 0 | DX13: 51 | DY13: 26 | DZ13: 30 | EA13: 21 | EB13: 30 | EC13: 158 | ED13: 270 | EE13: 224 | EF13: 132 | EG13: 356 | EH13: 0 | EI13: 187 | EJ13: 119 | EK13: 62 | EL13: 68 | EM13: 60 | EN13: 496 | EO13: 852 | EP13: 471 | EQ13: 278 | ER13: 749 | ES13: 0 | ET13: 386 | EU13: 214 | EV13: 149 | EW13: 154 | EX13: 114 | EY13: 1017 | EZ13: 1766 | FA13: 552 | FB13: 345 | FC13: 897 | FD13: 0 | FE13: 538 | FF13: 337 | FG13: 249 | FH13: 258 | FI13: 176 | FJ13: 1558 | FK13: 2455 | FL13: 320 | FM13: 280 | FN13: 600 | FO13: 0 | FP13: 653 | FQ13: 540 | FR13: 526 | FS13: 563 | FT13: 378 | FU13: 2660 | FV13: 3260 | FW13: 12 | FX13: 12 | FY13: 24 | FZ13: 0 | GA13: 27 | GB13: 23 | GC13: 10 | GD13: 7 | GE13: 9 | GF13: 76 | GG13: 100 | GH13: 1671 | GI13: 1109 | GJ13: 2780 | GK13: 0 | GL13: 1870 | GM13: 1273 | GN13: 1039 | GO13: 1086 | GP13: 776 | GQ13: 6044 | GR13: 8824 | GS13: 2413 | GT13: 1521 | GU13: 3934 | GV13: 0 | GW13: 2787 | GX13: 1883 | GY13: 1514 | GZ13: 1480 | HA13: 1017 | HB13: 8681 | HC13: 12615 | HD13: 43 | HE13: 29 | HF13: 72 | HG13: 0 | HH13: 59 | HI13: 43 | HJ13: 31 | HK13: 29 | HL13: 19 | HM13: 181 | HN13: 253 | HO13: 116 | HP13: 67 | HQ13: 183 | HR13: 0 | HS13: 93 | HT13: 65 | HU13: 61 | HV13: 44 | HW13: 46 | HX13: 309 | HY13: 492 | HZ13: 311 | IA13: 191 | IB13: 502 | IC13: 0 | ID13: 304 | IE13: 200 | IF13: 128 | IG13: 124 | IH13: 99 | II13: 855 | IJ13: 1357 | IK13: 650 | IL13: 364 | IM13: 1014 | IN13: 0 | IO13: 580 | IP13: 334 | IQ13: 239 | IR13: 233 | IS13: 161 | IT13: 1547 | IU13: 2561 | IV13: 781 | IW13: 466 | IX13: 1247 | IY13: 0 | IZ13: 816 | JA13: 497 | JB13: 378 | JC13: 348 | JD13: 249 | JE13: 2288 | JF13: 3535 | JG13: 512 | JH13: 404 | JI13: 916 | JJ13: 0 | JK13: 935 | JL13: 744 | JM13: 677 | JN13: 702 | JO13: 443 | JP13: 3501 | JQ13: 4417 | JR13: 14 | JS13: 24 | JT13: 38 | JU13: 0 | JV13: 58 | JW13: 51 | JX13: 23 | JY13: 21 | JZ13: 25 | KA13: 178 | KB13: 216 | KC13: 2427 | KD13: 1545 | KE13: 3972 | KF13: 0 | KG13: 2845 | KH13: 1934 | KI13: 1537 | KJ13: 1501 | KK13: 1042 | KL13: 8859 | KM13: 12831
B14: 藤沢市 | C14: 1876 | D14: 1013 | E14: 2889 | F14: 0 | G14: 1948 | H14: 1022 | I14: 714 | J14: 684 | K14: 408 | L14: 4776 | M14: 7665 | N14: 57 | O14: 36 | P14: 93 | Q14: 0 | R14: 76 | S14: 51 | T14: 35 | U14: 33 | V14: 29 | W14: 224 | X14: 317 | Y14: 122 | Z14: 84 | AA14: 206 | AB14: 0 | AC14: 152 | AD14: 81 | AE14: 56 | AF14: 61 | AG14: 42 | AH14: 392 | AI14: 598 | AJ14: 313 | AK14: 184 | AL14: 497 | AM14: 0 | AN14: 320 | AO14: 179 | AP14: 109 | AQ14: 125 | AR14: 97 | AS14: 830 | AT14: 1327 | AU14: 441 | AV14: 213 | AW14: 654 | AX14: 0 | AY14: 458 | AZ14: 213 | BA14: 150 | BB14: 135 | BC14: 84 | BD14: 1040 | BE14: 1694 | BF14: 553 | BG14: 263 | BH14: 816 | BI14: 0 | BJ14: 522 | BK14: 265 | BL14: 186 | BM14: 160 | BN14: 88 | BO14: 1221 | BP14: 2037 | BQ14: 390 | BR14: 233 | BS14: 623 | BT14: 0 | BU14: 420 | BV14: 233 | BW14: 178 | BX14: 170 | BY14: 68 | BZ14: 1069 | CA14: 1692 | CB14: 49 | CC14: 35 | CD14: 84 | CE14: 0 | CF14: 64 | CG14: 45 | CH14: 39 | CI14: 31 | CJ14: 50 | CK14: 229 | CL14: 313 | CM14: 1925 | CN14: 1048 | CO14: 2973 | CP14: 0 | CQ14: 2012 | CR14: 1067 | CS14: 753 | CT14: 715 | CU14: 458 | CV14: 5005 | CW14: 7978 | CX14: 3652 | CY14: 2313 | CZ14: 5965 | DA14: 0 | DB14: 3972 | DC14: 1827 | DD14: 1406 | DE14: 1650 | DF14: 1180 | DG14: 10035 | DH14: 16000 | DI14: 58 | DJ14: 48 | DK14: 106 | DL14: 0 | DM14: 65 | DN14: 27 | DO14: 18 | DP14: 22 | DQ14: 23 | DR14: 155 | DS14: 261 | DT14: 195 | DU14: 112 | DV14: 307 | DW14: 0 | DX14: 153 | DY14: 66 | DZ14: 45 | EA14: 40 | EB14: 51 | EC14: 355 | ED14: 662 | EE14: 568 | EF14: 337 | EG14: 905 | EH14: 0 | EI14: 449 | EJ14: 206 | EK14: 102 | EL14: 146 | EM14: 116 | EN14: 1019 | EO14: 1924 | EP14: 1062 | EQ14: 569 | ER14: 1631 | ES14: 0 | ET14: 825 | EU14: 344 | EV14: 245 | EW14: 260 | EX14: 203 | EY14: 1877 | EZ14: 3508 | FA14: 1106 | FB14: 727 | FC14: 1833 | FD14: 0 | FE14: 1120 | FF14: 490 | FG14: 369 | FH14: 392 | FI14: 302 | FJ14: 2673 | FK14: 4506 | FL14: 663 | FM14: 520 | FN14: 1183 | FO14: 0 | FP14: 1360 | FQ14: 694 | FR14: 627 | FS14: 790 | FT14: 485 | FU14: 3956 | FV14: 5139 | FW14: 38 | FX14: 41 | FY14: 79 | FZ14: 0 | GA14: 61 | GB14: 33 | GC14: 24 | GD14: 20 | GE14: 30 | GF14: 168 | GG14: 247 | GH14: 3690 | GI14: 2354 | GJ14: 6044 | GK14: 0 | GL14: 4033 | GM14: 1860 | GN14: 1430 | GO14: 1670 | GP14: 1210 | GQ14: 10203 | GR14: 16247 | GS14: 5528 | GT14: 3326 | GU14: 8854 | GV14: 0 | GW14: 5920 | GX14: 2849 | GY14: 2120 | GZ14: 2334 | HA14: 1588 | HB14: 14811 | HC14: 23665 | HD14: 115 | HE14: 84 | HF14: 199 | HG14: 0 | HH14: 141 | HI14: 78 | HJ14: 53 | HK14: 55 | HL14: 52 | HM14: 379 | HN14: 578 | HO14: 317 | HP14: 196 | HQ14: 513 | HR14: 0 | HS14: 305 | HT14: 147 | HU14: 101 | HV14: 101 | HW14: 93 | HX14: 747 | HY14: 1260 | HZ14: 881 | IA14: 521 | IB14: 1402 | IC14: 0 | ID14: 769 | IE14: 385 | IF14: 211 | IG14: 271 | IH14: 213 | II14: 1849 | IJ14: 3251 | IK14: 1503 | IL14: 782 | IM14: 2285 | IN14: 0 | IO14: 1283 | IP14: 557 | IQ14: 395 | IR14: 395 | IS14: 287 | IT14: 2917 | IU14: 5202 | IV14: 1659 | IW14: 990 | IX14: 2649 | IY14: 0 | IZ14: 1642 | JA14: 755 | JB14: 555 | JC14: 552 | JD14: 390 | JE14: 3894 | JF14: 6543 | JG14: 1053 | JH14: 753 | JI14: 1806 | JJ14: 0 | JK14: 1780 | JL14: 927 | JM14: 805 | JN14: 960 | JO14: 553 | JP14: 5025 | JQ14: 6831 | JR14: 87 | JS14: 76 | JT14: 163 | JU14: 0 | JV14: 125 | JW14: 78 | JX14: 63 | JY14: 51 | JZ14: 80 | KA14: 397 | KB14: 560 | KC14: 5615 | KD14: 3402 | KE14: 9017 | KF14: 0 | KG14: 6045 | KH14: 2927 | KI14: 2183 | KJ14: 2385 | KK14: 1668 | KL14: 15208 | KM14: 24225
B15: 小田原市 | C15: 465 | D15: 403 | E15: 868 | F15: 0 | G15: 899 | H15: 651 | I15: 511 | J15: 492 | K15: 279 | L15: 2832 | M15: 3700 | N15: 23 | O15: 20 | P15: 43 | Q15: 0 | R15: 44 | S15: 29 | T15: 24 | U15: 17 | V15: 16 | W15: 130 | X15: 173 | Y15: 32 | Z15: 29 | AA15: 61 | AB15: 0 | AC15: 67 | AD15: 54 | AE15: 43 | AF15: 42 | AG15: 30 | AH15: 236 | AI15: 297 | AJ15: 78 | AK15: 83 | AL15: 161 | AM15: 0 | AN15: 148 | AO15: 142 | AP15: 91 | AQ15: 109 | AR15: 54 | AS15: 544 | AT15: 705 | AU15: 111 | AV15: 88 | AW15: 199 | AX15: 0 | AY15: 225 | AZ15: 136 | BA15: 107 | BB15: 97 | BC15: 65 | BD15: 630 | BE15: 829 | BF15: 119 | BG15: 94 | BH15: 213 | BI15: 0 | BJ15: 212 | BK15: 160 | BL15: 121 | BM15: 102 | BN15: 57 | BO15: 652 | BP15: 865 | BQ15: 102 | BR15: 89 | BS15: 191 | BT15: 0 | BU15: 203 | BV15: 130 | BW15: 125 | BX15: 125 | BY15: 57 | BZ15: 640 | CA15: 831 | CB15: 9 | CC15: 10 | CD15: 19 | CE15: 0 | CF15: 34 | CG15: 23 | CH15: 22 | CI15: 18 | CJ15: 18 | CK15: 115 | CL15: 134 | CM15: 474 | CN15: 413 | CO15: 887 | CP15: 0 | CQ15: 933 | CR15: 674 | CS15: 533 | CT15: 510 | CU15: 297 | CV15: 2947 | CW15: 3834 | CX15: 960 | CY15: 879 | CZ15: 1839 | DA15: 0 | DB15: 1813 | DC15: 1232 | DD15: 1039 | DE15: 1073 | DF15: 583 | DG15: 5740 | DH15: 7579 | DI15: 24 | DJ15: 23 | DK15: 47 | DL15: 0 | DM15: 46 | DN15: 19 | DO15: 14 | DP15: 11 | DQ15: 14 | DR15: 104 | DS15: 151 | DT15: 47 | DU15: 37 | DV15: 84 | DW15: 0 | DX15: 84 | DY15: 48 | DZ15: 53 | EA15: 37 | EB15: 26 | EC15: 248 | ED15: 332 | EE15: 137 | EF15: 120 | EG15: 257 | EH15: 0 | EI15: 242 | EJ15: 144 | EK15: 98 | EL15: 96 | EM15: 58 | EN15: 638 | EO15: 895 | EP15: 260 | EQ15: 229 | ER15: 489 | ES15: 0 | ET15: 388 | EU15: 235 | EV15: 172 | EW15: 155 | EX15: 107 | EY15: 1057 | EZ15: 1546 | FA15: 317 | FB15: 270 | FC15: 587 | FD15: 0 | FE15: 535 | FF15: 359 | FG15: 278 | FH15: 266 | FI15: 133 | FJ15: 1571 | FK15: 2158 | FL15: 175 | FM15: 200 | FN15: 375 | FO15: 0 | FP15: 518 | FQ15: 427 | FR15: 424 | FS15: 508 | FT15: 245 | FU15: 2122 | FV15: 2497 | FW15: 10 | FX15: 15 | FY15: 25 | FZ15: 0 | GA15: 23 | GB15: 19 | GC15: 14 | GD15: 20 | GE15: 12 | GF15: 88 | GG15: 113 | GH15: 970 | GI15: 894 | GJ15: 1864 | GK15: 0 | GL15: 1836 | GM15: 1251 | GN15: 1053 | GO15: 1093 | GP15: 595 | GQ15: 5828 | GR15: 7692 | GS15: 1425 | GT15: 1282 | GU15: 2707 | GV15: 0 | GW15: 2712 | GX15: 1883 | GY15: 1550 | GZ15: 1565 | HA15: 862 | HB15: 8572 | HC15: 11279 | HD15: 47 | HE15: 43 | HF15: 90 | HG15: 0 | HH15: 90 | HI15: 48 | HJ15: 38 | HK15: 28 | HL15: 30 | HM15: 234 | HN15: 324 | HO15: 79 | HP15: 66 | HQ15: 145 | HR15: 0 | HS15: 151 | HT15: 102 | HU15: 96 | HV15: 79 | HW15: 56 | HX15: 484 | HY15: 629 | HZ15: 215 | IA15: 203 | IB15: 418 | IC15: 0 | ID15: 390 | IE15: 286 | IF15: 189 | IG15: 205 | IH15: 112 | II15: 1182 | IJ15: 1600 | IK15: 371 | IL15: 317 | IM15: 688 | IN15: 0 | IO15: 613 | IP15: 371 | IQ15: 279 | IR15: 252 | IS15: 172 | IT15: 1687 | IU15: 2375 | IV15: 436 | IW15: 364 | IX15: 800 | IY15: 0 | IZ15: 747 | JA15: 519 | JB15: 399 | JC15: 368 | JD15: 190 | JE15: 2223 | JF15: 3023 | JG15: 277 | JH15: 289 | JI15: 566 | JJ15: 0 | JK15: 721 | JL15: 557 | JM15: 549 | JN15: 633 | JO15: 302 | JP15: 2762 | JQ15: 3328 | JR15: 19 | JS15: 25 | JT15: 44 | JU15: 0 | JV15: 57 | JW15: 42 | JX15: 36 | JY15: 38 | JZ15: 30 | KA15: 203 | KB15: 247 | KC15: 1444 | KD15: 1307 | KE15: 2751 | KF15: 0 | KG15: 2769 | KH15: 1925 | KI15: 1586 | KJ15: 1603 | KK15: 892 | KL15: 8775 | KM15: 11526
B16: 茅ヶ崎市 | C16: 808 | D16: 820 | E16: 1628 | F16: 0 | G16: 827 | H16: 751 | I16: 466 | J16: 487 | K16: 241 | L16: 2772 | M16: 4400 | N16: 21 | O16: 33 | P16: 54 | Q16: 0 | R16: 25 | S16: 31 | T16: 19 | U16: 18 | V16: 17 | W16: 110 | X16: 164 | Y16: 61 | Z16: 63 | AA16: 124 | AB16: 0 | AC16: 42 | AD16: 53 | AE16: 37 | AF16: 36 | AG16: 23 | AH16: 191 | AI16: 315 | AJ16: 123 | AK16: 149 | AL16: 272 | AM16: 0 | AN16: 111 | AO16: 121 | AP16: 51 | AQ16: 93 | AR16: 45 | AS16: 421 | AT16: 693 | AU16: 196 | AV16: 189 | AW16: 385 | AX16: 0 | AY16: 213 | AZ16: 167 | BA16: 113 | BB16: 96 | BC16: 54 | BD16: 643 | BE16: 1028 | BF16: 260 | BG16: 231 | BH16: 491 | BI16: 0 | BJ16: 237 | BK16: 183 | BL16: 116 | BM16: 133 | BN16: 55 | BO16: 724 | BP16: 1215 | BQ16: 147 | BR16: 155 | BS16: 302 | BT16: 0 | BU16: 199 | BV16: 196 | BW16: 130 | BX16: 111 | BY16: 47 | BZ16: 683 | CA16: 985 | CB16: 12 | CC16: 43 | CD16: 55 | CE16: 0 | CF16: 16 | CG16: 34 | CH16: 15 | CI16: 16 | CJ16: 17 | CK16: 98 | CL16: 153 | CM16: 820 | CN16: 863 | CO16: 1683 | CP16: 0 | CQ16: 843 | CR16: 785 | CS16: 481 | CT16: 503 | CU16: 258 | CV16: 2870 | CW16: 4553 | CX16: 1557 | CY16: 1722 | CZ16: 3279 | DA16: 0 | DB16: 1708 | DC16: 1312 | DD16: 993 | DE16: 1147 | DF16: 690 | DG16: 5850 | DH16: 9129 | DI16: 32 | DJ16: 44 | DK16: 76 | DL16: 0 | DM16: 22 | DN16: 19 | DO16: 24 | DP16: 11 | DQ16: 14 | DR16: 90 | DS16: 166 | DT16: 70 | DU16: 85 | DV16: 155 | DW16: 0 | DX16: 43 | DY16: 47 | DZ16: 28 | EA16: 33 | EB16: 23 | EC16: 174 | ED16: 329 | EE16: 236 | EF16: 313 | EG16: 549 | EH16: 0 | EI16: 166 | EJ16: 129 | EK16: 88 | EL16: 119 | EM16: 87 | EN16: 589 | EO16: 1138 | EP16: 436 | EQ16: 398 | ER16: 834 | ES16: 0 | ET16: 390 | EU16: 262 | EV16: 166 | EW16: 154 | EX16: 127 | EY16: 1099 | EZ16: 1933 | FA16: 485 | FB16: 503 | FC16: 988 | FD16: 0 | FE16: 574 | FF16: 362 | FG16: 258 | FH16: 279 | FI16: 160 | FJ16: 1633 | FK16: 2621 | FL16: 298 | FM16: 379 | FN16: 677 | FO16: 0 | FP16: 513 | FQ16: 493 | FR16: 429 | FS16: 551 | FT16: 279 | FU16: 2265 | FV16: 2942 | FW16: 12 | FX16: 25 | FY16: 37 | FZ16: 0 | GA16: 10 | GB16: 22 | GC16: 11 | GD16: 15 | GE16: 9 | GF16: 67 | GG16: 104 | GH16: 1569 | GI16: 1747 | GJ16: 3316 | GK16: 0 | GL16: 1718 | GM16: 1334 | GN16: 1004 | GO16: 1162 | GP16: 699 | GQ16: 5917 | GR16: 9233 | GS16: 2365 | GT16: 2542 | GU16: 4907 | GV16: 0 | GW16: 2535 | GX16: 2063 | GY16: 1459 | GZ16: 1634 | HA16: 931 | HB16: 8622 | HC16: 13529 | HD16: 53 | HE16: 77 | HF16: 130 | HG16: 0 | HH16: 47 | HI16: 50 | HJ16: 43 | HK16: 29 | HL16: 31 | HM16: 200 | HN16: 330 | HO16: 131 | HP16: 148 | HQ16: 279 | HR16: 0 | HS16: 85 | HT16: 100 | HU16: 65 | HV16: 69 | HW16: 46 | HX16: 365 | HY16: 644 | HZ16: 359 | IA16: 462 | IB16: 821 | IC16: 0 | ID16: 277 | IE16: 250 | IF16: 139 | IG16: 212 | IH16: 132 | II16: 1010 | IJ16: 1831 | IK16: 632 | IL16: 587 | IM16: 1219 | IN16: 0 | IO16: 603 | IP16: 429 | IQ16: 279 | IR16: 250 | IS16: 181 | IT16: 1742 | IU16: 2961 | IV16: 745 | IW16: 734 | IX16: 1479 | IY16: 0 | IZ16: 811 | JA16: 545 | JB16: 374 | JC16: 412 | JD16: 215 | JE16: 2357 | JF16: 3836 | JG16: 445 | JH16: 534 | JI16: 979 | JJ16: 0 | JK16: 712 | JL16: 689 | JM16: 559 | JN16: 662 | JO16: 326 | JP16: 2948 | JQ16: 3927 | JR16: 24 | JS16: 68 | JT16: 92 | JU16: 0 | JV16: 26 | JW16: 56 | JX16: 26 | JY16: 31 | JZ16: 26 | KA16: 165 | KB16: 257 | KC16: 2389 | KD16: 2610 | KE16: 4999 | KF16: 0 | KG16: 2561 | KH16: 2119 | KI16: 1485 | KJ16: 1665 | KK16: 957 | KL16: 8787 | KM16: 13786
B17: 逗子市 | C17: 160 | D17: 154 | E17: 314 | F17: 0 | G17: 321 | H17: 287 | I17: 188 | J17: 147 | K17: 87 | L17: 1030 | M17: 1344 | N17: 4 | O17: 4 | P17: 8 | Q17: 0 | R17: 9 | S17: 9 | T17: 8 | U17: 3 | V17: 7 | W17: 36 | X17: 44 | Y17: 11 | Z17: 3 | AA17: 14 | AB17: 0 | AC17: 30 | AD17: 21 | AE17: 3 | AF17: 18 | AG17: 7 | AH17: 79 | AI17: 93 | AJ17: 20 | AK17: 26 | AL17: 46 | AM17: 0 | AN17: 45 | AO17: 39 | AP17: 28 | AQ17: 16 | AR17: 14 | AS17: 142 | AT17: 188 | AU17: 45 | AV17: 36 | AW17: 81 | AX17: 0 | AY17: 69 | AZ17: 60 | BA17: 39 | BB17: 27 | BC17: 18 | BD17: 213 | BE17: 294 | BF17: 44 | BG17: 41 | BH17: 85 | BI17: 0 | BJ17: 88 | BK17: 68 | BL17: 59 | BM17: 39 | BN17: 18 | BO17: 272 | BP17: 357 | BQ17: 36 | BR17: 44 | BS17: 80 | BT17: 0 | BU17: 80 | BV17: 90 | BW17: 51 | BX17: 44 | BY17: 23 | BZ17: 288 | CA17: 368 | CB17: 3 | CC17: 3 | CD17: 6 | CE17: 0 | CF17: 8 | CG17: 15 | CH17: 4 | CI17: 3 | CJ17: 11 | CK17: 41 | CL17: 47 | CM17: 163 | CN17: 157 | CO17: 320 | CP17: 0 | CQ17: 329 | CR17: 302 | CS17: 192 | CT17: 150 | CU17: 98 | CV17: 1071 | CW17: 1391 | CX17: 413 | CY17: 450 | CZ17: 863 | DA17: 0 | DB17: 623 | DC17: 552 | DD17: 356 | DE17: 375 | DF17: 273 | DG17: 2179 | DH17: 3042 | DI17: 2 | DJ17: 5 | DK17: 7 | DL17: 0 | DM17: 11 | DN17: 6 | DO17: 3 | DP17: 3 | DQ17: 8 | DR17: 31 | DS17: 38 | DT17: 14 | DU17: 15 | DV17: 29 | DW17: 0 | DX17: 20 | DY17: 21 | DZ17: 6 | EA17: 13 | EB17: 7 | EC17: 67 | ED17: 96 | EE17: 53 | EF17: 52 | EG17: 105 | EH17: 0 | EI17: 53 | EJ17: 55 | EK17: 29 | EL17: 27 | EM17: 26 | EN17: 190 | EO17: 295 | EP17: 109 | EQ17: 118 | ER17: 227 | ES17: 0 | ET17: 143 | EU17: 94 | EV17: 51 | EW17: 55 | EX17: 41 | EY17: 384 | EZ17: 611 | FA17: 141 | FB17: 148 | FC17: 289 | FD17: 0 | FE17: 196 | FF17: 143 | FG17: 83 | FH17: 84 | FI17: 70 | FJ17: 576 | FK17: 865 | FL17: 94 | FM17: 112 | FN17: 206 | FO17: 0 | FP17: 200 | FQ17: 233 | FR17: 184 | FS17: 193 | FT17: 121 | FU17: 931 | FV17: 1137 | FW17: 2 | FX17: 0 | FY17: 2 | FZ17: 0 | GA17: 12 | GB17: 7 | GC17: 7 | GD17: 3 | GE17: 6 | GF17: 35 | GG17: 37 | GH17: 415 | GI17: 450 | GJ17: 865 | GK17: 0 | GL17: 635 | GM17: 559 | GN17: 363 | GO17: 378 | GP17: 279 | GQ17: 2214 | GR17: 3079 | GS17: 573 | GT17: 604 | GU17: 1177 | GV17: 0 | GW17: 944 | GX17: 839 | GY17: 544 | GZ17: 522 | HA17: 360 | HB17: 3209 | HC17: 4386 | HD17: 6 | HE17: 9 | HF17: 15 | HG17: 0 | HH17: 20 | HI17: 15 | HJ17: 11 | HK17: 6 | HL17: 15 | HM17: 67 | HN17: 82 | HO17: 25 | HP17: 18 | HQ17: 43 | HR17: 0 | HS17: 50 | HT17: 42 | HU17: 9 | HV17: 31 | HW17: 14 | HX17: 146 | HY17: 189 | HZ17: 73 | IA17: 78 | IB17: 151 | IC17: 0 | ID17: 98 | IE17: 94 | IF17: 57 | IG17: 43 | IH17: 40 | II17: 332 | IJ17: 483 | IK17: 154 | IL17: 154 | IM17: 308 | IN17: 0 | IO17: 212 | IP17: 154 | IQ17: 90 | IR17: 82 | IS17: 59 | IT17: 597 | IU17: 905 | IV17: 185 | IW17: 189 | IX17: 374 | IY17: 0 | IZ17: 284 | JA17: 211 | JB17: 142 | JC17: 123 | JD17: 88 | JE17: 848 | JF17: 1222 | JG17: 130 | JH17: 156 | JI17: 286 | JJ17: 0 | JK17: 280 | JL17: 323 | JM17: 235 | JN17: 237 | JO17: 144 | JP17: 1219 | JQ17: 1505 | JR17: 5 | JS17: 3 | JT17: 8 | JU17: 0 | JV17: 20 | JW17: 22 | JX17: 11 | JY17: 6 | JZ17: 17 | KA17: 76 | KB17: 84 | KC17: 578 | KD17: 607 | KE17: 1185 | KF17: 0 | KG17: 964 | KH17: 861 | KI17: 555 | KJ17: 528 | KK17: 377 | KL17: 3285 | KM17: 4470
B18: 三浦市 | C18: 140 | D18: 145 | E18: 285 | F18: 0 | G18: 247 | H18: 253 | I18: 169 | J18: 149 | K18: 69 | L18: 887 | M18: 1172 | N18: 6 | O18: 7 | P18: 13 | Q18: 0 | R18: 5 | S18: 14 | T18: 7 | U18: 10 | V18: 4 | W18: 40 | X18: 53 | Y18: 15 | Z18: 9 | AA18: 24 | AB18: 0 | AC18: 25 | AD18: 23 | AE18: 13 | AF18: 18 | AG18: 4 | AH18: 83 | AI18: 107 | AJ18: 32 | AK18: 38 | AL18: 70 | AM18: 0 | AN18: 51 | AO18: 50 | AP18: 34 | AQ18: 23 | AR18: 12 | AS18: 170 | AT18: 240 | AU18: 37 | AV18: 26 | AW18: 63 | AX18: 0 | AY18: 51 | AZ18: 63 | BA18: 41 | BB18: 28 | BC18: 19 | BD18: 202 | BE18: 265 | BF18: 30 | BG18: 41 | BH18: 71 | BI18: 0 | BJ18: 66 | BK18: 50 | BL18: 39 | BM18: 32 | BN18: 16 | BO18: 203 | BP18: 274 | BQ18: 20 | BR18: 24 | BS18: 44 | BT18: 0 | BU18: 49 | BV18: 53 | BW18: 35 | BX18: 38 | BY18: 14 | BZ18: 189 | CA18: 233 | CB18: 1 | CC18: 3 | CD18: 4 | CE18: 0 | CF18: 11 | CG18: 6 | CH18: 5 | CI18: 6 | CJ18: 10 | CK18: 38 | CL18: 42 | CM18: 141 | CN18: 148 | CO18: 289 | CP18: 0 | CQ18: 258 | CR18: 259 | CS18: 174 | CT18: 155 | CU18: 79 | CV18: 925 | CW18: 1214 | CX18: 312 | CY18: 372 | CZ18: 684 | DA18: 0 | DB18: 466 | DC18: 495 | DD18: 340 | DE18: 316 | DF18: 167 | DG18: 1784 | DH18: 2468 | DI18: 6 | DJ18: 6 | DK18: 12 | DL18: 0 | DM18: 8 | DN18: 14 | DO18: 5 | DP18: 1 | DQ18: 3 | DR18: 31 | DS18: 43 | DT18: 21 | DU18: 20 | DV18: 41 | DW18: 0 | DX18: 21 | DY18: 26 | DZ18: 15 | EA18: 13 | EB18: 10 | EC18: 85 | ED18: 126 | EE18: 69 | EF18: 63 | EG18: 132 | EH18: 0 | EI18: 65 | EJ18: 65 | EK18: 37 | EL18: 33 | EM18: 15 | EN18: 215 | EO18: 347 | EP18: 92 | EQ18: 91 | ER18: 183 | ES18: 0 | ET18: 111 | EU18: 99 | EV18: 50 | EW18: 55 | EX18: 30 | EY18: 345 | EZ18: 528 | FA18: 80 | FB18: 119 | FC18: 199 | FD18: 0 | FE18: 138 | FF18: 132 | FG18: 97 | FH18: 67 | FI18: 45 | FJ18: 479 | FK18: 678 | FL18: 44 | FM18: 73 | FN18: 117 | FO18: 0 | FP18: 123 | FQ18: 159 | FR18: 136 | FS18: 147 | FT18: 64 | FU18: 629 | FV18: 746 | FW18: 2 | FX18: 4 | FY18: 6 | FZ18: 0 | GA18: 2 | GB18: 13 | GC18: 5 | GD18: 2 | GE18: 3 | GF18: 25 | GG18: 31 | GH18: 314 | GI18: 376 | GJ18: 690 | GK18: 0 | GL18: 468 | GM18: 508 | GN18: 345 | GO18: 318 | GP18: 170 | GQ18: 1809 | GR18: 2499 | GS18: 452 | GT18: 517 | GU18: 969 | GV18: 0 | GW18: 713 | GX18: 748 | GY18: 509 | GZ18: 465 | HA18: 236 | HB18: 2671 | HC18: 3640 | HD18: 12 | HE18: 13 | HF18: 25 | HG18: 0 | HH18: 13 | HI18: 28 | HJ18: 12 | HK18: 11 | HL18: 7 | HM18: 71 | HN18: 96 | HO18: 36 | HP18: 29 | HQ18: 65 | HR18: 0 | HS18: 46 | HT18: 49 | HU18: 28 | HV18: 31 | HW18: 14 | HX18: 168 | HY18: 233 | HZ18: 101 | IA18: 101 | IB18: 202 | IC18: 0 | ID18: 116 | IE18: 115 | IF18: 71 | IG18: 56 | IH18: 27 | II18: 385 | IJ18: 587 | IK18: 129 | IL18: 117 | IM18: 246 | IN18: 0 | IO18: 162 | IP18: 162 | IQ18: 91 | IR18: 83 | IS18: 49 | IT18: 547 | IU18: 793 | IV18: 110 | IW18: 160 | IX18: 270 | IY18: 0 | IZ18: 204 | JA18: 182 | JB18: 136 | JC18: 99 | JD18: 61 | JE18: 682 | JF18: 952 | JG18: 64 | JH18: 97 | JI18: 161 | JJ18: 0 | JK18: 172 | JL18: 212 | JM18: 171 | JN18: 185 | JO18: 78 | JP18: 818 | JQ18: 979 | JR18: 3 | JS18: 7 | JT18: 10 | JU18: 0 | JV18: 13 | JW18: 19 | JX18: 10 | JY18: 8 | JZ18: 13 | KA18: 63 | KB18: 73 | KC18: 455 | KD18: 524 | KE18: 979 | KF18: 0 | KG18: 726 | KH18: 767 | KI18: 519 | KJ18: 473 | KK18: 249 | KL18: 2734 | KM18: 3713
... B40: 清川村 | C40: 4 | D40: 1 | E40: 5 | F40: 0 | G40: 15 | H40: 13 | I40: 10 | J40: 6 | K40: 3 | L40: 47 | M40: 52 | N40: 0 | O40: 0 | P40: 0 | Q40: 0 | R40: 1 | S40: 1 | T40: 0 | U40: 0 | V40: 0 | W40: 2 | X40: 2 | Y40: 1 | Z40: 0 | AA40: 1 | AB40: 0 | AC40: 3 | AD40: 1 | AE40: 0 | AF40: 2 | AG40: 1 | AH40: 7 | AI40: 8 | AJ40: 0 | AK40: 1 | AL40: 1 | AM40: 0 | AN40: 0 | AO40: 3 | AP40: 4 | AQ40: 0 | AR40: 1 | AS40: 8 | AT40: 9 | AU40: 1 | AV40: 0 | AW40: 1 | AX40: 0 | AY40: 4 | AZ40: 3 | BA40: 1 | BB40: 2 | BC40: 0 | BD40: 10 | BE40: 11 | BF40: 2 | BG40: 0 | BH40: 2 | BI40: 0 | BJ40: 5 | BK40: 3 | BL40: 2 | BM40: 0 | BN40: 0 | BO40: 10 | BP40: 12 | BQ40: 0 | BR40: 0 | BS40: 0 | BT40: 0 | BU40: 2 | BV40: 2 | BW40: 3 | BX40: 2 | BY40: 1 | BZ40: 10 | CA40: 10 | CB40: 0 | CC40: 0 | CD40: 0 | CE40: 0 | CF40: 0 | CG40: 1 | CH40: 0 | CI40: 3 | CJ40: 0 | CK40: 4 | CL40: 4 | CM40: 4 | CN40: 1 | CO40: 5 | CP40: 0 | CQ40: 15 | CR40: 14 | CS40: 10 | CT40: 9 | CU40: 3 | CV40: 51 | CW40: 56 | CX40: 8 | CY40: 3 | CZ40: 11 | DA40: 0 | DB40: 19 | DC40: 24 | DD40: 14 | DE40: 21 | DF40: 14 | DG40: 92 | DH40: 103 | DI40: 0 | DJ40: 0 | DK40: 0 | DL40: 0 | DM40: 0 | DN40: 0 | DO40: 0 | DP40: 0 | DQ40: 1 | DR40: 1 | DS40: 1 | DT40: 0 | DU40: 0 | DV40: 0 | DW40: 0 | DX40: 0 | DY40: 1 | DZ40: 1 | EA40: 2 | EB40: 0 | EC40: 4 | ED40: 4 | EE40: 2 | EF40: 0 | EG40: 2 | EH40: 0 | EI40: 0 | EJ40: 4 | EK40: 1 | EL40: 1 | EM40: 2 | EN40: 8 | EO40: 10 | EP40: 0 | EQ40: 2 | ER40: 2 | ES40: 0 | ET40: 4 | EU40: 6 | EV40: 1 | EW40: 2 | EX40: 2 | EY40: 15 | EZ40: 17 | FA40: 4 | FB40: 1 | FC40: 5 | FD40: 0 | FE40: 6 | FF40: 5 | FG40: 3 | FH40: 8 | FI40: 3 | FJ40: 25 | FK40: 30 | FL40: 2 | FM40: 0 | FN40: 2 | FO40: 0 | FP40: 9 | FQ40: 8 | FR40: 8 | FS40: 8 | FT40: 6 | FU40: 39 | FV40: 41 | FW40: 0 | FX40: 0 | FY40: 0 | FZ40: 0 | GA40: 0 | GB40: 1 | GC40: 0 | GD40: 0 | GE40: 0 | GF40: 1 | GG40: 1 | GH40: 8 | GI40: 3 | GJ40: 11 | GK40: 0 | GL40: 19 | GM40: 25 | GN40: 14 | GO40: 21 | GP40: 14 | GQ40: 93 | GR40: 104 | GS40: 12 | GT40: 4 | GU40: 16 | GV40: 0 | GW40: 34 | GX40: 37 | GY40: 24 | GZ40: 27 | HA40: 17 | HB40: 139 | HC40: 155 | HD40: 0 | HE40: 0 | HF40: 0 | HG40: 0 | HH40: 1 | HI40: 1 | HJ40: 0 | HK40: 0 | HL40: 1 | HM40: 3 | HN40: 3 | HO40: 1 | HP40: 0 | HQ40: 1 | HR40: 0 | HS40: 3 | HT40: 2 | HU40: 1 | HV40: 4 | HW40: 1 | HX40: 11 | HY40: 12 | HZ40: 2 | IA40: 1 | IB40: 3 | IC40: 0 | ID40: 0 | IE40: 7 | IF40: 5 | IG40: 1 | IH40: 3 | II40: 16 | IJ40: 19 | IK40: 1 | IL40: 2 | IM40: 3 | IN40: 0 | IO40: 8 | IP40: 9 | IQ40: 2 | IR40: 4 | IS40: 2 | IT40: 25 | IU40: 28 | IV40: 6 | IW40: 1 | IX40: 7 | IY40: 0 | IZ40: 11 | JA40: 8 | JB40: 5 | JC40: 8 | JD40: 3 | JE40: 35 | JF40: 42 | JG40: 2 | JH40: 0 | JI40: 2 | JJ40: 0 | JK40: 11 | JL40: 10 | JM40: 11 | JN40: 10 | JO40: 7 | JP40: 49 | JQ40: 51 | JR40: 0 | JS40: 0 | JT40: 0 | JU40: 0 | JV40: 0 | JW40: 2 | JX40: 0 | JY40: 3 | JZ40: 0 | KA40: 5 | KB40: 5 | KC40: 12 | KD40: 4 | KE40: 16 | KF40: 0 | KG40: 34 | KH40: 39 | KI40: 24 | KJ40: 30 | KK40: 17 | KL40: 144 | KM40: 160

Sheet 第２-2表
B1: 要介護（要支援）認定者数（人） | F1: =第１表!F2 -> 8 | H1: =第１表!G2 -> 7 | I1: =H1 -> 7
B2: ②総数（再掲：第1号被保険者の2割負担対象者分）
B3: 区分 | C3: 男 | CX3: 女 | GS3: 計
C4: 第１号被保険者 | CB4: 第２号被保険者 | CM4: 総数 | CX4: 第１号被保険者 | FW4: 第２号被保険者 | GH4: 総数 | GS4: 第１号被保険者 | JR4: 第２号被保険者 | KC4: 総数
N5: ６５歳以上７０歳未満 | Y5: ７０歳以上７５歳未満 | AJ5: ７５歳以上８０歳未満 | AU5: ８０歳以上８５歳未満 | BF5: ８５歳以上９０歳未満 | BQ5: ９０歳以上 | DI5: ６５歳以上７０歳未満 | DT5: ７０歳以上７５歳未満 | EE5: ７５歳以上８０歳未満 | EP5: ８０歳以上８５歳未満 | FA5: ８５歳以上９０歳未満 | FL5: ９０歳以上 | HD5: ６５歳以上７０歳未満 | HO5: ７０歳以上７５歳未満 | HZ5: ７５歳以上８０歳未満 | IK5: ８０歳以上８５歳未満 | IV5: ８５歳以上９０歳未満 | JG5: ９０歳以上
B6: 市町村名 | C6: 要支援１ | D6: 要支援２ | E6: 計 | F6: 経過的 要介護 | G6: 要介護１ | H6: 要介護２ | I6: 要介護３ | J6: 要介護４ | K6: 要介護５ | L6: 計 | M6: 合計 | N6: 要支援１ | O6: 要支援２ | P6: 計 | Q6: 経過的 要介護 | R6: 要介護１ | S6: 要介護２ | T6: 要介護３ | U6: 要介護４ | V6: 要介護５ | W6: 計 | X6: 合計 | Y6: 要支援１ | Z6: 要支援２ | AA6: 計 | AB6: 経過的 要介護 | AC6: 要介護１ | AD6: 要介護２ | AE6: 要介護３ | AF6: 要介護４ | AG6: 要介護５ | AH6: 計 | AI6: 合計 | AJ6: 要支援１ | AK6: 要支援２ | AL6: 計 | AM6: 経過的 要介護 | AN6: 要介護１ | AO6: 要介護２ | AP6: 要介護３ | AQ6: 要介護４ | AR6: 要介護５ | AS6: 計 | AT6: 合計 | AU6: 要支援１ | AV6: 要支援２ | AW6: 計 | AX6: 経過的 要介護 | AY6: 要介護１ | AZ6: 要介護２ | BA6: 要介護３ | BB6: 要介護４ | BC6: 要介護５ | BD6: 計 | BE6: 合計 | BF6: 要支援１ | BG6: 要支援２ | BH6: 計 | BI6: 経過的 要介護 | BJ6: 要介護１ | BK6: 要介護２ | BL6: 要介護３ | BM6: 要介護４ | BN6: 要介護５ | BO6: 計 | BP6: 合計 | BQ6: 要支援１ | BR6: 要支援２ | BS6: 計 | BT6: 経過的 要介護 | BU6: 要介護１ | BV6: 要介護２ | BW6: 要介護３ | BX6: 要介護４ | BY6: 要介護５ | BZ6: 計 | CA6: 合計 | CB6: 要支援１ | CC6: 要支援２ | CD6: 計 | CE6: 経過的 要介護 | CF6: 要介護１ | CG6: 要介護２ | CH6: 要介護３ | CI6: 要介護４ | CJ6: 要介護５ | CK6: 計 | CL6: 合計 | CM6: 要支援１ | CN6: 要支援２ | CO6: 計 | CP6: 経過的 要介護 | CQ6: 要介護１ | CR6: 要介護２ | CS6: 要介護３ | CT6: 要介護４ | CU6: 要介護５ | CV6: 計 | CW6: 合計 | CX6: 要支援１ | CY6: 要支援２ | CZ6: 計 | DA6: 経過的 要介護 | DB6: 要介護１ | DC6: 要介護２ | DD6: 要介護３ | DE6: 要介護４ | DF6: 要介護５ | DG6: 計 | DH6: 合計 | DI6: 要支援１ | DJ6: 要支援２ | DK6: 計 | DL6: 経過的 要介護 | DM6: 要介護１ | DN6: 要介護２ | DO6: 要介護３ | DP6: 要介護４ | DQ6: 要介護５ | DR6: 計 | DS6: 合計 | DT6: 要支援１ | DU6: 要支援２ | DV6: 計 | DW6: 経過的 要介護 | DX6: 要介護１ | DY6: 要介護２ | DZ6: 要介護３ | EA6: 要介護４ | EB6: 要介護５ | EC6: 計 | ED6: 合計 | EE6: 要支援１ | EF6: 要支援２ | EG6: 計 | EH6: 経過的 要介護 | EI6: 要介護１ | EJ6: 要介護２ | EK6: 要介護３ | EL6: 要介護４ | EM6: 要介護５ | EN6: 計 | EO6: 合計 | EP6: 要支援１ | EQ6: 要支援２ | ER6: 計 | ES6: 経過的 要介護 | ET6: 要介護１ | EU6: 要介護２ | EV6: 要介護３ | EW6: 要介護４ | EX6: 要介護５ | EY6: 計 | EZ6: 合計 | FA6: 要支援１ | FB6: 要支援２ | FC6: 計 | FD6: 経過的 要介護 | FE6: 要介護１ | FF6: 要介護２ | FG6: 要介護３ | FH6: 要介護４ | FI6: 要介護５ | FJ6: 計 | FK6: 合計 | FL6: 要支援１ | FM6: 要支援２ | FN6: 計 | FO6: 経過的 要介護 | FP6: 要介護１ | FQ6: 要介護２ | FR6: 要介護３ | FS6: 要介護４ | FT6: 要介護５ | FU6: 計 | FV6: 合計 | FW6: 要支援１ | FX6: 要支援２ | FY6: 計 | FZ6: 経過的 要介護 | GA6: 要介護１ | GB6: 要介護２ | GC6: 要介護３ | GD6: 要介護４ | GE6: 要介護５ | GF6: 計 | GG6: 合計 | GH6: 要支援１ | GI6: 要支援２ | GJ6: 計 | GK6: 経過的 要介護 | GL6: 要介護１ | GM6: 要介護２ | GN6: 要介護３ | GO6: 要介護４ | GP6: 要介護５ | GQ6: 計 | GR6: 合計 | GS6: 要支援１ | GT6: 要支援２ | GU6: 計 | GV6: 経過的 要介護 | GW6: 要介護１ | GX6: 要介護２ | GY6: 要介護３ | GZ6: 要介護４ | HA6: 要介護５ | HB6: 計 | HC6: 合計 | HD6: 要支援１ | HE6: 要支援２ | HF6: 計 | HG6: 経過的 要介護 | HH6: 要介護１ | HI6: 要介護２ | HJ6: 要介護３ | HK6: 要介護４ | HL6: 要介護５ | HM6: 計 | HN6: 合計 | HO6: 要支援１ | HP6: 要支援２ | HQ6: 計 | HR6: 経過的 要介護 | HS6: 要介護１ | HT6: 要介護２ | HU6: 要介護３ | HV6: 要介護４ | HW6: 要介護５ | HX6: 計 | HY6: 合計 | HZ6: 要支援１ | IA6: 要支援２ | IB6: 計 | IC6: 経過的 要介護 | ID6: 要介護１ | IE6: 要介護２ | IF6: 要介護３ | IG6: 要介護４ | IH6: 要介護５ | II6: 計 | IJ6: 合計 | IK6: 要支援１ | IL6: 要支援２ | IM6: 計 | IN6: 経過的 要介護 | IO6: 要介護１ | IP6: 要介護２ | IQ6: 要介護３ | IR6: 要介護４ | IS6: 要介護５ | IT6: 計 | IU6: 合計 | IV6: 要支援１ | IW6: 要支援２ | IX6: 計 | IY6: 経過的 要介護 | IZ6: 要介護１ | JA6: 要介護２ | JB6: 要介護３ | JC6: 要介護４ | JD6: 要介護５ | JE6: 計 | JF6: 合計 | JG6: 要支援１ | JH6: 要支援２ | JI6: 計 | JJ6: 経過的 要介護 | JK6: 要介護１ | JL6: 要介護２ | JM6: 要介護３ | JN6: 要介護４ | JO6: 要介護５ | JP6: 計 | JQ6: 合計 | JR6: 要支援１ | JS6: 要支援２ | JT6: 計 | JU6: 経過的 要介護 | JV6: 要介護１ | JW6: 要介護２ | JX6: 要介護３ | JY6: 要介護４ | JZ6: 要介護５ | KA6: 計 | KB6: 合計 | KC6: 要支援１ | KD6: 要支援２ | KE6: 計 | KF6: 経過的 要介護 | KG6: 要介護１ | KH6: 要介護２ | KI6: 要介護３ | KJ6: 要介護４ | KK6: 要介護５ | KL6: 計 | KM6: 合計
B7: 神奈川県 | C7: 4878 | D7: 4773 | E7: 9651 | F7: 0 | G7: 6702 | H7: 6034 | I7: 3764 | J7: 3000 | K7: 1682 | L7: 21182 | M7: 30833 | N7: 52 | O7: 66 | P7: 118 | Q7: 0 | R7: 76 | S7: 85 | T7: 58 | U7: 49 | V7: 35 | W7: 303 | X7: 421 | Y7: 170 | Z7: 198 | AA7: 368 | AB7: 0 | AC7: 222 | AD7: 245 | AE7: 137 | AF7: 128 | AG7: 101 | AH7: 833 | AI7: 1201 | AJ7: 478 | AK7: 474 | AL7: 952 | AM7: 0 | AN7: 576 | AO7: 551 | AP7: 319 | AQ7: 287 | AR7: 182 | AS7: 1915 | AT7: 2867 | AU7: 909 | AV7: 847 | AW7: 1756 | AX7: 0 | AY7: 1177 | AZ7: 950 | BA7: 570 | BB7: 456 | BC7: 293 | BD7: 3446 | BE7: 5202 | BF7: 1558 | BG7: 1494 | BH7: 3052 | BI7: 0 | BJ7: 2137 | BK7: 1753 | BL7: 1062 | BM7: 787 | BN7: 479 | BO7: 6218 | BP7: 9270 | BQ7: 1711 | BR7: 1694 | BS7: 3405 | BT7: 0 | BU7: 2514 | BV7: 2450 | BW7: 1618 | BX7: 1293 | BY7: 592 | BZ7: 8467 | CA7: 11872 | CB7: 0 | CC7: 0 | CD7: 0 | CE7: 0 | CF7: 0 | CG7: 0 | CH7: 0 | CI7: 0 | CJ7: 0 | CK7: 0 | CL7: 0 | CM7: 4878 | CN7: 4773 | CO7: 9651 | CP7: 0 | CQ7: 6702 | CR7: 6034 | CS7: 3764 | CT7: 3000 | CU7: 1682 | CV7: 21182 | CW7: 30833 | CX7: 817 | CY7: 868 | CZ7: 1685 | DA7: 0 | DB7: 972 | DC7: 899 | DD7: 604 | DE7: 627 | DF7: 399 | DG7: 3501 | DH7: 5186 | DI7: 25 | DJ7: 45 | DK7: 70 | DL7: 0 | DM7: 19 | DN7: 14 | DO7: 8 | DP7: 9 | DQ7: 12 | DR7: 62 | DS7: 132 | DT7: 52 | DU7: 55 | DV7: 107 | DW7: 0 | DX7: 42 | DY7: 30 | DZ7: 27 | EA7: 22 | EB7: 18 | EC7: 139 | ED7: 246 | EE7: 135 | EF7: 127 | EG7: 262 | EH7: 0 | EI7: 90 | EJ7: 80 | EK7: 42 | EL7: 38 | EM7: 40 | EN7: 290 | EO7: 552 | EP7: 205 | EQ7: 178 | ER7: 383 | ES7: 0 | ET7: 159 | EU7: 155 | EV7: 74 | EW7: 75 | EX7: 53 | EY7: 516 | EZ7: 899 | FA7: 236 | FB7: 245 | FC7: 481 | FD7: 0 | FE7: 292 | FF7: 244 | FG7: 130 | FH7: 141 | FI7: 71 | FJ7: 878 | FK7: 1359 | FL7: 164 | FM7: 218 | FN7: 382 | FO7: 0 | FP7: 370 | FQ7: 376 | FR7: 323 | FS7: 342 | FT7: 205 | FU7: 1616 | FV7: 1998 | FW7: 0 | FX7: 0 | FY7: 0 | FZ7: 0 | GA7: 0 | GB7: 0 | GC7: 0 | GD7: 0 | GE7: 0 | GF7: 0 | GG7: 0 | GH7: 817 | GI7: 868 | GJ7: 1685 | GK7: 0 | GL7: 972 | GM7: 899 | GN7: 604 | GO7: 627 | GP7: 399 | GQ7: 3501 | GR7: 5186 | GS7: 5695 | GT7: 5641 | GU7: 11336 | GV7: 0 | GW7: 7674 | GX7: 6933 | GY7: 4368 | GZ7: 3627 | HA7: 2081 | HB7: 24683 | HC7: 36019 | HD7: 77 | HE7: 111 | HF7: 188 | HG7: 0 | HH7: 95 | HI7: 99 | HJ7: 66 | HK7: 58 | HL7: 47 | HM7: 365 | HN7: 553 | HO7: 222 | HP7: 253 | HQ7: 475 | HR7: 0 | HS7: 264 | HT7: 275 | HU7: 164 | HV7: 150 | HW7: 119 | HX7: 972 | HY7: 1447 | HZ7: 613 | IA7: 601 | IB7: 1214 | IC7: 0 | ID7: 666 | IE7: 631 | IF7: 361 | IG7: 325 | IH7: 222 | II7: 2205 | IJ7: 3419 | IK7: 1114 | IL7: 1025 | IM7: 2139 | IN7: 0 | IO7: 1336 | IP7: 1105 | IQ7: 644 | IR7: 531 | IS7: 346 | IT7: 3962 | IU7: 6101 | IV7: 1794 | IW7: 1739 | IX7: 3533 | IY7: 0 | IZ7: 2429 | JA7: 1997 | JB7: 1192 | JC7: 928 | JD7: 550 | JE7: 7096 | JF7: 10629 | JG7: 1875 | JH7: 1912 | JI7: 3787 | JJ7: 0 | JK7: 2884 | JL7: 2826 | JM7: 1941 | JN7: 1635 | JO7: 797 | JP7: 10083 | JQ7: 13870 | JR7: 0 | JS7: 0 | JT7: 0 | JU7: 0 | JV7: 0 | JW7: 0 | JX7: 0 | JY7: 0 | JZ7: 0 | KA7: 0 | KB7: 0 | KC7: 5695 | KD7: 5641 | KE7: 11336 | KF7: 0 | KG7: 7674 | KH7: 6933 | KI7: 4368 | KJ7: 3627 | KK7: 2081 | KL7: 24683 | KM7: 36019
B8: 横浜市 | C8: 1942 | D8: 2383 | E8: 4325 | F8: 0 | G8: 2409 | H8: 2859 | I8: 1689 | J8: 1295 | K8: 766 | L8: 9018 | M8: 13343 | N8: 17 | O8: 29 | P8: 46 | Q8: 0 | R8: 25 | S8: 36 | T8: 31 | U8: 13 | V8: 14 | W8: 119 | X8: 165 | Y8: 60 | Z8: 101 | AA8: 161 | AB8: 0 | AC8: 70 | AD8: 125 | AE8: 64 | AF8: 56 | AG8: 44 | AH8: 359 | AI8: 520 | AJ8: 176 | AK8: 234 | AL8: 410 | AM8: 0 | AN8: 203 | AO8: 257 | AP8: 140 | AQ8: 116 | AR8: 81 | AS8: 797 | AT8: 1207 | AU8: 352 | AV8: 422 | AW8: 774 | AX8: 0 | AY8: 399 | AZ8: 418 | BA8: 240 | BB8: 189 | BC8: 142 | BD8: 1388 | BE8: 2162 | BF8: 615 | BG8: 714 | BH8: 1329 | BI8: 0 | BJ8: 752 | BK8: 839 | BL8: 459 | BM8: 319 | BN8: 211 | BO8: 2580 | BP8: 3909 | BQ8: 722 | BR8: 883 | BS8: 1605 | BT8: 0 | BU8: 960 | BV8: 1184 | BW8: 755 | BX8: 602 | BY8: 274 | BZ8: 3775 | CA8: 5380 | CB8: 0 | CC8: 0 | CD8: 0 | CE8: 0 | CF8: 0 | CG8: 0 | CH8: 0 | CI8: 0 | CJ8: 0 | CK8: 0 | CL8: 0 | CM8: 1942 | CN8: 2383 | CO8: 4325 | CP8: 0 | CQ8: 2409 | CR8: 2859 | CS8: 1689 | CT8: 1295 | CU8: 766 | CV8: 9018 | CW8: 13343 | CX8: 347 | CY8: 379 | CZ8: 726 | DA8: 0 | DB8: 361 | DC8: 439 | DD8: 277 | DE8: 266 | DF8: 181 | DG8: 1524 | DH8: 2250 | DI8: 8 | DJ8: 20 | DK8: 28 | DL8: 0 | DM8: 10 | DN8: 7 | DO8: 2 | DP8: 7 | DQ8: 10 | DR8: 36 | DS8: 64 | DT8: 19 | DU8: 29 | DV8: 48 | DW8: 0 | DX8: 13 | DY8: 15 | DZ8: 13 | EA8: 11 | EB8: 5 | EC8: 57 | ED8: 105 | EE8: 63 | EF8: 57 | EG8: 120 | EH8: 0 | EI8: 38 | EJ8: 38 | EK8: 20 | EL8: 14 | EM8: 17 | EN8: 127 | EO8: 247 | EP8: 74 | EQ8: 81 | ER8: 155 | ES8: 0 | ET8: 64 | EU8: 76 | EV8: 33 | EW8: 31 | EX8: 25 | EY8: 229 | EZ8: 384 | FA8: 109 | FB8: 100 | FC8: 209 | FD8: 0 | FE8: 93 | FF8: 111 | FG8: 56 | FH8: 74 | FI8: 32 | FJ8: 366 | FK8: 575 | FL8: 74 | FM8: 92 | FN8: 166 | FO8: 0 | FP8: 143 | FQ8: 192 | FR8: 153 | FS8: 129 | FT8: 92 | FU8: 709 | FV8: 875 | FW8: 0 | FX8: 0 | FY8: 0 | FZ8: 0 | GA8: 0 | GB8: 0 | GC8: 0 | GD8: 0 | GE8: 0 | GF8: 0 | GG8: 0 | GH8: 347 | GI8: 379 | GJ8: 726 | GK8: 0 | GL8: 361 | GM8: 439 | GN8: 277 | GO8: 266 | GP8: 181 | GQ8: 1524 | GR8: 2250 | GS8: 2289 | GT8: 2762 | GU8: 5051 | GV8: 0 | GW8: 2770 | GX8: 3298 | GY8: 1966 | GZ8: 1561 | HA8: 947 | HB8: 10542 | HC8: 15593 | HD8: 25 | HE8: 49 | HF8: 74 | HG8: 0 | HH8: 35 | HI8: 43 | HJ8: 33 | HK8: 20 | HL8: 24 | HM8: 155 | HN8: 229 | HO8: 79 | HP8: 130 | HQ8: 209 | HR8: 0 | HS8: 83 | HT8: 140 | HU8: 77 | HV8: 67 | HW8: 49 | HX8: 416 | HY8: 625 | HZ8: 239 | IA8: 291 | IB8: 530 | IC8: 0 | ID8: 241 | IE8: 295 | IF8: 160 | IG8: 130 | IH8: 98 | II8: 924 | IJ8: 1454 | IK8: 426 | IL8: 503 | IM8: 929 | IN8: 0 | IO8: 463 | IP8: 494 | IQ8: 273 | IR8: 220 | IS8: 167 | IT8: 1617 | IU8: 2546 | IV8: 724 | IW8: 814 | IX8: 1538 | IY8: 0 | IZ8: 845 | JA8: 950 | JB8: 515 | JC8: 393 | JD8: 243 | JE8: 2946 | JF8: 4484 | JG8: 796 | JH8: 975 | JI8: 1771 | JJ8: 0 | JK8: 1103 | JL8: 1376 | JM8: 908 | JN8: 731 | JO8: 366 | JP8: 4484 | JQ8: 6255 | JR8: 0 | JS8: 0 | JT8: 0 | JU8: 0 | JV8: 0 | JW8: 0 | JX8: 0 | JY8: 0 | JZ8: 0 | KA8: 0 | KB8: 0 | KC8: 2289 | KD8: 2762 | KE8: 5051 | KF8: 0 | KG8: 2770 | KH8: 3298 | KI8: 1966 | KJ8: 1561 | KK8: 947 | KL8: 10542 | KM8: 15593
B9: 川崎市 | C9: 533 | D9: 434 | E9: 967 | F9: 0 | G9: 897 | H9: 604 | I9: 401 | J9: 326 | K9: 192 | L9: 2420 | M9: 3387 | N9: 10 | O9: 7 | P9: 17 | Q9: 0 | R9: 12 | S9: 8 | T9: 6 | U9: 11 | V9: 7 | W9: 44 | X9: 61 | Y9: 18 | Z9: 20 | AA9: 38 | AB9: 0 | AC9: 37 | AD9: 26 | AE9: 17 | AF9: 16 | AG9: 13 | AH9: 109 | AI9: 147 | AJ9: 60 | AK9: 42 | AL9: 102 | AM9: 0 | AN9: 94 | AO9: 79 | AP9: 37 | AQ9: 30 | AR9: 20 | AS9: 260 | AT9: 362 | AU9: 92 | AV9: 72 | AW9: 164 | AX9: 0 | AY9: 137 | AZ9: 84 | BA9: 57 | BB9: 49 | BC9: 33 | BD9: 360 | BE9: 524 | BF9: 191 | BG9: 145 | BH9: 336 | BI9: 0 | BJ9: 277 | BK9: 158 | BL9: 101 | BM9: 85 | BN9: 53 | BO9: 674 | BP9: 1010 | BQ9: 162 | BR9: 148 | BS9: 310 | BT9: 0 | BU9: 340 | BV9: 249 | BW9: 183 | BX9: 135 | BY9: 66 | BZ9: 973 | CA9: 1283 | CB9: 0 | CC9: 0 | CD9: 0 | CE9: 0 | CF9: 0 | CG9: 0 | CH9: 0 | CI9: 0 | CJ9: 0 | CK9: 0 | CL9: 0 | CM9: 533 | CN9: 434 | CO9: 967 | CP9: 0 | CQ9: 897 | CR9: 604 | CS9: 401 | CT9: 326 | CU9: 192 | CV9: 2420 | CW9: 3387 | CX9: 131 | CY9: 128 | CZ9: 259 | DA9: 0 | DB9: 174 | DC9: 114 | DD9: 80 | DE9: 92 | DF9: 58 | DG9: 518 | DH9: 777 | DI9: 4 | DJ9: 6 | DK9: 10 | DL9: 0 | DM9: 1 | DN9: 1 | DO9: 1 | DP9: 1 | DQ9: 1 | DR9: 5 | DS9: 15 | DT9: 8 | DU9: 7 | DV9: 15 | DW9: 0 | DX9: 10 | DY9: 5 | DZ9: 6 | EA9: 2 | EB9: 4 | EC9: 27 | ED9: 42 | EE9: 21 | EF9: 13 | EG9: 34 | EH9: 0 | EI9: 17 | EJ9: 10 | EK9: 7 | EL9: 7 | EM9: 4 | EN9: 45 | EO9: 79 | EP9: 44 | EQ9: 24 | ER9: 68 | ES9: 0 | ET9: 27 | EU9: 19 | EV9: 11 | EW9: 15 | EX9: 13 | EY9: 85 | EZ9: 153 | FA9: 30 | FB9: 41 | FC9: 71 | FD9: 0 | FE9: 53 | FF9: 30 | FG9: 20 | FH9: 13 | FI9: 6 | FJ9: 122 | FK9: 193 | FL9: 24 | FM9: 37 | FN9: 61 | FO9: 0 | FP9: 66 | FQ9: 49 | FR9: 35 | FS9: 54 | FT9: 30 | FU9: 234 | FV9: 295 | FW9: 0 | FX9: 0 | FY9: 0 | FZ9: 0 | GA9: 0 | GB9: 0 | GC9: 0 | GD9: 0 | GE9: 0 | GF9: 0 | GG9: 0 | GH9: 131 | GI9: 128 | GJ9: 259 | GK9: 0 | GL9: 174 | GM9: 114 | GN9: 80 | GO9: 92 | GP9: 58 | GQ9: 518 | GR9: 777 | GS9: 664 | GT9: 562 | GU9: 1226 | GV9: 0 | GW9: 1071 | GX9: 718 | GY9: 481 | GZ9: 418 | HA9: 250 | HB9: 2938 | HC9: 4164 | HD9: 14 | HE9: 13 | HF9: 27 | HG9: 0 | HH9: 13 | HI9: 9 | HJ9: 7 | HK9: 12 | HL9: 8 | HM9: 49 | HN9: 76 | HO9: 26 | HP9: 27 | HQ9: 53 | HR9: 0 | HS9: 47 | HT9: 31 | HU9: 23 | HV9: 18 | HW9: 17 | HX9: 136 | HY9: 189 | HZ9: 81 | IA9: 55 | IB9: 136 | IC9: 0 | ID9: 111 | IE9: 89 | IF9: 44 | IG9: 37 | IH9: 24 | II9: 305 | IJ9: 441 | IK9: 136 | IL9: 96 | IM9: 232 | IN9: 0 | IO9: 164 | IP9: 103 | IQ9: 68 | IR9: 64 | IS9: 46 | IT9: 445 | IU9: 677 | IV9: 221 | IW9: 186 | IX9: 407 | IY9: 0 | IZ9: 330 | JA9: 188 | JB9: 121 | JC9: 98 | JD9: 59 | JE9: 796 | JF9: 1203 | JG9: 186 | JH9: 185 | JI9: 371 | JJ9: 0 | JK9: 406 | JL9: 298 | JM9: 218 | JN9: 189 | JO9: 96 | JP9: 1207 | JQ9: 1578 | JR9: 0 | JS9: 0 | JT9: 0 | JU9: 0 | JV9: 0 | JW9: 0 | JX9: 0 | JY9: 0 | JZ9: 0 | KA9: 0 | KB9: 0 | KC9: 664 | KD9: 562 | KE9: 1226 | KF9: 0 | KG9: 1071 | KH9: 718 | KI9: 481 | KJ9: 418 | KK9: 250 | KL9: 2938 | KM9: 4164
B10: 相模原市 | C10: 281 | D10: 370 | E10: 651 | F10: 0 | G10: 446 | H10: 501 | I10: 373 | J10: 251 | K10: 146 | L10: 1717 | M10: 2368 | N10: 4 | O10: 9 | P10: 13 | Q10: 0 | R10: 6 | S10: 9 | T10: 6 | U10: 4 | V10: 4 | W10: 29 | X10: 42 | Y10: 7 | Z10: 21 | AA10: 28 | AB10: 0 | AC10: 13 | AD10: 19 | AE10: 14 | AF10: 10 | AG10: 12 | AH10: 68 | AI10: 96 | AJ10: 33 | AK10: 31 | AL10: 64 | AM10: 0 | AN10: 47 | AO10: 44 | AP10: 28 | AQ10: 34 | AR10: 22 | AS10: 175 | AT10: 239 | AU10: 69 | AV10: 74 | AW10: 143 | AX10: 0 | AY10: 89 | AZ10: 96 | BA10: 63 | BB10: 31 | BC10: 25 | BD10: 304 | BE10: 447 | BF10: 72 | BG10: 135 | BH10: 207 | BI10: 0 | BJ10: 149 | BK10: 154 | BL10: 110 | BM10: 68 | BN10: 40 | BO10: 521 | BP10: 728 | BQ10: 96 | BR10: 100 | BS10: 196 | BT10: 0 | BU10: 142 | BV10: 179 | BW10: 152 | BX10: 104 | BY10: 43 | BZ10: 620 | CA10: 816 | CB10: 0 | CC10: 0 | CD10: 0 | CE10: 0 | CF10: 0 | CG10: 0 | CH10: 0 | CI10: 0 | CJ10: 0 | CK10: 0 | CL10: 0 | CM10: 281 | CN10: 370 | CO10: 651 | CP10: 0 | CQ10: 446 | CR10: 501 | CS10: 373 | CT10: 251 | CU10: 146 | CV10: 1717 | CW10: 2368 | CX10: 43 | CY10: 59 | CZ10: 102 | DA10: 0 | DB10: 58 | DC10: 60 | DD10: 35 | DE10: 38 | DF10: 24 | DG10: 215 | DH10: 317 | DI10: 1 | DJ10: 4 | DK10: 5 | DL10: 0 | DM10: 2 | DN10: 0 | DO10: 0 | DP10: 0 | DQ10: 1 | DR10: 3 | DS10: 8 | DT10: 4 | DU10: 7 | DV10: 11 | DW10: 0 | DX10: 4 | DY10: 0 | DZ10: 1 | EA10: 1 | EB10: 2 | EC10: 8 | ED10: 19 | EE10: 7 | EF10: 9 | EG10: 16 | EH10: 0 | EI10: 6 | EJ10: 6 | EK10: 1 | EL10: 2 | EM10: 5 | EN10: 20 | EO10: 36 | EP10: 15 | EQ10: 6 | ER10: 21 | ES10: 0 | ET10: 6 | EU10: 13 | EV10: 3 | EW10: 6 | EX10: 2 | EY10: 30 | EZ10: 51 | FA10: 11 | FB10: 20 | FC10: 31 | FD10: 0 | FE10: 16 | FF10: 19 | FG10: 10 | FH10: 10 | FI10: 5 | FJ10: 60 | FK10: 91 | FL10: 5 | FM10: 13 | FN10: 18 | FO10: 0 | FP10: 24 | FQ10: 22 | FR10: 20 | FS10: 19 | FT10: 9 | FU10: 94 | FV10: 112 | FW10: 0 | FX10: 0 | FY10: 0 | FZ10: 0 | GA10: 0 | GB10: 0 | GC10: 0 | GD10: 0 | GE10: 0 | GF10: 0 | GG10: 0 | GH10: 43 | GI10: 59 | GJ10: 102 | GK10: 0 | GL10: 58 | GM10: 60 | GN10: 35 | GO10: 38 | GP10: 24 | GQ10: 215 | GR10: 317 | GS10: 324 | GT10: 429 | GU10: 753 | GV10: 0 | GW10: 504 | GX10: 561 | GY10: 408 | GZ10: 289 | HA10: 170 | HB10: 1932 | HC10: 2685 | HD10: 5 | HE10: 13 | HF10: 18 | HG10: 0 | HH10: 8 | HI10: 9 | HJ10: 6 | HK10: 4 | HL10: 5 | HM10: 32 | HN10: 50 | HO10: 11 | HP10: 28 | HQ10: 39 | HR10: 0 | HS10: 17 | HT10: 19 | HU10: 15 | HV10: 11 | HW10: 14 | HX10: 76 | HY10: 115 | HZ10: 40 | IA10: 40 | IB10: 80 | IC10: 0 | ID10: 53 | IE10: 50 | IF10: 29 | IG10: 36 | IH10: 27 | II10: 195 | IJ10: 275 | IK10: 84 | IL10: 80 | IM10: 164 | IN10: 0 | IO10: 95 | IP10: 109 | IQ10: 66 | IR10: 37 | IS10: 27 | IT10: 334 | IU10: 498 | IV10: 83 | IW10: 155 | IX10: 238 | IY10: 0 | IZ10: 165 | JA10: 173 | JB10: 120 | JC10: 78 | JD10: 45 | JE10: 581 | JF10: 819 | JG10: 101 | JH10: 113 | JI10: 214 | JJ10: 0 | JK10: 166 | JL10: 201 | JM10: 172 | JN10: 123 | JO10: 52 | JP10: 714 | JQ10: 928 | JR10: 0 | JS10: 0 | JT10: 0 | JU10: 0 | JV10: 0 | JW10: 0 | JX10: 0 | JY10: 0 | JZ10: 0 | KA10: 0 | KB10: 0 | KC10: 324 | KD10: 429 | KE10: 753 | KF10: 0 | KG10: 504 | KH10: 561 | KI10: 408 | KJ10: 289 | KK10: 170 | KL10: 1932 | KM10: 2685
B11: 横須賀市 | C11: 355 | D11: 231 | E11: 586 | F11: 0 | G11: 554 | H11: 320 | I11: 184 | J11: 168 | K11: 75 | L11: 1301 | M11: 1887 | N11: 4 | O11: 0 | P11: 4 | Q11: 0 | R11: 4 | S11: 3 | T11: 0 | U11: 4 | V11: 2 | W11: 13 | X11: 17 | Y11: 10 | Z11: 6 | AA11: 16 | AB11: 0 | AC11: 16 | AD11: 12 | AE11: 2 | AF11: 4 | AG11: 4 | AH11: 38 | AI11: 54 | AJ11: 24 | AK11: 26 | AL11: 50 | AM11: 0 | AN11: 39 | AO11: 25 | AP11: 10 | AQ11: 10 | AR11: 6 | AS11: 90 | AT11: 140 | AU11: 63 | AV11: 37 | AW11: 100 | AX11: 0 | AY11: 108 | AZ11: 51 | BA11: 36 | BB11: 35 | BC11: 16 | BD11: 246 | BE11: 346 | BF11: 117 | BG11: 73 | BH11: 190 | BI11: 0 | BJ11: 191 | BK11: 85 | BL11: 59 | BM11: 51 | BN11: 21 | BO11: 407 | BP11: 597 | BQ11: 137 | BR11: 89 | BS11: 226 | BT11: 0 | BU11: 196 | BV11: 144 | BW11: 77 | BX11: 64 | BY11: 26 | BZ11: 507 | CA11: 733 | CB11: 0 | CC11: 0 | CD11: 0 | CE11: 0 | CF11: 0 | CG11: 0 | CH11: 0 | CI11: 0 | CJ11: 0 | CK11: 0 | CL11: 0 | CM11: 355 | CN11: 231 | CO11: 586 | CP11: 0 | CQ11: 554 | CR11: 320 | CS11: 184 | CT11: 168 | CU11: 75 | CV11: 1301 | CW11: 1887 | CX11: 32 | CY11: 44 | CZ11: 76 | DA11: 0 | DB11: 85 | DC11: 34 | DD11: 28 | DE11: 30 | DF11: 21 | DG11: 198 | DH11: 274 | DI11: 1 | DJ11: 4 | DK11: 5 | DL11: 0 | DM11: 0 | DN11: 1 | DO11: 0 | DP11: 1 | DQ11: 0 | DR11: 2 | DS11: 7 | DT11: 4 | DU11: 1 | DV11: 5 | DW11: 0 | DX11: 4 | DY11: 1 | DZ11: 1 | EA11: 2 | EB11: 1 | EC11: 9 | ED11: 14 | EE11: 4 | EF11: 2 | EG11: 6 | EH11: 0 | EI11: 7 | EJ11: 3 | EK11: 3 | EL11: 1 | EM11: 3 | EN11: 17 | EO11: 23 | EP11: 11 | EQ11: 11 | ER11: 22 | ES11: 0 | ET11: 11 | EU11: 5 | EV11: 5 | EW11: 2 | EX11: 0 | EY11: 23 | EZ11: 45 | FA11: 6 | FB11: 16 | FC11: 22 | FD11: 0 | FE11: 29 | FF11: 9 | FG11: 2 | FH11: 4 | FI11: 3 | FJ11: 47 | FK11: 69 | FL11: 6 | FM11: 10 | FN11: 16 | FO11: 0 | FP11: 34 | FQ11: 15 | FR11: 17 | FS11: 20 | FT11: 14 | FU11: 100 | FV11: 116 | FW11: 0 | FX11: 0 | FY11: 0 | FZ11: 0 | GA11: 0 | GB11: 0 | GC11: 0 | GD11: 0 | GE11: 0 | GF11: 0 | GG11: 0 | GH11: 32 | GI11: 44 | GJ11: 76 | GK11: 0 | GL11: 85 | GM11: 34 | GN11: 28 | GO11: 30 | GP11: 21 | GQ11: 198 | GR11: 274 | GS11: 387 | GT11: 275 | GU11: 662 | GV11: 0 | GW11: 639 | GX11: 354 | GY11: 212 | GZ11: 198 | HA11: 96 | HB11: 1499 | HC11: 2161 | HD11: 5 | HE11: 4 | HF11: 9 | HG11: 0 | HH11: 4 | HI11: 4 | HJ11: 0 | HK11: 5 | HL11: 2 | HM11: 15 | HN11: 24 | HO11: 14 | HP11: 7 | HQ11: 21 | HR11: 0 | HS11: 20 | HT11: 13 | HU11: 3 | HV11: 6 | HW11: 5 | HX11: 47 | HY11: 68 | HZ11: 28 | IA11: 28 | IB11: 56 | IC11: 0 | ID11: 46 | IE11: 28 | IF11: 13 | IG11: 11 | IH11: 9 | II11: 107 | IJ11: 163 | IK11: 74 | IL11: 48 | IM11: 122 | IN11: 0 | IO11: 119 | IP11: 56 | IQ11: 41 | IR11: 37 | IS11: 16 | IT11: 269 | IU11: 391 | IV11: 123 | IW11: 89 | IX11: 212 | IY11: 0 | IZ11: 220 | JA11: 94 | JB11: 61 | JC11: 55 | JD11: 24 | JE11: 454 | JF11: 666 | JG11: 143 | JH11: 99 | JI11: 242 | JJ11: 0 | JK11: 230 | JL11: 159 | JM11: 94 | JN11: 84 | JO11: 40 | JP11: 607 | JQ11: 849 | JR11: 0 | JS11: 0 | JT11: 0 | JU11: 0 | JV11: 0 | JW11: 0 | JX11: 0 | JY11: 0 | JZ11: 0 | KA11: 0 | KB11: 0 | KC11: 387 | KD11: 275 | KE11: 662 | KF11: 0 | KG11: 639 | KH11: 354 | KI11: 212 | KJ11: 198 | KK11: 96 | KL11: 1499 | KM11: 2161
B12: 平塚市 | C12: 115 | D12: 59 | E12: 174 | F12: 0 | G12: 184 | H12: 158 | I12: 103 | J12: 80 | K12: 39 | L12: 564 | M12: 738 | N12: 0 | O12: 0 | P12: 0 | Q12: 0 | R12: 4 | S12: 4 | T12: 5 | U12: 1 | V12: 1 | W12: 15 | X12: 15 | Y12: 6 | Z12: 3 | AA12: 9 | AB12: 0 | AC12: 5 | AD12: 8 | AE12: 5 | AF12: 8 | AG12: 4 | AH12: 30 | AI12: 39 | AJ12: 16 | AK12: 3 | AL12: 19 | AM12: 0 | AN12: 23 | AO12: 15 | AP12: 9 | AQ12: 7 | AR12: 5 | AS12: 59 | AT12: 78 | AU12: 23 | AV12: 12 | AW12: 35 | AX12: 0 | AY12: 46 | AZ12: 26 | BA12: 23 | BB12: 10 | BC12: 5 | BD12: 110 | BE12: 145 | BF12: 35 | BG12: 19 | BH12: 54 | BI12: 0 | BJ12: 44 | BK12: 49 | BL12: 28 | BM12: 24 | BN12: 8 | BO12: 153 | BP12: 207 | BQ12: 35 | BR12: 22 | BS12: 57 | BT12: 0 | BU12: 62 | BV12: 56 | BW12: 33 | BX12: 30 | BY12: 16 | BZ12: 197 | CA12: 254 | CB12: 0 | CC12: 0 | CD12: 0 | CE12: 0 | CF12: 0 | CG12: 0 | CH12: 0 | CI12: 0 | CJ12: 0 | CK12: 0 | CL12: 0 | CM12: 115 | CN12: 59 | CO12: 174 | CP12: 0 | CQ12: 184 | CR12: 158 | CS12: 103 | CT12: 80 | CU12: 39 | CV12: 564 | CW12: 738 | CX12: 20 | CY12: 18 | CZ12: 38 | DA12: 0 | DB12: 30 | DC12: 25 | DD12: 12 | DE12: 20 | DF12: 8 | DG12: 95 | DH12: 133 | DI12: 1 | DJ12: 0 | DK12: 1 | DL12: 0 | DM12: 1 | DN12: 1 | DO12: 0 | DP12: 0 | DQ12: 0 | DR12: 2 | DS12: 3 | DT12: 2 | DU12: 1 | DV12: 3 | DW12: 0 | DX12: 3 | DY12: 1 | DZ12: 0 | EA12: 0 | EB12: 0 | EC12: 4 | ED12: 7 | EE12: 3 | EF12: 2 | EG12: 5 | EH12: 0 | EI12: 3 | EJ12: 1 | EK12: 0 | EL12: 3 | EM12: 0 | EN12: 7 | EO12: 12 | EP12: 2 | EQ12: 4 | ER12: 6 | ES12: 0 | ET12: 4 | EU12: 4 | EV12: 2 | EW12: 0 | EX12: 3 | EY12: 13 | EZ12: 19 | FA12: 5 | FB12: 5 | FC12: 10 | FD12: 0 | FE12: 7 | FF12: 9 | FG12: 3 | FH12: 2 | FI12: 1 | FJ12: 22 | FK12: 32 | FL12: 7 | FM12: 6 | FN12: 13 | FO12: 0 | FP12: 12 | FQ12: 9 | FR12: 7 | FS12: 15 | FT12: 4 | FU12: 47 | FV12: 60 | FW12: 0 | FX12: 0 | FY12: 0 | FZ12: 0 | GA12: 0 | GB12: 0 | GC12: 0 | GD12: 0 | GE12: 0 | GF12: 0 | GG12: 0 | GH12: 20 | GI12: 18 | GJ12: 38 | GK12: 0 | GL12: 30 | GM12: 25 | GN12: 12 | GO12: 20 | GP12: 8 | GQ12: 95 | GR12: 133 | GS12: 135 | GT12: 77 | GU12: 212 | GV12: 0 | GW12: 214 | GX12: 183 | GY12: 115 | GZ12: 100 | HA12: 47 | HB12: 659 | HC12: 871 | HD12: 1 | HE12: 0 | HF12: 1 | HG12: 0 | HH12: 5 | HI12: 5 | HJ12: 5 | HK12: 1 | HL12: 1 | HM12: 17 | HN12: 18 | HO12: 8 | HP12: 4 | HQ12: 12 | HR12: 0 | HS12: 8 | HT12: 9 | HU12: 5 | HV12: 8 | HW12: 4 | HX12: 34 | HY12: 46 | HZ12: 19 | IA12: 5 | IB12: 24 | IC12: 0 | ID12: 26 | IE12: 16 | IF12: 9 | IG12: 10 | IH12: 5 | II12: 66 | IJ12: 90 | IK12: 25 | IL12: 16 | IM12: 41 | IN12: 0 | IO12: 50 | IP12: 30 | IQ12: 25 | IR12: 10 | IS12: 8 | IT12: 123 | IU12: 164 | IV12: 40 | IW12: 24 | IX12: 64 | IY12: 0 | IZ12: 51 | JA12: 58 | JB12: 31 | JC12: 26 | JD12: 9 | JE12: 175 | JF12: 239 | JG12: 42 | JH12: 28 | JI12: 70 | JJ12: 0 | JK12: 74 | JL12: 65 | JM12: 40 | JN12: 45 | JO12: 20 | JP12: 244 | JQ12: 314 | JR12: 0 | JS12: 0 | JT12: 0 | JU12: 0 | JV12: 0 | JW12: 0 | JX12: 0 | JY12: 0 | JZ12: 0 | KA12: 0 | KB12: 0 | KC12: 135 | KD12: 77 | KE12: 212 | KF12: 0 | KG12: 214 | KH12: 183 | KI12: 115 | KJ12: 100 | KK12: 47 | KL12: 659 | KM12: 871
B13: 鎌倉市 | C13: 188 | D13: 134 | E13: 322 | F13: 0 | G13: 227 | H13: 151 | I13: 119 | J13: 95 | K13: 54 | L13: 646 | M13: 968 | N13: 2 | O13: 0 | P13: 2 | Q13: 0 | R13: 1 | S13: 2 | T13: 0 | U13: 1 | V13: 0 | W13: 4 | X13: 6 | Y13: 7 | Z13: 3 | AA13: 10 | AB13: 0 | AC13: 5 | AD13: 3 | AE13: 2 | AF13: 0 | AG13: 1 | AH13: 11 | AI13: 21 | AJ13: 16 | AK13: 11 | AL13: 27 | AM13: 0 | AN13: 6 | AO13: 10 | AP13: 10 | AQ13: 5 | AR13: 3 | AS13: 34 | AT13: 61 | AU13: 34 | AV13: 23 | AW13: 57 | AX13: 0 | AY13: 26 | AZ13: 18 | BA13: 16 | BB13: 16 | BC13: 8 | BD13: 84 | BE13: 141 | BF13: 68 | BG13: 44 | BH13: 112 | BI13: 0 | BJ13: 76 | BK13: 40 | BL13: 37 | BM13: 16 | BN13: 21 | BO13: 190 | BP13: 302 | BQ13: 61 | BR13: 53 | BS13: 114 | BT13: 0 | BU13: 113 | BV13: 78 | BW13: 54 | BX13: 57 | BY13: 21 | BZ13: 323 | CA13: 437 | CB13: 0 | CC13: 0 | CD13: 0 | CE13: 0 | CF13: 0 | CG13: 0 | CH13: 0 | CI13: 0 | CJ13: 0 | CK13: 0 | CL13: 0 | CM13: 188 | CN13: 134 | CO13: 322 | CP13: 0 | CQ13: 227 | CR13: 151 | CS13: 119 | CT13: 95 | CU13: 54 | CV13: 646 | CW13: 968 | CX13: 36 | CY13: 34 | CZ13: 70 | DA13: 0 | DB13: 27 | DC13: 25 | DD13: 27 | DE13: 18 | DF13: 16 | DG13: 113 | DH13: 183 | DI13: 2 | DJ13: 2 | DK13: 4 | DL13: 0 | DM13: 0 | DN13: 1 | DO13: 0 | DP13: 0 | DQ13: 0 | DR13: 1 | DS13: 5 | DT13: 0 | DU13: 2 | DV13: 2 | DW13: 0 | DX13: 2 | DY13: 0 | DZ13: 0 | EA13: 0 | EB13: 1 | EC13: 3 | ED13: 5 | EE13: 4 | EF13: 6 | EG13: 10 | EH13: 0 | EI13: 0 | EJ13: 4 | EK13: 1 | EL13: 1 | EM13: 3 | EN13: 9 | EO13: 19 | EP13: 10 | EQ13: 6 | ER13: 16 | ES13: 0 | ET13: 9 | EU13: 2 | EV13: 4 | EW13: 3 | EX13: 1 | EY13: 19 | EZ13: 35 | FA13: 13 | FB13: 10 | FC13: 23 | FD13: 0 | FE13: 7 | FF13: 4 | FG13: 6 | FH13: 3 | FI13: 3 | FJ13: 23 | FK13: 46 | FL13: 7 | FM13: 8 | FN13: 15 | FO13: 0 | FP13: 9 | FQ13: 14 | FR13: 16 | FS13: 11 | FT13: 8 | FU13: 58 | FV13: 73 | FW13: 0 | FX13: 0 | FY13: 0 | FZ13: 0 | GA13: 0 | GB13: 0 | GC13: 0 | GD13: 0 | GE13: 0 | GF13: 0 | GG13: 0 | GH13: 36 | GI13: 34 | GJ13: 70 | GK13: 0 | GL13: 27 | GM13: 25 | GN13: 27 | GO13: 18 | GP13: 16 | GQ13: 113 | GR13: 183 | GS13: 224 | GT13: 168 | GU13: 392 | GV13: 0 | GW13: 254 | GX13: 176 | GY13: 146 | GZ13: 113 | HA13: 70 | HB13: 759 | HC13: 1151 | HD13: 4 | HE13: 2 | HF13: 6 | HG13: 0 | HH13: 1 | HI13: 3 | HJ13: 0 | HK13: 1 | HL13: 0 | HM13: 5 | HN13: 11 | HO13: 7 | HP13: 5 | HQ13: 12 | HR13: 0 | HS13: 7 | HT13: 3 | HU13: 2 | HV13: 0 | HW13: 2 | HX13: 14 | HY13: 26 | HZ13: 20 | IA13: 17 | IB13: 37 | IC13: 0 | ID13: 6 | IE13: 14 | IF13: 11 | IG13: 6 | IH13: 6 | II13: 43 | IJ13: 80 | IK13: 44 | IL13: 29 | IM13: 73 | IN13: 0 | IO13: 35 | IP13: 20 | IQ13: 20 | IR13: 19 | IS13: 9 | IT13: 103 | IU13: 176 | IV13: 81 | IW13: 54 | IX13: 135 | IY13: 0 | IZ13: 83 | JA13: 44 | JB13: 43 | JC13: 19 | JD13: 24 | JE13: 213 | JF13: 348 | JG13: 68 | JH13: 61 | JI13: 129 | JJ13: 0 | JK13: 122 | JL13: 92 | JM13: 70 | JN13: 68 | JO13: 29 | JP13: 381 | JQ13: 510 | JR13: 0 | JS13: 0 | JT13: 0 | JU13: 0 | JV13: 0 | JW13: 0 | JX13: 0 | JY13: 0 | JZ13: 0 | KA13: 0 | KB13: 0 | KC13: 224 | KD13: 168 | KE13: 392 | KF13: 0 | KG13: 254 | KH13: 176 | KI13: 146 | KJ13: 113 | KK13: 70 | KL13: 759 | KM13: 1151
B14: 藤沢市 | C14: 451 | D14: 210 | E14: 661 | F14: 0 | G14: 404 | H14: 192 | I14: 130 | J14: 135 | K14: 70 | L14: 931 | M14: 1592 | N14: 8 | O14: 4 | P14: 12 | Q14: 0 | R14: 5 | S14: 4 | T14: 0 | U14: 3 | V14: 1 | W14: 13 | X14: 25 | Y14: 17 | Z14: 4 | AA14: 21 | AB14: 0 | AC14: 13 | AD14: 9 | AE14: 1 | AF14: 8 | AG14: 4 | AH14: 35 | AI14: 56 | AJ14: 39 | AK14: 25 | AL14: 64 | AM14: 0 | AN14: 33 | AO14: 7 | AP14: 9 | AQ14: 19 | AR14: 8 | AS14: 76 | AT14: 140 | AU14: 78 | AV14: 29 | AW14: 107 | AX14: 0 | AY14: 68 | AZ14: 38 | BA14: 17 | BB14: 17 | BC14: 13 | BD14: 153 | BE14: 260 | BF14: 149 | BG14: 60 | BH14: 209 | BI14: 0 | BJ14: 139 | BK14: 60 | BL14: 46 | BM14: 38 | BN14: 19 | BO14: 302 | BP14: 511 | BQ14: 160 | BR14: 88 | BS14: 248 | BT14: 0 | BU14: 146 | BV14: 74 | BW14: 57 | BX14: 50 | BY14: 25 | BZ14: 352 | CA14: 600 | CB14: 0 | CC14: 0 | CD14: 0 | CE14: 0 | CF14: 0 | CG14: 0 | CH14: 0 | CI14: 0 | CJ14: 0 | CK14: 0 | CL14: 0 | CM14: 451 | CN14: 210 | CO14: 661 | CP14: 0 | CQ14: 404 | CR14: 192 | CS14: 130 | CT14: 135 | CU14: 70 | CV14: 931 | CW14: 1592 | CX14: 60 | CY14: 47 | CZ14: 107 | DA14: 0 | DB14: 55 | DC14: 28 | DD14: 22 | DE14: 31 | DF14: 12 | DG14: 148 | DH14: 255 | DI14: 0 | DJ14: 3 | DK14: 3 | DL14: 0 | DM14: 1 | DN14: 0 | DO14: 1 | DP14: 0 | DQ14: 0 | DR14: 2 | DS14: 5 | DT14: 3 | DU14: 1 | DV14: 4 | DW14: 0 | DX14: 2 | DY14: 1 | DZ14: 1 | EA14: 1 | EB14: 0 | EC14: 5 | ED14: 9 | EE14: 11 | EF14: 8 | EG14: 19 | EH14: 0 | EI14: 4 | EJ14: 5 | EK14: 1 | EL14: 2 | EM14: 0 | EN14: 12 | EO14: 31 | EP14: 9 | EQ14: 7 | ER14: 16 | ES14: 0 | ET14: 5 | EU14: 5 | EV14: 3 | EW14: 3 | EX14: 0 | EY14: 16 | EZ14: 32 | FA14: 25 | FB14: 13 | FC14: 38 | FD14: 0 | FE14: 24 | FF14: 8 | FG14: 3 | FH14: 5 | FI14: 5 | FJ14: 45 | FK14: 83 | FL14: 12 | FM14: 15 | FN14: 27 | FO14: 0 | FP14: 19 | FQ14: 9 | FR14: 13 | FS14: 20 | FT14: 7 | FU14: 68 | FV14: 95 | FW14: 0 | FX14: 0 | FY14: 0 | FZ14: 0 | GA14: 0 | GB14: 0 | GC14: 0 | GD14: 0 | GE14: 0 | GF14: 0 | GG14: 0 | GH14: 60 | GI14: 47 | GJ14: 107 | GK14: 0 | GL14: 55 | GM14: 28 | GN14: 22 | GO14: 31 | GP14: 12 | GQ14: 148 | GR14: 255 | GS14: 511 | GT14: 257 | GU14: 768 | GV14: 0 | GW14: 459 | GX14: 220 | GY14: 152 | GZ14: 166 | HA14: 82 | HB14: 1079 | HC14: 1847 | HD14: 8 | HE14: 7 | HF14: 15 | HG14: 0 | HH14: 6 | HI14: 4 | HJ14: 1 | HK14: 3 | HL14: 1 | HM14: 15 | HN14: 30 | HO14: 20 | HP14: 5 | HQ14: 25 | HR14: 0 | HS14: 15 | HT14: 10 | HU14: 2 | HV14: 9 | HW14: 4 | HX14: 40 | HY14: 65 | HZ14: 50 | IA14: 33 | IB14: 83 | IC14: 0 | ID14: 37 | IE14: 12 | IF14: 10 | IG14: 21 | IH14: 8 | II14: 88 | IJ14: 171 | IK14: 87 | IL14: 36 | IM14: 123 | IN14: 0 | IO14: 73 | IP14: 43 | IQ14: 20 | IR14: 20 | IS14: 13 | IT14: 169 | IU14: 292 | IV14: 174 | IW14: 73 | IX14: 247 | IY14: 0 | IZ14: 163 | JA14: 68 | JB14: 49 | JC14: 43 | JD14: 24 | JE14: 347 | JF14: 594 | JG14: 172 | JH14: 103 | JI14: 275 | JJ14: 0 | JK14: 165 | JL14: 83 | JM14: 70 | JN14: 70 | JO14: 32 | JP14: 420 | JQ14: 695 | JR14: 0 | JS14: 0 | JT14: 0 | JU14: 0 | JV14: 0 | JW14: 0 | JX14: 0 | JY14: 0 | JZ14: 0 | KA14: 0 | KB14: 0 | KC14: 511 | KD14: 257 | KE14: 768 | KF14: 0 | KG14: 459 | KH14: 220 | KI14: 152 | KJ14: 166 | KK14: 82 | KL14: 1079 | KM14: 1847
B15: 小田原市 | C15: 93 | D15: 73 | E15: 166 | F15: 0 | G15: 148 | H15: 101 | I15: 78 | J15: 87 | K15: 38 | L15: 452 | M15: 618 | N15: 1 | O15: 1 | P15: 2 | Q15: 0 | R15: 1 | S15: 2 | T15: 1 | U15: 3 | V15: 0 | W15: 7 | X15: 9 | Y15: 4 | Z15: 3 | AA15: 7 | AB15: 0 | AC15: 6 | AD15: 5 | AE15: 5 | AF15: 5 | AG15: 2 | AH15: 23 | AI15: 30 | AJ15: 11 | AK15: 7 | AL15: 18 | AM15: 0 | AN15: 12 | AO15: 13 | AP15: 13 | AQ15: 15 | AR15: 3 | AS15: 56 | AT15: 74 | AU15: 15 | AV15: 13 | AW15: 28 | AX15: 0 | AY15: 27 | AZ15: 20 | BA15: 7 | BB15: 14 | BC15: 5 | BD15: 73 | BE15: 101 | BF15: 29 | BG15: 19 | BH15: 48 | BI15: 0 | BJ15: 36 | BK15: 23 | BL15: 21 | BM15: 20 | BN15: 5 | BO15: 105 | BP15: 153 | BQ15: 33 | BR15: 30 | BS15: 63 | BT15: 0 | BU15: 66 | BV15: 38 | BW15: 31 | BX15: 30 | BY15: 23 | BZ15: 188 | CA15: 251 | CB15: 0 | CC15: 0 | CD15: 0 | CE15: 0 | CF15: 0 | CG15: 0 | CH15: 0 | CI15: 0 | CJ15: 0 | CK15: 0 | CL15: 0 | CM15: 93 | CN15: 73 | CO15: 166 | CP15: 0 | CQ15: 148 | CR15: 101 | CS15: 78 | CT15: 87 | CU15: 38 | CV15: 452 | CW15: 618 | CX15: 14 | CY15: 17 | CZ15: 31 | DA15: 0 | DB15: 21 | DC15: 20 | DD15: 16 | DE15: 16 | DF15: 13 | DG15: 86 | DH15: 117 | DI15: 0 | DJ15: 0 | DK15: 0 | DL15: 0 | DM15: 1 | DN15: 0 | DO15: 0 | DP15: 0 | DQ15: 0 | DR15: 1 | DS15: 1 | DT15: 0 | DU15: 0 | DV15: 0 | DW15: 0 | DX15: 2 | DY15: 1 | DZ15: 0 | EA15: 0 | EB15: 0 | EC15: 3 | ED15: 3 | EE15: 3 | EF15: 3 | EG15: 6 | EH15: 0 | EI15: 0 | EJ15: 2 | EK15: 2 | EL15: 2 | EM15: 2 | EN15: 8 | EO15: 14 | EP15: 4 | EQ15: 6 | ER15: 10 | ES15: 0 | ET15: 1 | EU15: 5 | EV15: 0 | EW15: 1 | EX15: 2 | EY15: 9 | EZ15: 19 | FA15: 4 | FB15: 6 | FC15: 10 | FD15: 0 | FE15: 8 | FF15: 3 | FG15: 5 | FH15: 3 | FI15: 2 | FJ15: 21 | FK15: 31 | FL15: 3 | FM15: 2 | FN15: 5 | FO15: 0 | FP15: 9 | FQ15: 9 | FR15: 9 | FS15: 10 | FT15: 7 | FU15: 44 | FV15: 49 | FW15: 0 | FX15: 0 | FY15: 0 | FZ15: 0 | GA15: 0 | GB15: 0 | GC15: 0 | GD15: 0 | GE15: 0 | GF15: 0 | GG15: 0 | GH15: 14 | GI15: 17 | GJ15: 31 | GK15: 0 | GL15: 21 | GM15: 20 | GN15: 16 | GO15: 16 | GP15: 13 | GQ15: 86 | GR15: 117 | GS15: 107 | GT15: 90 | GU15: 197 | GV15: 0 | GW15: 169 | GX15: 121 | GY15: 94 | GZ15: 103 | HA15: 51 | HB15: 538 | HC15: 735 | HD15: 1 | HE15: 1 | HF15: 2 | HG15: 0 | HH15: 2 | HI15: 2 | HJ15: 1 | HK15: 3 | HL15: 0 | HM15: 8 | HN15: 10 | HO15: 4 | HP15: 3 | HQ15: 7 | HR15: 0 | HS15: 8 | HT15: 6 | HU15: 5 | HV15: 5 | HW15: 2 | HX15: 26 | HY15: 33 | HZ15: 14 | IA15: 10 | IB15: 24 | IC15: 0 | ID15: 12 | IE15: 15 | IF15: 15 | IG15: 17 | IH15: 5 | II15: 64 | IJ15: 88 | IK15: 19 | IL15: 19 | IM15: 38 | IN15: 0 | IO15: 28 | IP15: 25 | IQ15: 7 | IR15: 15 | IS15: 7 | IT15: 82 | IU15: 120 | IV15: 33 | IW15: 25 | IX15: 58 | IY15: 0 | IZ15: 44 | JA15: 26 | JB15: 26 | JC15: 23 | JD15: 7 | JE15: 126 | JF15: 184 | JG15: 36 | JH15: 32 | JI15: 68 | JJ15: 0 | JK15: 75 | JL15: 47 | JM15: 40 | JN15: 40 | JO15: 30 | JP15: 232 | JQ15: 300 | JR15: 0 | JS15: 0 | JT15: 0 | JU15: 0 | JV15: 0 | JW15: 0 | JX15: 0 | JY15: 0 | JZ15: 0 | KA15: 0 | KB15: 0 | KC15: 107 | KD15: 90 | KE15: 197 | KF15: 0 | KG15: 169 | KH15: 121 | KI15: 94 | KJ15: 103 | KK15: 51 | KL15: 538 | KM15: 735
B16: 茅ヶ崎市 | C16: 201 | D16: 201 | E16: 402 | F16: 0 | G16: 203 | H16: 159 | I16: 96 | J16: 100 | K16: 50 | L16: 608 | M16: 1010 | N16: 2 | O16: 4 | P16: 6 | Q16: 0 | R16: 3 | S16: 2 | T16: 0 | U16: 1 | V16: 3 | W16: 9 | X16: 15 | Y16: 12 | Z16: 5 | AA16: 17 | AB16: 0 | AC16: 6 | AD16: 4 | AE16: 4 | AF16: 2 | AG16: 2 | AH16: 18 | AI16: 35 | AJ16: 19 | AK16: 19 | AL16: 38 | AM16: 0 | AN16: 15 | AO16: 8 | AP16: 6 | AQ16: 14 | AR16: 5 | AS16: 48 | AT16: 86 | AU16: 29 | AV16: 37 | AW16: 66 | AX16: 0 | AY16: 31 | AZ16: 26 | BA16: 16 | BB16: 16 | BC16: 5 | BD16: 94 | BE16: 160 | BF16: 67 | BG16: 74 | BH16: 141 | BI16: 0 | BJ16: 72 | BK16: 43 | BL16: 25 | BM16: 30 | BN16: 19 | BO16: 189 | BP16: 330 | BQ16: 72 | BR16: 62 | BS16: 134 | BT16: 0 | BU16: 76 | BV16: 76 | BW16: 45 | BX16: 37 | BY16: 16 | BZ16: 250 | CA16: 384 | CB16: 0 | CC16: 0 | CD16: 0 | CE16: 0 | CF16: 0 | CG16: 0 | CH16: 0 | CI16: 0 | CJ16: 0 | CK16: 0 | CL16: 0 | CM16: 201 | CN16: 201 | CO16: 402 | CP16: 0 | CQ16: 203 | CR16: 159 | CS16: 96 | CT16: 100 | CU16: 50 | CV16: 608 | CW16: 1010 | CX16: 24 | CY16: 23 | CZ16: 47 | DA16: 0 | DB16: 17 | DC16: 24 | DD16: 9 | DE16: 19 | DF16: 9 | DG16: 78 | DH16: 125 | DI16: 2 | DJ16: 1 | DK16: 3 | DL16: 0 | DM16: 0 | DN16: 0 | DO16: 1 | DP16: 0 | DQ16: 0 | DR16: 1 | DS16: 4 | DT16: 0 | DU16: 0 | DV16: 0 | DW16: 0 | DX16: 0 | DY16: 1 | DZ16: 0 | EA16: 1 | EB16: 1 | EC16: 3 | ED16: 3 | EE16: 5 | EF16: 3 | EG16: 8 | EH16: 0 | EI16: 0 | EJ16: 1 | EK16: 0 | EL16: 0 | EM16: 0 | EN16: 1 | EO16: 9 | EP16: 5 | EQ16: 4 | ER16: 9 | ES16: 0 | ET16: 1 | EU16: 6 | EV16: 2 | EW16: 0 | EX16: 3 | EY16: 12 | EZ16: 21 | FA16: 8 | FB16: 7 | FC16: 15 | FD16: 0 | FE16: 9 | FF16: 6 | FG16: 1 | FH16: 7 | FI16: 1 | FJ16: 24 | FK16: 39 | FL16: 4 | FM16: 8 | FN16: 12 | FO16: 0 | FP16: 7 | FQ16: 10 | FR16: 5 | FS16: 11 | FT16: 4 | FU16: 37 | FV16: 49 | FW16: 0 | FX16: 0 | FY16: 0 | FZ16: 0 | GA16: 0 | GB16: 0 | GC16: 0 | GD16: 0 | GE16: 0 | GF16: 0 | GG16: 0 | GH16: 24 | GI16: 23 | GJ16: 47 | GK16: 0 | GL16: 17 | GM16: 24 | GN16: 9 | GO16: 19 | GP16: 9 | GQ16: 78 | GR16: 125 | GS16: 225 | GT16: 224 | GU16: 449 | GV16: 0 | GW16: 220 | GX16: 183 | GY16: 105 | GZ16: 119 | HA16: 59 | HB16: 686 | HC16: 1135 | HD16: 4 | HE16: 5 | HF16: 9 | HG16: 0 | HH16: 3 | HI16: 2 | HJ16: 1 | HK16: 1 | HL16: 3 | HM16: 10 | HN16: 19 | HO16: 12 | HP16: 5 | HQ16: 17 | HR16: 0 | HS16: 6 | HT16: 5 | HU16: 4 | HV16: 3 | HW16: 3 | HX16: 21 | HY16: 38 | HZ16: 24 | IA16: 22 | IB16: 46 | IC16: 0 | ID16: 15 | IE16: 9 | IF16: 6 | IG16: 14 | IH16: 5 | II16: 49 | IJ16: 95 | IK16: 34 | IL16: 41 | IM16: 75 | IN16: 0 | IO16: 32 | IP16: 32 | IQ16: 18 | IR16: 16 | IS16: 8 | IT16: 106 | IU16: 181 | IV16: 75 | IW16: 81 | IX16: 156 | IY16: 0 | IZ16: 81 | JA16: 49 | JB16: 26 | JC16: 37 | JD16: 20 | JE16: 213 | JF16: 369 | JG16: 76 | JH16: 70 | JI16: 146 | JJ16: 0 | JK16: 83 | JL16: 86 | JM16: 50 | JN16: 48 | JO16: 20 | JP16: 287 | JQ16: 433 | JR16: 0 | JS16: 0 | JT16: 0 | JU16: 0 | JV16: 0 | JW16: 0 | JX16: 0 | JY16: 0 | JZ16: 0 | KA16: 0 | KB16: 0 | KC16: 225 | KD16: 224 | KE16: 449 | KF16: 0 | KG16: 220 | KH16: 183 | KI16: 105 | KJ16: 119 | KK16: 59 | KL16: 686 | KM16: 1135
B17: 逗子市 | C17: 44 | D17: 38 | E17: 82 | F17: 0 | G17: 86 | H17: 76 | I17: 36 | J17: 30 | K17: 21 | L17: 249 | M17: 331 | N17: 0 | O17: 0 | P17: 0 | Q17: 0 | R17: 1 | S17: 2 | T17: 0 | U17: 0 | V17: 0 | W17: 3 | X17: 3 | Y17: 1 | Z17: 0 | AA17: 1 | AB17: 0 | AC17: 5 | AD17: 0 | AE17: 1 | AF17: 2 | AG17: 1 | AH17: 9 | AI17: 10 | AJ17: 5 | AK17: 2 | AL17: 7 | AM17: 0 | AN17: 5 | AO17: 4 | AP17: 2 | AQ17: 0 | AR17: 1 | AS17: 12 | AT17: 19 | AU17: 6 | AV17: 4 | AW17: 10 | AX17: 0 | AY17: 15 | AZ17: 11 | BA17: 2 | BB17: 4 | BC17: 4 | BD17: 36 | BE17: 46 | BF17: 19 | BG17: 12 | BH17: 31 | BI17: 0 | BJ17: 29 | BK17: 25 | BL17: 14 | BM17: 10 | BN17: 3 | BO17: 81 | BP17: 112 | BQ17: 13 | BR17: 20 | BS17: 33 | BT17: 0 | BU17: 31 | BV17: 34 | BW17: 17 | BX17: 14 | BY17: 12 | BZ17: 108 | CA17: 141 | CB17: 0 | CC17: 0 | CD17: 0 | CE17: 0 | CF17: 0 | CG17: 0 | CH17: 0 | CI17: 0 | CJ17: 0 | CK17: 0 | CL17: 0 | CM17: 44 | CN17: 38 | CO17: 82 | CP17: 0 | CQ17: 86 | CR17: 76 | CS17: 36 | CT17: 30 | CU17: 21 | CV17: 249 | CW17: 331 | CX17: 7 | CY17: 6 | CZ17: 13 | DA17: 0 | DB17: 17 | DC17: 6 | DD17: 3 | DE17: 11 | DF17: 4 | DG17: 41 | DH17: 54 | DI17: 0 | DJ17: 0 | DK17: 0 | DL17: 0 | DM17: 0 | DN17: 0 | DO17: 0 | DP17: 0 | DQ17: 0 | DR17: 0 | DS17: 0 | DT17: 1 | DU17: 0 | DV17: 1 | DW17: 0 | DX17: 1 | DY17: 0 | DZ17: 0 | EA17: 0 | EB17: 0 | EC17: 1 | ED17: 2 | EE17: 0 | EF17: 0 | EG17: 0 | EH17: 0 | EI17: 3 | EJ17: 0 | EK17: 0 | EL17: 1 | EM17: 0 | EN17: 4 | EO17: 4 | EP17: 1 | EQ17: 1 | ER17: 2 | ES17: 0 | ET17: 2 | EU17: 0 | EV17: 0 | EW17: 3 | EX17: 1 | EY17: 6 | EZ17: 8 | FA17: 2 | FB17: 3 | FC17: 5 | FD17: 0 | FE17: 4 | FF17: 3 | FG17: 1 | FH17: 0 | FI17: 2 | FJ17: 10 | FK17: 15 | FL17: 3 | FM17: 2 | FN17: 5 | FO17: 0 | FP17: 7 | FQ17: 3 | FR17: 2 | FS17: 7 | FT17: 1 | FU17: 20 | FV17: 25 | FW17: 0 | FX17: 0 | FY17: 0 | FZ17: 0 | GA17: 0 | GB17: 0 | GC17: 0 | GD17: 0 | GE17: 0 | GF17: 0 | GG17: 0 | GH17: 7 | GI17: 6 | GJ17: 13 | GK17: 0 | GL17: 17 | GM17: 6 | GN17: 3 | GO17: 11 | GP17: 4 | GQ17: 41 | GR17: 54 | GS17: 51 | GT17: 44 | GU17: 95 | GV17: 0 | GW17: 103 | GX17: 82 | GY17: 39 | GZ17: 41 | HA17: 25 | HB17: 290 | HC17: 385 | HD17: 0 | HE17: 0 | HF17: 0 | HG17: 0 | HH17: 1 | HI17: 2 | HJ17: 0 | HK17: 0 | HL17: 0 | HM17: 3 | HN17: 3 | HO17: 2 | HP17: 0 | HQ17: 2 | HR17: 0 | HS17: 6 | HT17: 0 | HU17: 1 | HV17: 2 | HW17: 1 | HX17: 10 | HY17: 12 | HZ17: 5 | IA17: 2 | IB17: 7 | IC17: 0 | ID17: 8 | IE17: 4 | IF17: 2 | IG17: 1 | IH17: 1 | II17: 16 | IJ17: 23 | IK17: 7 | IL17: 5 | IM17: 12 | IN17: 0 | IO17: 17 | IP17: 11 | IQ17: 2 | IR17: 7 | IS17: 5 | IT17: 42 | IU17: 54 | IV17: 21 | IW17: 15 | IX17: 36 | IY17: 0 | IZ17: 33 | JA17: 28 | JB17: 15 | JC17: 10 | JD17: 5 | JE17: 91 | JF17: 127 | JG17: 16 | JH17: 22 | JI17: 38 | JJ17: 0 | JK17: 38 | JL17: 37 | JM17: 19 | JN17: 21 | JO17: 13 | JP17: 128 | JQ17: 166 | JR17: 0 | JS17: 0 | JT17: 0 | JU17: 0 | JV17: 0 | JW17: 0 | JX17: 0 | JY17: 0 | JZ17: 0 | KA17: 0 | KB17: 0 | KC17: 51 | KD17: 44 | KE17: 95 | KF17: 0 | KG17: 103 | KH17: 82 | KI17: 39 | KJ17: 41 | KK17: 25 | KL17: 290 | KM17: 385
B18: 三浦市 | C18: 21 | D18: 16 | E18: 37 | F18: 0 | G18: 34 | H18: 42 | I18: 21 | J18: 19 | K18: 15 | L18: 131 | M18: 168 | N18: 0 | O18: 0 | P18: 0 | Q18: 0 | R18: 1 | S18: 0 | T18: 0 | U18: 0 | V18: 0 | W18: 1 | X18: 1 | Y18: 1 | Z18: 0 | AA18: 1 | AB18: 0 | AC18: 2 | AD18: 2 | AE18: 1 | AF18: 0 | AG18: 0 | AH18: 5 | AI18: 6 | AJ18: 5 | AK18: 2 | AL18: 7 | AM18: 0 | AN18: 2 | AO18: 8 | AP18: 3 | AQ18: 3 | AR18: 1 | AS18: 17 | AT18: 24 | AU18: 5 | AV18: 3 | AW18: 8 | AX18: 0 | AY18: 8 | AZ18: 4 | BA18: 2 | BB18: 4 | BC18: 5 | BD18: 23 | BE18: 31 | BF18: 5 | BG18: 7 | BH18: 12 | BI18: 0 | BJ18: 12 | BK18: 12 | BL18: 8 | BM18: 3 | BN18: 5 | BO18: 40 | BP18: 52 | BQ18: 5 | BR18: 4 | BS18: 9 | BT18: 0 | BU18: 9 | BV18: 16 | BW18: 7 | BX18: 9 | BY18: 4 | BZ18: 45 | CA18: 54 | CB18: 0 | CC18: 0 | CD18: 0 | CE18: 0 | CF18: 0 | CG18: 0 | CH18: 0 | CI18: 0 | CJ18: 0 | CK18: 0 | CL18: 0 | CM18: 21 | CN18: 16 | CO18: 37 | CP18: 0 | CQ18: 34 | CR18: 42 | CS18: 21 | CT18: 19 | CU18: 15 | CV18: 131 | CW18: 168 | CX18: 2 | CY18: 5 | CZ18: 7 | DA18: 0 | DB18: 7 | DC18: 9 | DD18: 9 | DE18: 1 | DF18: 3 | DG18: 29 | DH18: 36 | DI18: 0 | DJ18: 0 | DK18: 0 | DL18: 0 | DM18: 0 | DN18: 0 | DO18: 0 | DP18: 0 | DQ18: 0 | DR18: 0 | DS18: 0 | DT18: 1 | DU18: 0 | DV18: 1 | DW18: 0 | DX18: 0 | DY18: 0 | DZ18: 1 | EA18: 0 | EB18: 0 | EC18: 1 | ED18: 2 | EE18: 1 | EF18: 1 | EG18: 2 | EH18: 0 | EI18: 1 | EJ18: 0 | EK18: 1 | EL18: 0 | EM18: 1 | EN18: 3 | EO18: 5 | EP18: 0 | EQ18: 1 | ER18: 1 | ES18: 0 | ET18: 0 | EU18: 0 | EV18: 1 | EW18: 0 | EX18: 0 | EY18: 1 | EZ18: 2 | FA18: 0 | FB18: 2 | FC18: 2 | FD18: 0 | FE18: 3 | FF18: 4 | FG18: 3 | FH18: 0 | FI18: 0 | FJ18: 10 | FK18: 12 | FL18: 0 | FM18: 1 | FN18: 1 | FO18: 0 | FP18: 3 | FQ18: 5 | FR18: 3 | FS18: 1 | FT18: 2 | FU18: 14 | FV18: 15 | FW18: 0 | FX18: 0 | FY18: 0 | FZ18: 0 | GA18: 0 | GB18: 0 | GC18: 0 | GD18: 0 | GE18: 0 | GF18: 0 | GG18: 0 | GH18: 2 | GI18: 5 | GJ18: 7 | GK18: 0 | GL18: 7 | GM18: 9 | GN18: 9 | GO18: 1 | GP18: 3 | GQ18: 29 | GR18: 36 | GS18: 23 | GT18: 21 | GU18: 44 | GV18: 0 | GW18: 41 | GX18: 51 | GY18: 30 | GZ18: 20 | HA18: 18 | HB18: 160 | HC18: 204 | HD18: 0 | HE18: 0 | HF18: 0 | HG18: 0 | HH18: 1 | HI18: 0 | HJ18: 0 | HK18: 0 | HL18: 0 | HM18: 1 | HN18: 1 | HO18: 2 | HP18: 0 | HQ18: 2 | HR18: 0 | HS18: 2 | HT18: 2 | HU18: 2 | HV18: 0 | HW18: 0 | HX18: 6 | HY18: 8 | HZ18: 6 | IA18: 3 | IB18: 9 | IC18: 0 | ID18: 3 | IE18: 8 | IF18: 4 | IG18: 3 | IH18: 2 | II18: 20 | IJ18: 29 | IK18: 5 | IL18: 4 | IM18: 9 | IN18: 0 | IO18: 8 | IP18: 4 | IQ18: 3 | IR18: 4 | IS18: 5 | IT18: 24 | IU18: 33 | IV18: 5 | IW18: 9 | IX18: 14 | IY18: 0 | IZ18: 15 | JA18: 16 | JB18: 11 | JC18: 3 | JD18: 5 | JE18: 50 | JF18: 64 | JG18: 5 | JH18: 5 | JI18: 10 | JJ18: 0 | JK18: 12 | JL18: 21 | JM18: 10 | JN18: 10 | JO18: 6 | JP18: 59 | JQ18: 69 | JR18: 0 | JS18: 0 | JT18: 0 | JU18: 0 | JV18: 0 | JW18: 0 | JX18: 0 | JY18: 0 | JZ18: 0 | KA18: 0 | KB18: 0 | KC18: 23 | KD18: 21 | KE18: 44 | KF18: 0 | KG18: 41 | KH18: 51 | KI18: 30 | KJ18: 20 | KK18: 18 | KL18: 160 | KM18: 204
... B40: 清川村 | C40: 1 | D40: 0 | E40: 1 | F40: 0 | G40: 5 | H40: 1 | I40: 2 | J40: 1 | K40: 0 | L40: 9 | M40: 10 | N40: 0 | O40: 0 | P40: 0 | Q40: 0 | R40: 0 | S40: 0 | T40: 0 | U40: 0 | V40: 0 | W40: 0 | X40: 0 | Y40: 0 | Z40: 0 | AA40: 0 | AB40: 0 | AC40: 1 | AD40: 0 | AE40: 0 | AF40: 0 | AG40: 0 | AH40: 1 | AI40: 1 | AJ40: 0 | AK40: 0 | AL40: 0 | AM40: 0 | AN40: 0 | AO40: 0 | AP40: 2 | AQ40: 0 | AR40: 0 | AS40: 2 | AT40: 2 | AU40: 0 | AV40: 0 | AW40: 0 | AX40: 0 | AY40: 1 | AZ40: 0 | BA40: 0 | BB40: 0 | BC40: 0 | BD40: 1 | BE40: 1 | BF40: 1 | BG40: 0 | BH40: 1 | BI40: 0 | BJ40: 3 | BK40: 0 | BL40: 0 | BM40: 0 | BN40: 0 | BO40: 3 | BP40: 4 | BQ40: 0 | BR40: 0 | BS40: 0 | BT40: 0 | BU40: 0 | BV40: 1 | BW40: 0 | BX40: 1 | BY40: 0 | BZ40: 2 | CA40: 2 | CB40: 0 | CC40: 0 | CD40: 0 | CE40: 0 | CF40: 0 | CG40: 0 | CH40: 0 | CI40: 0 | CJ40: 0 | CK40: 0 | CL40: 0 | CM40: 1 | CN40: 0 | CO40: 1 | CP40: 0 | CQ40: 5 | CR40: 1 | CS40: 2 | CT40: 1 | CU40: 0 | CV40: 9 | CW40: 10 | CX40: 0 | CY40: 0 | CZ40: 0 | DA40: 0 | DB40: 0 | DC40: 0 | DD40: 0 | DE40: 1 | DF40: 0 | DG40: 1 | DH40: 1 | DI40: 0 | DJ40: 0 | DK40: 0 | DL40: 0 | DM40: 0 | DN40: 0 | DO40: 0 | DP40: 0 | DQ40: 0 | DR40: 0 | DS40: 0 | DT40: 0 | DU40: 0 | DV40: 0 | DW40: 0 | DX40: 0 | DY40: 0 | DZ40: 0 | EA40: 1 | EB40: 0 | EC40: 1 | ED40: 1 | EE40: 0 | EF40: 0 | EG40: 0 | EH40: 0 | EI40: 0 | EJ40: 0 | EK40: 0 | EL40: 0 | EM40: 0 | EN40: 0 | EO40: 0 | EP40: 0 | EQ40: 0 | ER40: 0 | ES40: 0 | ET40: 0 | EU40: 0 | EV40: 0 | EW40: 0 | EX40: 0 | EY40: 0 | EZ40: 0 | FA40: 0 | FB40: 0 | FC40: 0 | FD40: 0 | FE40: 0 | FF40: 0 | FG40: 0 | FH40: 0 | FI40: 0 | FJ40: 0 | FK40: 0 | FL40: 0 | FM40: 0 | FN40: 0 | FO40: 0 | FP40: 0 | FQ40: 0 | FR40: 0 | FS40: 0 | FT40: 0 | FU40: 0 | FV40: 0 | FW40: 0 | FX40: 0 | FY40: 0 | FZ40: 0 | GA40: 0 | GB40: 0 | GC40: 0 | GD40: 0 | GE40: 0 | GF40: 0 | GG40: 0 | GH40: 0 | GI40: 0 | GJ40: 0 | GK40: 0 | GL40: 0 | GM40: 0 | GN40: 0 | GO40: 1 | GP40: 0 | GQ40: 1 | GR40: 1 | GS40: 1 | GT40: 0 | GU40: 1 | GV40: 0 | GW40: 5 | GX40: 1 | GY40: 2 | GZ40: 2 | HA40: 0 | HB40: 10 | HC40: 11 | HD40: 0 | HE40: 0 | HF40: 0 | HG40: 0 | HH40: 0 | HI40: 0 | HJ40: 0 | HK40: 0 | HL40: 0 | HM40: 0 | HN40: 0 | HO40: 0 | HP40: 0 | HQ40: 0 | HR40: 0 | HS40: 1 | HT40: 0 | HU40: 0 | HV40: 1 | HW40: 0 | HX40: 2 | HY40: 2 | HZ40: 0 | IA40: 0 | IB40: 0 | IC40: 0 | ID40: 0 | IE40: 0 | IF40: 2 | IG40: 0 | IH40: 0 | II40: 2 | IJ40: 2 | IK40: 0 | IL40: 0 | IM40: 0 | IN40: 0 | IO40: 1 | IP40: 0 | IQ40: 0 | IR40: 0 | IS40: 0 | IT40: 1 | IU40: 1 | IV40: 1 | IW40: 0 | IX40: 1 | IY40: 0 | IZ40: 3 | JA40: 0 | JB40: 0 | JC40: 0 | JD40: 0 | JE40: 3 | JF40: 4 | JG40: 0 | JH40: 0 | JI40: 0 | JJ40: 0 | JK40: 0 | JL40: 1 | JM40: 0 | JN40: 1 | JO40: 0 | JP40: 2 | JQ40: 2 | JR40: 0 | JS40: 0 | JT40: 0 | JU40: 0 | JV40: 0 | JW40: 0 | JX40: 0 | JY40: 0 | JZ40: 0 | KA40: 0 | KB40: 0 | KC40: 1 | KD40: 0 | KE40: 1 | KF40: 0 | KG40: 5 | KH40: 1 | KI40: 2 | KJ40: 2 | KK40: 0 | KL40: 10 | KM40: 11

Sheet 第２-3表
B1: 要介護（要支援）認定者数（人） | F1: =第１表!F2 -> 8 | H1: =第１表!G2 -> 7 | I1: =H1 -> 7
B2: ②総数（再掲：第1号被保険者の3割負担対象者分）
B3: 区分 | C3: 男 | CX3: 女 | GS3: 計
C4: 第１号被保険者 | CB4: 第２号被保険者 | CM4: 総数 | CX4: 第１号被保険者 | FW4: 第２号被保険者 | GH4: 総数 | GS4: 第１号被保険者 | JR4: 第２号被保険者 | KC4: 総数
N5: ６５歳以上７０歳未満 | Y5: ７０歳以上７５歳未満 | AJ5: ７５歳以上８０歳未満 | AU5: ８０歳以上８５歳未満 | BF5: ８５歳以上９０歳未満 | BQ5: ９０歳以上 | DI5: ６５歳以上７０歳未満 | DT5: ７０歳以上７５歳未満 | EE5: ７５歳以上８０歳未満 | EP5: ８０歳以上８５歳未満 | FA5: ８５歳以上９０歳未満 | FL5: ９０歳以上 | HD5: ６５歳以上７０歳未満 | HO5: ７０歳以上７５歳未満 | HZ5: ７５歳以上８０歳未満 | IK5: ８０歳以上８５歳未満 | IV5: ８５歳以上９０歳未満 | JG5: ９０歳以上
B6: 市町村名 | C6: 要支援１ | D6: 要支援２ | E6: 計 | F6: 経過的 要介護 | G6: 要介護１ | H6: 要介護２ | I6: 要介護３ | J6: 要介護４ | K6: 要介護５ | L6: 計 | M6: 合計 | N6: 要支援１ | O6: 要支援２ | P6: 計 | Q6: 経過的 要介護 | R6: 要介護１ | S6: 要介護２ | T6: 要介護３ | U6: 要介護４ | V6: 要介護５ | W6: 計 | X6: 合計 | Y6: 要支援１ | Z6: 要支援２ | AA6: 計 | AB6: 経過的 要介護 | AC6: 要介護１ | AD6: 要介護２ | AE6: 要介護３ | AF6: 要介護４ | AG6: 要介護５ | AH6: 計 | AI6: 合計 | AJ6: 要支援１ | AK6: 要支援２ | AL6: 計 | AM6: 経過的 要介護 | AN6: 要介護１ | AO6: 要介護２ | AP6: 要介護３ | AQ6: 要介護４ | AR6: 要介護５ | AS6: 計 | AT6: 合計 | AU6: 要支援１ | AV6: 要支援２ | AW6: 計 | AX6: 経過的 要介護 | AY6: 要介護１ | AZ6: 要介護２ | BA6: 要介護３ | BB6: 要介護４ | BC6: 要介護５ | BD6: 計 | BE6: 合計 | BF6: 要支援１ | BG6: 要支援２ | BH6: 計 | BI6: 経過的 要介護 | BJ6: 要介護１ | BK6: 要介護２ | BL6: 要介護３ | BM6: 要介護４ | BN6: 要介護５ | BO6: 計 | BP6: 合計 | BQ6: 要支援１ | BR6: 要支援２ | BS6: 計 | BT6: 経過的 要介護 | BU6: 要介護１ | BV6: 要介護２ | BW6: 要介護３ | BX6: 要介護４ | BY6: 要介護５ | BZ6: 計 | CA6: 合計 | CB6: 要支援１ | CC6: 要支援２ | CD6: 計 | CE6: 経過的 要介護 | CF6: 要介護１ | CG6: 要介護２ | CH6: 要介護３ | CI6: 要介護４ | CJ6: 要介護５ | CK6: 計 | CL6: 合計 | CM6: 要支援１ | CN6: 要支援２ | CO6: 計 | CP6: 経過的 要介護 | CQ6: 要介護１ | CR6: 要介護２ | CS6: 要介護３ | CT6: 要介護４ | CU6: 要介護５ | CV6: 計 | CW6: 合計 | CX6: 要支援１ | CY6: 要支援２ | CZ6: 計 | DA6: 経過的 要介護 | DB6: 要介護１ | DC6: 要介護２ | DD6: 要介護３ | DE6: 要介護４ | DF6: 要介護５ | DG6: 計 | DH6: 合計 | DI6: 要支援１ | DJ6: 要支援２ | DK6: 計 | DL6: 経過的 要介護 | DM6: 要介護１ | DN6: 要介護２ | DO6: 要介護３ | DP6: 要介護４ | DQ6: 要介護５ | DR6: 計 | DS6: 合計 | DT6: 要支援１ | DU6: 要支援２ | DV6: 計 | DW6: 経過的 要介護 | DX6: 要介護１ | DY6: 要介護２ | DZ6: 要介護３ | EA6: 要介護４ | EB6: 要介護５ | EC6: 計 | ED6: 合計 | EE6: 要支援１ | EF6: 要支援２ | EG6: 計 | EH6: 経過的 要介護 | EI6: 要介護１ | EJ6: 要介護２ | EK6: 要介護３ | EL6: 要介護４ | EM6: 要介護５ | EN6: 計 | EO6: 合計 | EP6: 要支援１ | EQ6: 要支援２ | ER6: 計 | ES6: 経過的 要介護 | ET6: 要介護１ | EU6: 要介護２ | EV6: 要介護３ | EW6: 要介護４ | EX6: 要介護５ | EY6: 計 | EZ6: 合計 | FA6: 要支援１ | FB6: 要支援２ | FC6: 計 | FD6: 経過的 要介護 | FE6: 要介護１ | FF6: 要介護２ | FG6: 要介護３ | FH6: 要介護４ | FI6: 要介護５ | FJ6: 計 | FK6: 合計 | FL6: 要支援１ | FM6: 要支援２ | FN6: 計 | FO6: 経過的 要介護 | FP6: 要介護１ | FQ6: 要介護２ | FR6: 要介護３ | FS6: 要介護４ | FT6: 要介護５ | FU6: 計 | FV6: 合計 | FW6: 要支援１ | FX6: 要支援２ | FY6: 計 | FZ6: 経過的 要介護 | GA6: 要介護１ | GB6: 要介護２ | GC6: 要介護３ | GD6: 要介護４ | GE6: 要介護５ | GF6: 計 | GG6: 合計 | GH6: 要支援１ | GI6: 要支援２ | GJ6: 計 | GK6: 経過的 要介護 | GL6: 要介護１ | GM6: 要介護２ | GN6: 要介護３ | GO6: 要介護４ | GP6: 要介護５ | GQ6: 計 | GR6: 合計 | GS6: 要支援１ | GT6: 要支援２ | GU6: 計 | GV6: 経過的 要介護 | GW6: 要介護１ | GX6: 要介護２ | GY6: 要介護３ | GZ6: 要介護４ | HA6: 要介護５ | HB6: 計 | HC6: 合計 | HD6: 要支援１ | HE6: 要支援２ | HF6: 計 | HG6: 経過的 要介護 | HH6: 要介護１ | HI6: 要介護２ | HJ6: 要介護３ | HK6: 要介護４ | HL6: 要介護５ | HM6: 計 | HN6: 合計 | HO6: 要支援１ | HP6: 要支援２ | HQ6: 計 | HR6: 経過的 要介護 | HS6: 要介護１ | HT6: 要介護２ | HU6: 要介護３ | HV6: 要介護４ | HW6: 要介護５ | HX6: 計 | HY6: 合計 | HZ6: 要支援１ | IA6: 要支援２ | IB6: 計 | IC6: 経過的 要介護 | ID6: 要介護１ | IE6: 要介護２ | IF6: 要介護３ | IG6: 要介護４ | IH6: 要介護５ | II6: 計 | IJ6: 合計 | IK6: 要支援１ | IL6: 要支援２ | IM6: 計 | IN6: 経過的 要介護 | IO6: 要介護１ | IP6: 要介護２ | IQ6: 要介護３ | IR6: 要介護４ | IS6: 要介護５ | IT6: 計 | IU6: 合計 | IV6: 要支援１ | IW6: 要支援２ | IX6: 計 | IY6: 経過的 要介護 | IZ6: 要介護１ | JA6: 要介護２ | JB6: 要介護３ | JC6: 要介護４ | JD6: 要介護５ | JE6: 計 | JF6: 合計 | JG6: 要支援１ | JH6: 要支援２ | JI6: 計 | JJ6: 経過的 要介護 | JK6: 要介護１ | JL6: 要介護２ | JM6: 要介護３ | JN6: 要介護４ | JO6: 要介護５ | JP6: 計 | JQ6: 合計 | JR6: 要支援１ | JS6: 要支援２ | JT6: 計 | JU6: 経過的 要介護 | JV6: 要介護１ | JW6: 要介護２ | JX6: 要介護３ | JY6: 要介護４ | JZ6: 要介護５ | KA6: 計 | KB6: 合計 | KC6: 要支援１ | KD6: 要支援２ | KE6: 計 | KF6: 経過的 要介護 | KG6: 要介護１ | KH6: 要介護２ | KI6: 要介護３ | KJ6: 要介護４ | KK6: 要介護５ | KL6: 計 | KM6: 合計
B7: 神奈川県 | C7: 4073 | D7: 4182 | E7: 8255 | F7: 0 | G7: 5341 | H7: 4875 | I7: 2892 | J7: 2416 | K7: 1462 | L7: 16986 | M7: 25241 | N7: 128 | O7: 167 | P7: 295 | Q7: 0 | R7: 158 | S7: 167 | T7: 115 | U7: 104 | V7: 90 | W7: 634 | X7: 929 | Y7: 250 | Z7: 306 | AA7: 556 | AB7: 0 | AC7: 287 | AD7: 361 | AE7: 180 | AF7: 180 | AG7: 154 | AH7: 1162 | AI7: 1718 | AJ7: 490 | AK7: 603 | AL7: 1093 | AM7: 0 | AN7: 664 | AO7: 632 | AP7: 331 | AQ7: 312 | AR7: 243 | AS7: 2182 | AT7: 3275 | AU7: 852 | AV7: 806 | AW7: 1658 | AX7: 0 | AY7: 1066 | AZ7: 853 | BA7: 457 | BB7: 420 | BC7: 267 | BD7: 3063 | BE7: 4721 | BF7: 1285 | BG7: 1207 | BH7: 2492 | BI7: 0 | BJ7: 1534 | BK7: 1329 | BL7: 759 | BM7: 608 | BN7: 330 | BO7: 4560 | BP7: 7052 | BQ7: 1068 | BR7: 1093 | BS7: 2161 | BT7: 0 | BU7: 1632 | BV7: 1533 | BW7: 1050 | BX7: 792 | BY7: 378 | BZ7: 5385 | CA7: 7546 | CB7: 0 | CC7: 0 | CD7: 0 | CE7: 0 | CF7: 0 | CG7: 0 | CH7: 0 | CI7: 0 | CJ7: 0 | CK7: 0 | CL7: 0 | CM7: 4073 | CN7: 4182 | CO7: 8255 | CP7: 0 | CQ7: 5341 | CR7: 4875 | CS7: 2892 | CT7: 2416 | CU7: 1462 | CV7: 16986 | CW7: 25241 | CX7: 1501 | CY7: 1733 | CZ7: 3234 | DA7: 0 | DB7: 2048 | DC7: 1970 | DD7: 1174 | DE7: 1156 | DF7: 746 | DG7: 7094 | DH7: 10328 | DI7: 42 | DJ7: 49 | DK7: 91 | DL7: 0 | DM7: 36 | DN7: 32 | DO7: 18 | DP7: 18 | DQ7: 17 | DR7: 121 | DS7: 212 | DT7: 112 | DU7: 120 | DV7: 232 | DW7: 0 | DX7: 68 | DY7: 76 | DZ7: 39 | EA7: 32 | EB7: 27 | EC7: 242 | ED7: 474 | EE7: 232 | EF7: 272 | EG7: 504 | EH7: 0 | EI7: 245 | EJ7: 200 | EK7: 116 | EL7: 105 | EM7: 67 | EN7: 733 | EO7: 1237 | EP7: 411 | EQ7: 391 | ER7: 802 | ES7: 0 | ET7: 415 | EU7: 350 | EV7: 168 | EW7: 147 | EX7: 111 | EY7: 1191 | EZ7: 1993 | FA7: 423 | FB7: 493 | FC7: 916 | FD7: 0 | FE7: 592 | FF7: 528 | FG7: 275 | FH7: 262 | FI7: 187 | FJ7: 1844 | FK7: 2760 | FL7: 281 | FM7: 408 | FN7: 689 | FO7: 0 | FP7: 692 | FQ7: 784 | FR7: 558 | FS7: 592 | FT7: 337 | FU7: 2963 | FV7: 3652 | FW7: 0 | FX7: 0 | FY7: 0 | FZ7: 0 | GA7: 0 | GB7: 0 | GC7: 0 | GD7: 0 | GE7: 0 | GF7: 0 | GG7: 0 | GH7: 1501 | GI7: 1733 | GJ7: 3234 | GK7: 0 | GL7: 2048 | GM7: 1970 | GN7: 1174 | GO7: 1156 | GP7: 746 | GQ7: 7094 | GR7: 10328 | GS7: 5574 | GT7: 5915 | GU7: 11489 | GV7: 0 | GW7: 7389 | GX7: 6845 | GY7: 4066 | GZ7: 3572 | HA7: 2208 | HB7: 24080 | HC7: 35569 | HD7: 170 | HE7: 216 | HF7: 386 | HG7: 0 | HH7: 194 | HI7: 199 | HJ7: 133 | HK7: 122 | HL7: 107 | HM7: 755 | HN7: 1141 | HO7: 362 | HP7: 426 | HQ7: 788 | HR7: 0 | HS7: 355 | HT7: 437 | HU7: 219 | HV7: 212 | HW7: 181 | HX7: 1404 | HY7: 2192 | HZ7: 722 | IA7: 875 | IB7: 1597 | IC7: 0 | ID7: 909 | IE7: 832 | IF7: 447 | IG7: 417 | IH7: 310 | II7: 2915 | IJ7: 4512 | IK7: 1263 | IL7: 1197 | IM7: 2460 | IN7: 0 | IO7: 1481 | IP7: 1203 | IQ7: 625 | IR7: 567 | IS7: 378 | IT7: 4254 | IU7: 6714 | IV7: 1708 | IW7: 1700 | IX7: 3408 | IY7: 0 | IZ7: 2126 | JA7: 1857 | JB7: 1034 | JC7: 870 | JD7: 517 | JE7: 6404 | JF7: 9812 | JG7: 1349 | JH7: 1501 | JI7: 2850 | JJ7: 0 | JK7: 2324 | JL7: 2317 | JM7: 1608 | JN7: 1384 | JO7: 715 | JP7: 8348 | JQ7: 11198 | JR7: 0 | JS7: 0 | JT7: 0 | JU7: 0 | JV7: 0 | JW7: 0 | JX7: 0 | JY7: 0 | JZ7: 0 | KA7: 0 | KB7: 0 | KC7: 5574 | KD7: 5915 | KE7: 11489 | KF7: 0 | KG7: 7389 | KH7: 6845 | KI7: 4066 | KJ7: 3572 | KK7: 2208 | KL7: 24080 | KM7: 35569
B8: 横浜市 | C8: 1694 | D8: 2203 | E8: 3897 | F8: 0 | G8: 1944 | H8: 2370 | I8: 1329 | J8: 1058 | K8: 676 | L8: 7377 | M8: 11274 | N8: 49 | O8: 88 | P8: 137 | Q8: 0 | R8: 43 | S8: 88 | T8: 50 | U8: 48 | V8: 35 | W8: 264 | X8: 401 | Y8: 98 | Z8: 135 | AA8: 233 | AB8: 0 | AC8: 90 | AD8: 161 | AE8: 85 | AF8: 72 | AG8: 68 | AH8: 476 | AI8: 709 | AJ8: 205 | AK8: 308 | AL8: 513 | AM8: 0 | AN8: 224 | AO8: 296 | AP8: 133 | AQ8: 140 | AR8: 108 | AS8: 901 | AT8: 1414 | AU8: 325 | AV8: 430 | AW8: 755 | AX8: 0 | AY8: 388 | AZ8: 410 | BA8: 202 | BB8: 187 | BC8: 124 | BD8: 1311 | BE8: 2066 | BF8: 546 | BG8: 638 | BH8: 1184 | BI8: 0 | BJ8: 555 | BK8: 632 | BL8: 356 | BM8: 248 | BN8: 153 | BO8: 1944 | BP8: 3128 | BQ8: 471 | BR8: 604 | BS8: 1075 | BT8: 0 | BU8: 644 | BV8: 783 | BW8: 503 | BX8: 363 | BY8: 188 | BZ8: 2481 | CA8: 3556 | CB8: 0 | CC8: 0 | CD8: 0 | CE8: 0 | CF8: 0 | CG8: 0 | CH8: 0 | CI8: 0 | CJ8: 0 | CK8: 0 | CL8: 0 | CM8: 1694 | CN8: 2203 | CO8: 3897 | CP8: 0 | CQ8: 1944 | CR8: 2370 | CS8: 1329 | CT8: 1058 | CU8: 676 | CV8: 7377 | CW8: 11274 | CX8: 572 | CY8: 841 | CZ8: 1413 | DA8: 0 | DB8: 746 | DC8: 949 | DD8: 530 | DE8: 513 | DF8: 332 | DG8: 3070 | DH8: 4483 | DI8: 19 | DJ8: 26 | DK8: 45 | DL8: 0 | DM8: 13 | DN8: 18 | DO8: 9 | DP8: 8 | DQ8: 8 | DR8: 56 | DS8: 101 | DT8: 42 | DU8: 57 | DV8: 99 | DW8: 0 | DX8: 27 | DY8: 40 | DZ8: 12 | EA8: 7 | EB8: 12 | EC8: 98 | ED8: 197 | EE8: 76 | EF8: 121 | EG8: 197 | EH8: 0 | EI8: 82 | EJ8: 102 | EK8: 56 | EL8: 42 | EM8: 36 | EN8: 318 | EO8: 515 | EP8: 158 | EQ8: 197 | ER8: 355 | ES8: 0 | ET8: 163 | EU8: 157 | EV8: 79 | EW8: 64 | EX8: 49 | EY8: 512 | EZ8: 867 | FA8: 170 | FB8: 239 | FC8: 409 | FD8: 0 | FE8: 226 | FF8: 239 | FG8: 125 | FH8: 122 | FI8: 77 | FJ8: 789 | FK8: 1198 | FL8: 107 | FM8: 201 | FN8: 308 | FO8: 0 | FP8: 235 | FQ8: 393 | FR8: 249 | FS8: 270 | FT8: 150 | FU8: 1297 | FV8: 1605 | FW8: 0 | FX8: 0 | FY8: 0 | FZ8: 0 | GA8: 0 | GB8: 0 | GC8: 0 | GD8: 0 | GE8: 0 | GF8: 0 | GG8: 0 | GH8: 572 | GI8: 841 | GJ8: 1413 | GK8: 0 | GL8: 746 | GM8: 949 | GN8: 530 | GO8: 513 | GP8: 332 | GQ8: 3070 | GR8: 4483 | GS8: 2266 | GT8: 3044 | GU8: 5310 | GV8: 0 | GW8: 2690 | GX8: 3319 | GY8: 1859 | GZ8: 1571 | HA8: 1008 | HB8: 10447 | HC8: 15757 | HD8: 68 | HE8: 114 | HF8: 182 | HG8: 0 | HH8: 56 | HI8: 106 | HJ8: 59 | HK8: 56 | HL8: 43 | HM8: 320 | HN8: 502 | HO8: 140 | HP8: 192 | HQ8: 332 | HR8: 0 | HS8: 117 | HT8: 201 | HU8: 97 | HV8: 79 | HW8: 80 | HX8: 574 | HY8: 906 | HZ8: 281 | IA8: 429 | IB8: 710 | IC8: 0 | ID8: 306 | IE8: 398 | IF8: 189 | IG8: 182 | IH8: 144 | II8: 1219 | IJ8: 1929 | IK8: 483 | IL8: 627 | IM8: 1110 | IN8: 0 | IO8: 551 | IP8: 567 | IQ8: 281 | IR8: 251 | IS8: 173 | IT8: 1823 | IU8: 2933 | IV8: 716 | IW8: 877 | IX8: 1593 | IY8: 0 | IZ8: 781 | JA8: 871 | JB8: 481 | JC8: 370 | JD8: 230 | JE8: 2733 | JF8: 4326 | JG8: 578 | JH8: 805 | JI8: 1383 | JJ8: 0 | JK8: 879 | JL8: 1176 | JM8: 752 | JN8: 633 | JO8: 338 | JP8: 3778 | JQ8: 5161 | JR8: 0 | JS8: 0 | JT8: 0 | JU8: 0 | JV8: 0 | JW8: 0 | JX8: 0 | JY8: 0 | JZ8: 0 | KA8: 0 | KB8: 0 | KC8: 2266 | KD8: 3044 | KE8: 5310 | KF8: 0 | KG8: 2690 | KH8: 3319 | KI8: 1859 | KJ8: 1571 | KK8: 1008 | KL8: 10447 | KM8: 15757
B9: 川崎市 | C9: 564 | D9: 490 | E9: 1054 | F9: 0 | G9: 929 | H9: 680 | I9: 396 | J9: 386 | K9: 219 | L9: 2610 | M9: 3664 | N9: 17 | O9: 23 | P9: 40 | Q9: 0 | R9: 36 | S9: 22 | T9: 19 | U9: 21 | V9: 20 | W9: 118 | X9: 158 | Y9: 32 | Z9: 49 | AA9: 81 | AB9: 0 | AC9: 60 | AD9: 53 | AE9: 25 | AF9: 35 | AG9: 20 | AH9: 193 | AI9: 274 | AJ9: 87 | AK9: 76 | AL9: 163 | AM9: 0 | AN9: 120 | AO9: 96 | AP9: 52 | AQ9: 45 | AR9: 40 | AS9: 353 | AT9: 516 | AU9: 117 | AV9: 83 | AW9: 200 | AX9: 0 | AY9: 186 | AZ9: 130 | BA9: 63 | BB9: 74 | BC9: 44 | BD9: 497 | BE9: 697 | BF9: 161 | BG9: 134 | BH9: 295 | BI9: 0 | BJ9: 238 | BK9: 182 | BL9: 95 | BM9: 88 | BN9: 43 | BO9: 646 | BP9: 941 | BQ9: 150 | BR9: 125 | BS9: 275 | BT9: 0 | BU9: 289 | BV9: 197 | BW9: 142 | BX9: 123 | BY9: 52 | BZ9: 803 | CA9: 1078 | CB9: 0 | CC9: 0 | CD9: 0 | CE9: 0 | CF9: 0 | CG9: 0 | CH9: 0 | CI9: 0 | CJ9: 0 | CK9: 0 | CL9: 0 | CM9: 564 | CN9: 490 | CO9: 1054 | CP9: 0 | CQ9: 929 | CR9: 680 | CS9: 396 | CT9: 386 | CU9: 219 | CV9: 2610 | CW9: 3664 | CX9: 293 | CY9: 260 | CZ9: 553 | DA9: 0 | DB9: 435 | DC9: 340 | DD9: 201 | DE9: 196 | DF9: 124 | DG9: 1296 | DH9: 1849 | DI9: 5 | DJ9: 7 | DK9: 12 | DL9: 0 | DM9: 7 | DN9: 5 | DO9: 2 | DP9: 1 | DQ9: 3 | DR9: 18 | DS9: 30 | DT9: 27 | DU9: 24 | DV9: 51 | DW9: 0 | DX9: 14 | DY9: 11 | DZ9: 11 | EA9: 9 | EB9: 6 | EC9: 51 | ED9: 102 | EE9: 50 | EF9: 41 | EG9: 91 | EH9: 0 | EI9: 55 | EJ9: 24 | EK9: 21 | EL9: 22 | EM9: 12 | EN9: 134 | EO9: 225 | EP9: 65 | EQ9: 62 | ER9: 127 | ES9: 0 | ET9: 72 | EU9: 72 | EV9: 20 | EW9: 17 | EX9: 15 | EY9: 196 | EZ9: 323 | FA9: 82 | FB9: 63 | FC9: 145 | FD9: 0 | FE9: 130 | FF9: 92 | FG9: 48 | FH9: 54 | FI9: 30 | FJ9: 354 | FK9: 499 | FL9: 64 | FM9: 63 | FN9: 127 | FO9: 0 | FP9: 157 | FQ9: 136 | FR9: 99 | FS9: 93 | FT9: 58 | FU9: 543 | FV9: 670 | FW9: 0 | FX9: 0 | FY9: 0 | FZ9: 0 | GA9: 0 | GB9: 0 | GC9: 0 | GD9: 0 | GE9: 0 | GF9: 0 | GG9: 0 | GH9: 293 | GI9: 260 | GJ9: 553 | GK9: 0 | GL9: 435 | GM9: 340 | GN9: 201 | GO9: 196 | GP9: 124 | GQ9: 1296 | GR9: 1849 | GS9: 857 | GT9: 750 | GU9: 1607 | GV9: 0 | GW9: 1364 | GX9: 1020 | GY9: 597 | GZ9: 582 | HA9: 343 | HB9: 3906 | HC9: 5513 | HD9: 22 | HE9: 30 | HF9: 52 | HG9: 0 | HH9: 43 | HI9: 27 | HJ9: 21 | HK9: 22 | HL9: 23 | HM9: 136 | HN9: 188 | HO9: 59 | HP9: 73 | HQ9: 132 | HR9: 0 | HS9: 74 | HT9: 64 | HU9: 36 | HV9: 44 | HW9: 26 | HX9: 244 | HY9: 376 | HZ9: 137 | IA9: 117 | IB9: 254 | IC9: 0 | ID9: 175 | IE9: 120 | IF9: 73 | IG9: 67 | IH9: 52 | II9: 487 | IJ9: 741 | IK9: 182 | IL9: 145 | IM9: 327 | IN9: 0 | IO9: 258 | IP9: 202 | IQ9: 83 | IR9: 91 | IS9: 59 | IT9: 693 | IU9: 1020 | IV9: 243 | IW9: 197 | IX9: 440 | IY9: 0 | IZ9: 368 | JA9: 274 | JB9: 143 | JC9: 142 | JD9: 73 | JE9: 1000 | JF9: 1440 | JG9: 214 | JH9: 188 | JI9: 402 | JJ9: 0 | JK9: 446 | JL9: 333 | JM9: 241 | JN9: 216 | JO9: 110 | JP9: 1346 | JQ9: 1748 | JR9: 0 | JS9: 0 | JT9: 0 | JU9: 0 | JV9: 0 | JW9: 0 | JX9: 0 | JY9: 0 | JZ9: 0 | KA9: 0 | KB9: 0 | KC9: 857 | KD9: 750 | KE9: 1607 | KF9: 0 | KG9: 1364 | KH9: 1020 | KI9: 597 | KJ9: 582 | KK9: 343 | KL9: 3906 | KM9: 5513
B10: 相模原市 | C10: 210 | D10: 246 | E10: 456 | F10: 0 | G10: 261 | H10: 339 | I10: 216 | J10: 184 | K10: 95 | L10: 1095 | M10: 1551 | N10: 9 | O10: 15 | P10: 24 | Q10: 0 | R10: 9 | S10: 7 | T10: 9 | U10: 5 | V10: 6 | W10: 36 | X10: 60 | Y10: 19 | Z10: 31 | AA10: 50 | AB10: 0 | AC10: 13 | AD10: 20 | AE10: 9 | AF10: 14 | AG10: 15 | AH10: 71 | AI10: 121 | AJ10: 26 | AK10: 34 | AL10: 60 | AM10: 0 | AN10: 29 | AO10: 60 | AP10: 29 | AQ10: 26 | AR10: 18 | AS10: 162 | AT10: 222 | AU10: 43 | AV10: 49 | AW10: 92 | AX10: 0 | AY10: 54 | AZ10: 67 | BA10: 46 | BB10: 26 | BC10: 20 | BD10: 213 | BE10: 305 | BF10: 74 | BG10: 69 | BH10: 143 | BI10: 0 | BJ10: 93 | BK10: 102 | BL10: 59 | BM10: 61 | BN10: 17 | BO10: 332 | BP10: 475 | BQ10: 39 | BR10: 48 | BS10: 87 | BT10: 0 | BU10: 63 | BV10: 83 | BW10: 64 | BX10: 52 | BY10: 19 | BZ10: 281 | CA10: 368 | CB10: 0 | CC10: 0 | CD10: 0 | CE10: 0 | CF10: 0 | CG10: 0 | CH10: 0 | CI10: 0 | CJ10: 0 | CK10: 0 | CL10: 0 | CM10: 210 | CN10: 246 | CO10: 456 | CP10: 0 | CQ10: 261 | CR10: 339 | CS10: 216 | CT10: 184 | CU10: 95 | CV10: 1095 | CW10: 1551 | CX10: 64 | CY10: 95 | CZ10: 159 | DA10: 0 | DB10: 108 | DC10: 130 | DD10: 77 | DE10: 72 | DF10: 57 | DG10: 444 | DH10: 603 | DI10: 1 | DJ10: 2 | DK10: 3 | DL10: 0 | DM10: 4 | DN10: 2 | DO10: 0 | DP10: 3 | DQ10: 2 | DR10: 11 | DS10: 14 | DT10: 6 | DU10: 4 | DV10: 10 | DW10: 0 | DX10: 4 | DY10: 9 | DZ10: 2 | EA10: 1 | EB10: 3 | EC10: 19 | ED10: 29 | EE10: 11 | EF10: 20 | EG10: 31 | EH10: 0 | EI10: 16 | EJ10: 14 | EK10: 8 | EL10: 8 | EM10: 6 | EN10: 52 | EO10: 83 | EP10: 22 | EQ10: 22 | ER10: 44 | ES10: 0 | ET10: 21 | EU10: 25 | EV10: 13 | EW10: 6 | EX10: 8 | EY10: 73 | EZ10: 117 | FA10: 16 | FB10: 25 | FC10: 41 | FD10: 0 | FE10: 26 | FF10: 37 | FG10: 21 | FH10: 17 | FI10: 11 | FJ10: 112 | FK10: 153 | FL10: 8 | FM10: 22 | FN10: 30 | FO10: 0 | FP10: 37 | FQ10: 43 | FR10: 33 | FS10: 37 | FT10: 27 | FU10: 177 | FV10: 207 | FW10: 0 | FX10: 0 | FY10: 0 | FZ10: 0 | GA10: 0 | GB10: 0 | GC10: 0 | GD10: 0 | GE10: 0 | GF10: 0 | GG10: 0 | GH10: 64 | GI10: 95 | GJ10: 159 | GK10: 0 | GL10: 108 | GM10: 130 | GN10: 77 | GO10: 72 | GP10: 57 | GQ10: 444 | GR10: 603 | GS10: 274 | GT10: 341 | GU10: 615 | GV10: 0 | GW10: 369 | GX10: 469 | GY10: 293 | GZ10: 256 | HA10: 152 | HB10: 1539 | HC10: 2154 | HD10: 10 | HE10: 17 | HF10: 27 | HG10: 0 | HH10: 13 | HI10: 9 | HJ10: 9 | HK10: 8 | HL10: 8 | HM10: 47 | HN10: 74 | HO10: 25 | HP10: 35 | HQ10: 60 | HR10: 0 | HS10: 17 | HT10: 29 | HU10: 11 | HV10: 15 | HW10: 18 | HX10: 90 | HY10: 150 | HZ10: 37 | IA10: 54 | IB10: 91 | IC10: 0 | ID10: 45 | IE10: 74 | IF10: 37 | IG10: 34 | IH10: 24 | II10: 214 | IJ10: 305 | IK10: 65 | IL10: 71 | IM10: 136 | IN10: 0 | IO10: 75 | IP10: 92 | IQ10: 59 | IR10: 32 | IS10: 28 | IT10: 286 | IU10: 422 | IV10: 90 | IW10: 94 | IX10: 184 | IY10: 0 | IZ10: 119 | JA10: 139 | JB10: 80 | JC10: 78 | JD10: 28 | JE10: 444 | JF10: 628 | JG10: 47 | JH10: 70 | JI10: 117 | JJ10: 0 | JK10: 100 | JL10: 126 | JM10: 97 | JN10: 89 | JO10: 46 | JP10: 458 | JQ10: 575 | JR10: 0 | JS10: 0 | JT10: 0 | JU10: 0 | JV10: 0 | JW10: 0 | JX10: 0 | JY10: 0 | JZ10: 0 | KA10: 0 | KB10: 0 | KC10: 274 | KD10: 341 | KE10: 615 | KF10: 0 | KG10: 369 | KH10: 469 | KI10: 293 | KJ10: 256 | KK10: 152 | KL10: 1539 | KM10: 2154
B11: 横須賀市 | C11: 182 | D11: 139 | E11: 321 | F11: 0 | G11: 293 | H11: 137 | I11: 107 | J11: 85 | K11: 24 | L11: 646 | M11: 967 | N11: 5 | O11: 4 | P11: 9 | Q11: 0 | R11: 10 | S11: 3 | T11: 1 | U11: 3 | V11: 2 | W11: 19 | X11: 28 | Y11: 9 | Z11: 15 | AA11: 24 | AB11: 0 | AC11: 14 | AD11: 10 | AE11: 10 | AF11: 9 | AG11: 3 | AH11: 46 | AI11: 70 | AJ11: 20 | AK11: 21 | AL11: 41 | AM11: 0 | AN11: 46 | AO11: 21 | AP11: 12 | AQ11: 10 | AR11: 2 | AS11: 91 | AT11: 132 | AU11: 27 | AV11: 27 | AW11: 54 | AX11: 0 | AY11: 54 | AZ11: 17 | BA11: 16 | BB11: 4 | BC11: 4 | BD11: 95 | BE11: 149 | BF11: 67 | BG11: 45 | BH11: 112 | BI11: 0 | BJ11: 84 | BK11: 34 | BL11: 32 | BM11: 24 | BN11: 5 | BO11: 179 | BP11: 291 | BQ11: 54 | BR11: 27 | BS11: 81 | BT11: 0 | BU11: 85 | BV11: 52 | BW11: 36 | BX11: 35 | BY11: 8 | BZ11: 216 | CA11: 297 | CB11: 0 | CC11: 0 | CD11: 0 | CE11: 0 | CF11: 0 | CG11: 0 | CH11: 0 | CI11: 0 | CJ11: 0 | CK11: 0 | CL11: 0 | CM11: 182 | CN11: 139 | CO11: 321 | CP11: 0 | CQ11: 293 | CR11: 137 | CS11: 107 | CT11: 85 | CU11: 24 | CV11: 646 | CW11: 967 | CX11: 58 | CY11: 66 | CZ11: 124 | DA11: 0 | DB11: 85 | DC11: 37 | DD11: 25 | DE11: 31 | DF11: 13 | DG11: 191 | DH11: 315 | DI11: 1 | DJ11: 2 | DK11: 3 | DL11: 0 | DM11: 2 | DN11: 0 | DO11: 1 | DP11: 1 | DQ11: 0 | DR11: 4 | DS11: 7 | DT11: 2 | DU11: 6 | DV11: 8 | DW11: 0 | DX11: 1 | DY11: 0 | DZ11: 1 | EA11: 2 | EB11: 0 | EC11: 4 | ED11: 12 | EE11: 8 | EF11: 11 | EG11: 19 | EH11: 0 | EI11: 10 | EJ11: 7 | EK11: 2 | EL11: 5 | EM11: 1 | EN11: 25 | EO11: 44 | EP11: 16 | EQ11: 16 | ER11: 32 | ES11: 0 | ET11: 21 | EU11: 4 | EV11: 4 | EW11: 6 | EX11: 3 | EY11: 38 | EZ11: 70 | FA11: 19 | FB11: 15 | FC11: 34 | FD11: 0 | FE11: 22 | FF11: 15 | FG11: 5 | FH11: 5 | FI11: 5 | FJ11: 52 | FK11: 86 | FL11: 12 | FM11: 16 | FN11: 28 | FO11: 0 | FP11: 29 | FQ11: 11 | FR11: 12 | FS11: 12 | FT11: 4 | FU11: 68 | FV11: 96 | FW11: 0 | FX11: 0 | FY11: 0 | FZ11: 0 | GA11: 0 | GB11: 0 | GC11: 0 | GD11: 0 | GE11: 0 | GF11: 0 | GG11: 0 | GH11: 58 | GI11: 66 | GJ11: 124 | GK11: 0 | GL11: 85 | GM11: 37 | GN11: 25 | GO11: 31 | GP11: 13 | GQ11: 191 | GR11: 315 | GS11: 240 | GT11: 205 | GU11: 445 | GV11: 0 | GW11: 378 | GX11: 174 | GY11: 132 | GZ11: 116 | HA11: 37 | HB11: 837 | HC11: 1282 | HD11: 6 | HE11: 6 | HF11: 12 | HG11: 0 | HH11: 12 | HI11: 3 | HJ11: 2 | HK11: 4 | HL11: 2 | HM11: 23 | HN11: 35 | HO11: 11 | HP11: 21 | HQ11: 32 | HR11: 0 | HS11: 15 | HT11: 10 | HU11: 11 | HV11: 11 | HW11: 3 | HX11: 50 | HY11: 82 | HZ11: 28 | IA11: 32 | IB11: 60 | IC11: 0 | ID11: 56 | IE11: 28 | IF11: 14 | IG11: 15 | IH11: 3 | II11: 116 | IJ11: 176 | IK11: 43 | IL11: 43 | IM11: 86 | IN11: 0 | IO11: 75 | IP11: 21 | IQ11: 20 | IR11: 10 | IS11: 7 | IT11: 133 | IU11: 219 | IV11: 86 | IW11: 60 | IX11: 146 | IY11: 0 | IZ11: 106 | JA11: 49 | JB11: 37 | JC11: 29 | JD11: 10 | JE11: 231 | JF11: 377 | JG11: 66 | JH11: 43 | JI11: 109 | JJ11: 0 | JK11: 114 | JL11: 63 | JM11: 48 | JN11: 47 | JO11: 12 | JP11: 284 | JQ11: 393 | JR11: 0 | JS11: 0 | JT11: 0 | JU11: 0 | JV11: 0 | JW11: 0 | JX11: 0 | JY11: 0 | JZ11: 0 | KA11: 0 | KB11: 0 | KC11: 240 | KD11: 205 | KE11: 445 | KF11: 0 | KG11: 378 | KH11: 174 | KI11: 132 | KJ11: 116 | KK11: 37 | KL11: 837 | KM11: 1282
B12: 平塚市 | C12: 83 | D12: 62 | E12: 145 | F12: 0 | G12: 132 | H12: 97 | I12: 68 | J12: 50 | K12: 28 | L12: 375 | M12: 520 | N12: 3 | O12: 3 | P12: 6 | Q12: 0 | R12: 5 | S12: 3 | T12: 3 | U12: 1 | V12: 2 | W12: 14 | X12: 20 | Y12: 9 | Z12: 11 | AA12: 20 | AB12: 0 | AC12: 7 | AD12: 13 | AE12: 7 | AF12: 7 | AG12: 5 | AH12: 39 | AI12: 59 | AJ12: 13 | AK12: 5 | AL12: 18 | AM12: 0 | AN12: 21 | AO12: 10 | AP12: 9 | AQ12: 10 | AR12: 3 | AS12: 53 | AT12: 71 | AU12: 17 | AV12: 10 | AW12: 27 | AX12: 0 | AY12: 26 | AZ12: 14 | BA12: 9 | BB12: 11 | BC12: 6 | BD12: 66 | BE12: 93 | BF12: 27 | BG12: 22 | BH12: 49 | BI12: 0 | BJ12: 33 | BK12: 30 | BL12: 16 | BM12: 9 | BN12: 8 | BO12: 96 | BP12: 145 | BQ12: 14 | BR12: 11 | BS12: 25 | BT12: 0 | BU12: 40 | BV12: 27 | BW12: 24 | BX12: 12 | BY12: 4 | BZ12: 107 | CA12: 132 | CB12: 0 | CC12: 0 | CD12: 0 | CE12: 0 | CF12: 0 | CG12: 0 | CH12: 0 | CI12: 0 | CJ12: 0 | CK12: 0 | CL12: 0 | CM12: 83 | CN12: 62 | CO12: 145 | CP12: 0 | CQ12: 132 | CR12: 97 | CS12: 68 | CT12: 50 | CU12: 28 | CV12: 375 | CW12: 520 | CX12: 33 | CY12: 27 | CZ12: 60 | DA12: 0 | DB12: 46 | DC12: 49 | DD12: 29 | DE12: 22 | DF12: 12 | DG12: 158 | DH12: 218 | DI12: 1 | DJ12: 0 | DK12: 1 | DL12: 0 | DM12: 1 | DN12: 1 | DO12: 0 | DP12: 2 | DQ12: 0 | DR12: 4 | DS12: 5 | DT12: 2 | DU12: 1 | DV12: 3 | DW12: 0 | DX12: 1 | DY12: 1 | DZ12: 0 | EA12: 1 | EB12: 0 | EC12: 3 | ED12: 6 | EE12: 5 | EF12: 10 | EG12: 15 | EH12: 0 | EI12: 8 | EJ12: 1 | EK12: 3 | EL12: 3 | EM12: 0 | EN12: 15 | EO12: 30 | EP12: 10 | EQ12: 5 | ER12: 15 | ES12: 0 | ET12: 6 | EU12: 6 | EV12: 4 | EW12: 4 | EX12: 4 | EY12: 24 | EZ12: 39 | FA12: 7 | FB12: 6 | FC12: 13 | FD12: 0 | FE12: 10 | FF12: 14 | FG12: 6 | FH12: 3 | FI12: 5 | FJ12: 38 | FK12: 51 | FL12: 8 | FM12: 5 | FN12: 13 | FO12: 0 | FP12: 20 | FQ12: 26 | FR12: 16 | FS12: 9 | FT12: 3 | FU12: 74 | FV12: 87 | FW12: 0 | FX12: 0 | FY12: 0 | FZ12: 0 | GA12: 0 | GB12: 0 | GC12: 0 | GD12: 0 | GE12: 0 | GF12: 0 | GG12: 0 | GH12: 33 | GI12: 27 | GJ12: 60 | GK12: 0 | GL12: 46 | GM12: 49 | GN12: 29 | GO12: 22 | GP12: 12 | GQ12: 158 | GR12: 218 | GS12: 116 | GT12: 89 | GU12: 205 | GV12: 0 | GW12: 178 | GX12: 146 | GY12: 97 | GZ12: 72 | HA12: 40 | HB12: 533 | HC12: 738 | HD12: 4 | HE12: 3 | HF12: 7 | HG12: 0 | HH12: 6 | HI12: 4 | HJ12: 3 | HK12: 3 | HL12: 2 | HM12: 18 | HN12: 25 | HO12: 11 | HP12: 12 | HQ12: 23 | HR12: 0 | HS12: 8 | HT12: 14 | HU12: 7 | HV12: 8 | HW12: 5 | HX12: 42 | HY12: 65 | HZ12: 18 | IA12: 15 | IB12: 33 | IC12: 0 | ID12: 29 | IE12: 11 | IF12: 12 | IG12: 13 | IH12: 3 | II12: 68 | IJ12: 101 | IK12: 27 | IL12: 15 | IM12: 42 | IN12: 0 | IO12: 32 | IP12: 20 | IQ12: 13 | IR12: 15 | IS12: 10 | IT12: 90 | IU12: 132 | IV12: 34 | IW12: 28 | IX12: 62 | IY12: 0 | IZ12: 43 | JA12: 44 | JB12: 22 | JC12: 12 | JD12: 13 | JE12: 134 | JF12: 196 | JG12: 22 | JH12: 16 | JI12: 38 | JJ12: 0 | JK12: 60 | JL12: 53 | JM12: 40 | JN12: 21 | JO12: 7 | JP12: 181 | JQ12: 219 | JR12: 0 | JS12: 0 | JT12: 0 | JU12: 0 | JV12: 0 | JW12: 0 | JX12: 0 | JY12: 0 | JZ12: 0 | KA12: 0 | KB12: 0 | KC12: 116 | KD12: 89 | KE12: 205 | KF12: 0 | KG12: 178 | KH12: 146 | KI12: 97 | KJ12: 72 | KK12: 40 | KL12: 533 | KM12: 738
B13: 鎌倉市 | C13: 251 | D13: 100 | E13: 351 | F13: 0 | G13: 271 | H13: 171 | I13: 101 | J13: 91 | K13: 68 | L13: 702 | M13: 1053 | N13: 2 | O13: 1 | P13: 3 | Q13: 0 | R13: 10 | S13: 7 | T13: 4 | U13: 2 | V13: 3 | W13: 26 | X13: 29 | Y13: 4 | Z13: 3 | AA13: 7 | AB13: 0 | AC13: 5 | AD13: 6 | AE13: 5 | AF13: 6 | AG13: 8 | AH13: 30 | AI13: 37 | AJ13: 21 | AK13: 11 | AL13: 32 | AM13: 0 | AN13: 17 | AO13: 11 | AP13: 6 | AQ13: 4 | AR13: 9 | AS13: 47 | AT13: 79 | AU13: 55 | AV13: 14 | AW13: 69 | AX13: 0 | AY13: 52 | AZ13: 24 | BA13: 14 | BB13: 15 | BC13: 13 | BD13: 118 | BE13: 187 | BF13: 88 | BG13: 36 | BH13: 124 | BI13: 0 | BJ13: 92 | BK13: 48 | BL13: 27 | BM13: 27 | BN13: 18 | BO13: 212 | BP13: 336 | BQ13: 81 | BR13: 35 | BS13: 116 | BT13: 0 | BU13: 95 | BV13: 75 | BW13: 45 | BX13: 37 | BY13: 17 | BZ13: 269 | CA13: 385 | CB13: 0 | CC13: 0 | CD13: 0 | CE13: 0 | CF13: 0 | CG13: 0 | CH13: 0 | CI13: 0 | CJ13: 0 | CK13: 0 | CL13: 0 | CM13: 251 | CN13: 100 | CO13: 351 | CP13: 0 | CQ13: 271 | CR13: 171 | CS13: 101 | CT13: 91 | CU13: 68 | CV13: 702 | CW13: 1053 | CX13: 84 | CY13: 58 | CZ13: 142 | DA13: 0 | DB13: 94 | DC13: 67 | DD13: 43 | DE13: 48 | DF13: 24 | DG13: 276 | DH13: 418 | DI13: 1 | DJ13: 0 | DK13: 1 | DL13: 0 | DM13: 1 | DN13: 0 | DO13: 1 | DP13: 1 | DQ13: 0 | DR13: 3 | DS13: 4 | DT13: 3 | DU13: 1 | DV13: 4 | DW13: 0 | DX13: 1 | DY13: 3 | DZ13: 0 | EA13: 1 | EB13: 0 | EC13: 5 | ED13: 9 | EE13: 13 | EF13: 12 | EG13: 25 | EH13: 0 | EI13: 13 | EJ13: 4 | EK13: 2 | EL13: 2 | EM13: 1 | EN13: 22 | EO13: 47 | EP13: 23 | EQ13: 15 | ER13: 38 | ES13: 0 | ET13: 22 | EU13: 16 | EV13: 6 | EW13: 5 | EX13: 1 | EY13: 50 | EZ13: 88 | FA13: 28 | FB13: 19 | FC13: 47 | FD13: 0 | FE13: 28 | FF13: 21 | FG13: 10 | FH13: 11 | FI13: 5 | FJ13: 75 | FK13: 122 | FL13: 16 | FM13: 11 | FN13: 27 | FO13: 0 | FP13: 29 | FQ13: 23 | FR13: 24 | FS13: 28 | FT13: 17 | FU13: 121 | FV13: 148 | FW13: 0 | FX13: 0 | FY13: 0 | FZ13: 0 | GA13: 0 | GB13: 0 | GC13: 0 | GD13: 0 | GE13: 0 | GF13: 0 | GG13: 0 | GH13: 84 | GI13: 58 | GJ13: 142 | GK13: 0 | GL13: 94 | GM13: 67 | GN13: 43 | GO13: 48 | GP13: 24 | GQ13: 276 | GR13: 418 | GS13: 335 | GT13: 158 | GU13: 493 | GV13: 0 | GW13: 365 | GX13: 238 | GY13: 144 | GZ13: 139 | HA13: 92 | HB13: 978 | HC13: 1471 | HD13: 3 | HE13: 1 | HF13: 4 | HG13: 0 | HH13: 11 | HI13: 7 | HJ13: 5 | HK13: 3 | HL13: 3 | HM13: 29 | HN13: 33 | HO13: 7 | HP13: 4 | HQ13: 11 | HR13: 0 | HS13: 6 | HT13: 9 | HU13: 5 | HV13: 7 | HW13: 8 | HX13: 35 | HY13: 46 | HZ13: 34 | IA13: 23 | IB13: 57 | IC13: 0 | ID13: 30 | IE13: 15 | IF13: 8 | IG13: 6 | IH13: 10 | II13: 69 | IJ13: 126 | IK13: 78 | IL13: 29 | IM13: 107 | IN13: 0 | IO13: 74 | IP13: 40 | IQ13: 20 | IR13: 20 | IS13: 14 | IT13: 168 | IU13: 275 | IV13: 116 | IW13: 55 | IX13: 171 | IY13: 0 | IZ13: 120 | JA13: 69 | JB13: 37 | JC13: 38 | JD13: 23 | JE13: 287 | JF13: 458 | JG13: 97 | JH13: 46 | JI13: 143 | JJ13: 0 | JK13: 124 | JL13: 98 | JM13: 69 | JN13: 65 | JO13: 34 | JP13: 390 | JQ13: 533 | JR13: 0 | JS13: 0 | JT13: 0 | JU13: 0 | JV13: 0 | JW13: 0 | JX13: 0 | JY13: 0 | JZ13: 0 | KA13: 0 | KB13: 0 | KC13: 335 | KD13: 158 | KE13: 493 | KF13: 0 | KG13: 365 | KH13: 238 | KI13: 144 | KJ13: 139 | KK13: 92 | KL13: 978 | KM13: 1471
B14: 藤沢市 | C14: 346 | D14: 231 | E14: 577 | F14: 0 | G14: 385 | H14: 167 | I14: 115 | J14: 98 | K14: 69 | L14: 834 | M14: 1411 | N14: 12 | O14: 7 | P14: 19 | Q14: 0 | R14: 13 | S14: 9 | T14: 5 | U14: 4 | V14: 4 | W14: 35 | X14: 54 | Y14: 22 | Z14: 15 | AA14: 37 | AB14: 0 | AC14: 25 | AD14: 10 | AE14: 6 | AF14: 5 | AG14: 8 | AH14: 54 | AI14: 91 | AJ14: 37 | AK14: 39 | AL14: 76 | AM14: 0 | AN14: 53 | AO14: 23 | AP14: 11 | AQ14: 15 | AR14: 14 | AS14: 116 | AT14: 192 | AU14: 74 | AV14: 42 | AW14: 116 | AX14: 0 | AY14: 72 | AZ14: 28 | BA14: 16 | BB14: 18 | BC14: 9 | BD14: 143 | BE14: 259 | BF14: 104 | BG14: 64 | BH14: 168 | BI14: 0 | BJ14: 103 | BK14: 41 | BL14: 34 | BM14: 24 | BN14: 17 | BO14: 219 | BP14: 387 | BQ14: 97 | BR14: 64 | BS14: 161 | BT14: 0 | BU14: 119 | BV14: 56 | BW14: 43 | BX14: 32 | BY14: 17 | BZ14: 267 | CA14: 428 | CB14: 0 | CC14: 0 | CD14: 0 | CE14: 0 | CF14: 0 | CG14: 0 | CH14: 0 | CI14: 0 | CJ14: 0 | CK14: 0 | CL14: 0 | CM14: 346 | CN14: 231 | CO14: 577 | CP14: 0 | CQ14: 385 | CR14: 167 | CS14: 115 | CT14: 98 | CU14: 69 | CV14: 834 | CW14: 1411 | CX14: 132 | CY14: 80 | CZ14: 212 | DA14: 0 | DB14: 162 | DC14: 73 | DD14: 46 | DE14: 54 | DF14: 44 | DG14: 379 | DH14: 591 | DI14: 5 | DJ14: 4 | DK14: 9 | DL14: 0 | DM14: 1 | DN14: 0 | DO14: 1 | DP14: 0 | DQ14: 1 | DR14: 3 | DS14: 12 | DT14: 8 | DU14: 9 | DV14: 17 | DW14: 0 | DX14: 6 | DY14: 2 | DZ14: 1 | EA14: 1 | EB14: 3 | EC14: 13 | ED14: 30 | EE14: 20 | EF14: 15 | EG14: 35 | EH14: 0 | EI14: 22 | EJ14: 8 | EK14: 2 | EL14: 1 | EM14: 3 | EN14: 36 | EO14: 71 | EP14: 39 | EQ14: 13 | ER14: 52 | ES14: 0 | ET14: 29 | EU14: 13 | EV14: 7 | EW14: 7 | EX14: 5 | EY14: 61 | EZ14: 113 | FA14: 32 | FB14: 27 | FC14: 59 | FD14: 0 | FE14: 41 | FF14: 19 | FG14: 12 | FH14: 11 | FI14: 14 | FJ14: 97 | FK14: 156 | FL14: 28 | FM14: 12 | FN14: 40 | FO14: 0 | FP14: 63 | FQ14: 31 | FR14: 23 | FS14: 34 | FT14: 18 | FU14: 169 | FV14: 209 | FW14: 0 | FX14: 0 | FY14: 0 | FZ14: 0 | GA14: 0 | GB14: 0 | GC14: 0 | GD14: 0 | GE14: 0 | GF14: 0 | GG14: 0 | GH14: 132 | GI14: 80 | GJ14: 212 | GK14: 0 | GL14: 162 | GM14: 73 | GN14: 46 | GO14: 54 | GP14: 44 | GQ14: 379 | GR14: 591 | GS14: 478 | GT14: 311 | GU14: 789 | GV14: 0 | GW14: 547 | GX14: 240 | GY14: 161 | GZ14: 152 | HA14: 113 | HB14: 1213 | HC14: 2002 | HD14: 17 | HE14: 11 | HF14: 28 | HG14: 0 | HH14: 14 | HI14: 9 | HJ14: 6 | HK14: 4 | HL14: 5 | HM14: 38 | HN14: 66 | HO14: 30 | HP14: 24 | HQ14: 54 | HR14: 0 | HS14: 31 | HT14: 12 | HU14: 7 | HV14: 6 | HW14: 11 | HX14: 67 | HY14: 121 | HZ14: 57 | IA14: 54 | IB14: 111 | IC14: 0 | ID14: 75 | IE14: 31 | IF14: 13 | IG14: 16 | IH14: 17 | II14: 152 | IJ14: 263 | IK14: 113 | IL14: 55 | IM14: 168 | IN14: 0 | IO14: 101 | IP14: 41 | IQ14: 23 | IR14: 25 | IS14: 14 | IT14: 204 | IU14: 372 | IV14: 136 | IW14: 91 | IX14: 227 | IY14: 0 | IZ14: 144 | JA14: 60 | JB14: 46 | JC14: 35 | JD14: 31 | JE14: 316 | JF14: 543 | JG14: 125 | JH14: 76 | JI14: 201 | JJ14: 0 | JK14: 182 | JL14: 87 | JM14: 66 | JN14: 66 | JO14: 35 | JP14: 436 | JQ14: 637 | JR14: 0 | JS14: 0 | JT14: 0 | JU14: 0 | JV14: 0 | JW14: 0 | JX14: 0 | JY14: 0 | JZ14: 0 | KA14: 0 | KB14: 0 | KC14: 478 | KD14: 311 | KE14: 789 | KF14: 0 | KG14: 547 | KH14: 240 | KI14: 161 | KJ14: 152 | KK14: 113 | KL14: 1213 | KM14: 2002
B15: 小田原市 | C15: 63 | D15: 44 | E15: 107 | F15: 0 | G15: 122 | H15: 82 | I15: 49 | J15: 39 | K15: 17 | L15: 309 | M15: 416 | N15: 1 | O15: 2 | P15: 3 | Q15: 0 | R15: 4 | S15: 3 | T15: 0 | U15: 0 | V15: 0 | W15: 7 | X15: 10 | Y15: 0 | Z15: 2 | AA15: 2 | AB15: 0 | AC15: 7 | AD15: 8 | AE15: 3 | AF15: 3 | AG15: 1 | AH15: 22 | AI15: 24 | AJ15: 5 | AK15: 8 | AL15: 13 | AM15: 0 | AN15: 23 | AO15: 5 | AP15: 5 | AQ15: 9 | AR15: 2 | AS15: 44 | AT15: 57 | AU15: 14 | AV15: 10 | AW15: 24 | AX15: 0 | AY15: 20 | AZ15: 16 | BA15: 8 | BB15: 8 | BC15: 4 | BD15: 56 | BE15: 80 | BF15: 20 | BG15: 9 | BH15: 29 | BI15: 0 | BJ15: 35 | BK15: 20 | BL15: 10 | BM15: 6 | BN15: 7 | BO15: 78 | BP15: 107 | BQ15: 23 | BR15: 13 | BS15: 36 | BT15: 0 | BU15: 33 | BV15: 30 | BW15: 23 | BX15: 13 | BY15: 3 | BZ15: 102 | CA15: 138 | CB15: 0 | CC15: 0 | CD15: 0 | CE15: 0 | CF15: 0 | CG15: 0 | CH15: 0 | CI15: 0 | CJ15: 0 | CK15: 0 | CL15: 0 | CM15: 63 | CN15: 44 | CO15: 107 | CP15: 0 | CQ15: 122 | CR15: 82 | CS15: 49 | CT15: 39 | CU15: 17 | CV15: 309 | CW15: 416 | CX15: 28 | CY15: 19 | CZ15: 47 | DA15: 0 | DB15: 56 | DC15: 35 | DD15: 23 | DE15: 31 | DF15: 9 | DG15: 154 | DH15: 201 | DI15: 1 | DJ15: 0 | DK15: 1 | DL15: 0 | DM15: 1 | DN15: 1 | DO15: 0 | DP15: 0 | DQ15: 0 | DR15: 2 | DS15: 3 | DT15: 1 | DU15: 1 | DV15: 2 | DW15: 0 | DX15: 3 | DY15: 0 | DZ15: 3 | EA15: 1 | EB15: 0 | EC15: 7 | ED15: 9 | EE15: 7 | EF15: 1 | EG15: 8 | EH15: 0 | EI15: 8 | EJ15: 6 | EK15: 2 | EL15: 1 | EM15: 0 | EN15: 17 | EO15: 25 | EP15: 6 | EQ15: 2 | ER15: 8 | ES15: 0 | ET15: 11 | EU15: 5 | EV15: 3 | EW15: 5 | EX15: 1 | EY15: 25 | EZ15: 33 | FA15: 7 | FB15: 7 | FC15: 14 | FD15: 0 | FE15: 15 | FF15: 9 | FG15: 6 | FH15: 5 | FI15: 2 | FJ15: 37 | FK15: 51 | FL15: 6 | FM15: 8 | FN15: 14 | FO15: 0 | FP15: 18 | FQ15: 14 | FR15: 9 | FS15: 19 | FT15: 6 | FU15: 66 | FV15: 80 | FW15: 0 | FX15: 0 | FY15: 0 | FZ15: 0 | GA15: 0 | GB15: 0 | GC15: 0 | GD15: 0 | GE15: 0 | GF15: 0 | GG15: 0 | GH15: 28 | GI15: 19 | GJ15: 47 | GK15: 0 | GL15: 56 | GM15: 35 | GN15: 23 | GO15: 31 | GP15: 9 | GQ15: 154 | GR15: 201 | GS15: 91 | GT15: 63 | GU15: 154 | GV15: 0 | GW15: 178 | GX15: 117 | GY15: 72 | GZ15: 70 | HA15: 26 | HB15: 463 | HC15: 617 | HD15: 2 | HE15: 2 | HF15: 4 | HG15: 0 | HH15: 5 | HI15: 4 | HJ15: 0 | HK15: 0 | HL15: 0 | HM15: 9 | HN15: 13 | HO15: 1 | HP15: 3 | HQ15: 4 | HR15: 0 | HS15: 10 | HT15: 8 | HU15: 6 | HV15: 4 | HW15: 1 | HX15: 29 | HY15: 33 | HZ15: 12 | IA15: 9 | IB15: 21 | IC15: 0 | ID15: 31 | IE15: 11 | IF15: 7 | IG15: 10 | IH15: 2 | II15: 61 | IJ15: 82 | IK15: 20 | IL15: 12 | IM15: 32 | IN15: 0 | IO15: 31 | IP15: 21 | IQ15: 11 | IR15: 13 | IS15: 5 | IT15: 81 | IU15: 113 | IV15: 27 | IW15: 16 | IX15: 43 | IY15: 0 | IZ15: 50 | JA15: 29 | JB15: 16 | JC15: 11 | JD15: 9 | JE15: 115 | JF15: 158 | JG15: 29 | JH15: 21 | JI15: 50 | JJ15: 0 | JK15: 51 | JL15: 44 | JM15: 32 | JN15: 32 | JO15: 9 | JP15: 168 | JQ15: 218 | JR15: 0 | JS15: 0 | JT15: 0 | JU15: 0 | JV15: 0 | JW15: 0 | JX15: 0 | JY15: 0 | JZ15: 0 | KA15: 0 | KB15: 0 | KC15: 91 | KD15: 63 | KE15: 154 | KF15: 0 | KG15: 178 | KH15: 117 | KI15: 72 | KJ15: 70 | KK15: 26 | KL15: 463 | KM15: 617
B16: 茅ヶ崎市 | C16: 137 | D16: 144 | E16: 281 | F16: 0 | G16: 154 | H16: 112 | I16: 77 | J16: 73 | K16: 33 | L16: 449 | M16: 730 | N16: 8 | O16: 7 | P16: 15 | Q16: 0 | R16: 4 | S16: 2 | T16: 3 | U16: 1 | V16: 0 | W16: 10 | X16: 25 | Y16: 5 | Z16: 11 | AA16: 16 | AB16: 0 | AC16: 8 | AD16: 10 | AE16: 7 | AF16: 2 | AG16: 1 | AH16: 28 | AI16: 44 | AJ16: 16 | AK16: 28 | AL16: 44 | AM16: 0 | AN16: 9 | AO16: 15 | AP16: 7 | AQ16: 10 | AR16: 6 | AS16: 47 | AT16: 91 | AU16: 34 | AV16: 28 | AW16: 62 | AX16: 0 | AY16: 36 | AZ16: 26 | BA16: 17 | BB16: 11 | BC16: 7 | BD16: 97 | BE16: 159 | BF16: 45 | BG16: 36 | BH16: 81 | BI16: 0 | BJ16: 47 | BK16: 27 | BL16: 16 | BM16: 24 | BN16: 8 | BO16: 122 | BP16: 203 | BQ16: 29 | BR16: 34 | BS16: 63 | BT16: 0 | BU16: 50 | BV16: 32 | BW16: 27 | BX16: 25 | BY16: 11 | BZ16: 145 | CA16: 208 | CB16: 0 | CC16: 0 | CD16: 0 | CE16: 0 | CF16: 0 | CG16: 0 | CH16: 0 | CI16: 0 | CJ16: 0 | CK16: 0 | CL16: 0 | CM16: 137 | CN16: 144 | CO16: 281 | CP16: 0 | CQ16: 154 | CR16: 112 | CS16: 77 | CT16: 73 | CU16: 33 | CV16: 449 | CW16: 730 | CX16: 45 | CY16: 56 | CZ16: 101 | DA16: 0 | DB16: 51 | DC16: 37 | DD16: 26 | DE16: 24 | DF16: 14 | DG16: 152 | DH16: 253 | DI16: 2 | DJ16: 2 | DK16: 4 | DL16: 0 | DM16: 1 | DN16: 1 | DO16: 1 | DP16: 0 | DQ16: 0 | DR16: 3 | DS16: 7 | DT16: 1 | DU16: 4 | DV16: 5 | DW16: 0 | DX16: 0 | DY16: 0 | DZ16: 2 | EA16: 1 | EB16: 0 | EC16: 3 | ED16: 8 | EE16: 7 | EF16: 8 | EG16: 15 | EH16: 0 | EI16: 6 | EJ16: 4 | EK16: 2 | EL16: 1 | EM16: 0 | EN16: 13 | EO16: 28 | EP16: 13 | EQ16: 6 | ER16: 19 | ES16: 0 | ET16: 12 | EU16: 6 | EV16: 6 | EW16: 4 | EX16: 3 | EY16: 31 | EZ16: 50 | FA16: 15 | FB16: 22 | FC16: 37 | FD16: 0 | FE16: 19 | FF16: 11 | FG16: 3 | FH16: 4 | FI16: 5 | FJ16: 42 | FK16: 79 | FL16: 7 | FM16: 14 | FN16: 21 | FO16: 0 | FP16: 13 | FQ16: 15 | FR16: 12 | FS16: 14 | FT16: 6 | FU16: 60 | FV16: 81 | FW16: 0 | FX16: 0 | FY16: 0 | FZ16: 0 | GA16: 0 | GB16: 0 | GC16: 0 | GD16: 0 | GE16: 0 | GF16: 0 | GG16: 0 | GH16: 45 | GI16: 56 | GJ16: 101 | GK16: 0 | GL16: 51 | GM16: 37 | GN16: 26 | GO16: 24 | GP16: 14 | GQ16: 152 | GR16: 253 | GS16: 182 | GT16: 200 | GU16: 382 | GV16: 0 | GW16: 205 | GX16: 149 | GY16: 103 | GZ16: 97 | HA16: 47 | HB16: 601 | HC16: 983 | HD16: 10 | HE16: 9 | HF16: 19 | HG16: 0 | HH16: 5 | HI16: 3 | HJ16: 4 | HK16: 1 | HL16: 0 | HM16: 13 | HN16: 32 | HO16: 6 | HP16: 15 | HQ16: 21 | HR16: 0 | HS16: 8 | HT16: 10 | HU16: 9 | HV16: 3 | HW16: 1 | HX16: 31 | HY16: 52 | HZ16: 23 | IA16: 36 | IB16: 59 | IC16: 0 | ID16: 15 | IE16: 19 | IF16: 9 | IG16: 11 | IH16: 6 | II16: 60 | IJ16: 119 | IK16: 47 | IL16: 34 | IM16: 81 | IN16: 0 | IO16: 48 | IP16: 32 | IQ16: 23 | IR16: 15 | IS16: 10 | IT16: 128 | IU16: 209 | IV16: 60 | IW16: 58 | IX16: 118 | IY16: 0 | IZ16: 66 | JA16: 38 | JB16: 19 | JC16: 28 | JD16: 13 | JE16: 164 | JF16: 282 | JG16: 36 | JH16: 48 | JI16: 84 | JJ16: 0 | JK16: 63 | JL16: 47 | JM16: 39 | JN16: 39 | JO16: 17 | JP16: 205 | JQ16: 289 | JR16: 0 | JS16: 0 | JT16: 0 | JU16: 0 | JV16: 0 | JW16: 0 | JX16: 0 | JY16: 0 | JZ16: 0 | KA16: 0 | KB16: 0 | KC16: 182 | KD16: 200 | KE16: 382 | KF16: 0 | KG16: 205 | KH16: 149 | KI16: 103 | KJ16: 97 | KK16: 47 | KL16: 601 | KM16: 983
B17: 逗子市 | C17: 42 | D17: 40 | E17: 82 | F17: 0 | G17: 80 | H17: 63 | I17: 38 | J17: 31 | K17: 16 | L17: 228 | M17: 310 | N17: 1 | O17: 1 | P17: 2 | Q17: 0 | R17: 0 | S17: 0 | T17: 1 | U17: 1 | V17: 2 | W17: 4 | X17: 6 | Y17: 3 | Z17: 1 | AA17: 4 | AB17: 0 | AC17: 4 | AD17: 3 | AE17: 0 | AF17: 0 | AG17: 1 | AH17: 8 | AI17: 12 | AJ17: 2 | AK17: 4 | AL17: 6 | AM17: 0 | AN17: 4 | AO17: 6 | AP17: 5 | AQ17: 1 | AR17: 0 | AS17: 16 | AT17: 22 | AU17: 7 | AV17: 9 | AW17: 16 | AX17: 0 | AY17: 10 | AZ17: 10 | BA17: 4 | BB17: 6 | BC17: 1 | BD17: 31 | BE17: 47 | BF17: 12 | BG17: 9 | BH17: 21 | BI17: 0 | BJ17: 29 | BK17: 10 | BL17: 14 | BM17: 10 | BN17: 7 | BO17: 70 | BP17: 91 | BQ17: 17 | BR17: 16 | BS17: 33 | BT17: 0 | BU17: 33 | BV17: 34 | BW17: 14 | BX17: 13 | BY17: 5 | BZ17: 99 | CA17: 132 | CB17: 0 | CC17: 0 | CD17: 0 | CE17: 0 | CF17: 0 | CG17: 0 | CH17: 0 | CI17: 0 | CJ17: 0 | CK17: 0 | CL17: 0 | CM17: 42 | CN17: 40 | CO17: 82 | CP17: 0 | CQ17: 80 | CR17: 63 | CS17: 38 | CT17: 31 | CU17: 16 | CV17: 228 | CW17: 310 | CX17: 14 | CY17: 19 | CZ17: 33 | DA17: 0 | DB17: 25 | DC17: 18 | DD17: 13 | DE17: 20 | DF17: 12 | DG17: 88 | DH17: 121 | DI17: 0 | DJ17: 1 | DK17: 1 | DL17: 0 | DM17: 0 | DN17: 0 | DO17: 0 | DP17: 0 | DQ17: 1 | DR17: 1 | DS17: 2 | DT17: 2 | DU17: 1 | DV17: 3 | DW17: 0 | DX17: 2 | DY17: 0 | DZ17: 0 | EA17: 1 | EB17: 0 | EC17: 3 | ED17: 6 | EE17: 1 | EF17: 3 | EG17: 4 | EH17: 0 | EI17: 4 | EJ17: 2 | EK17: 4 | EL17: 1 | EM17: 2 | EN17: 13 | EO17: 17 | EP17: 4 | EQ17: 1 | ER17: 5 | ES17: 0 | ET17: 3 | EU17: 2 | EV17: 0 | EW17: 4 | EX17: 2 | EY17: 11 | EZ17: 16 | FA17: 4 | FB17: 7 | FC17: 11 | FD17: 0 | FE17: 6 | FF17: 7 | FG17: 1 | FH17: 4 | FI17: 4 | FJ17: 22 | FK17: 33 | FL17: 3 | FM17: 6 | FN17: 9 | FO17: 0 | FP17: 10 | FQ17: 7 | FR17: 8 | FS17: 10 | FT17: 3 | FU17: 38 | FV17: 47 | FW17: 0 | FX17: 0 | FY17: 0 | FZ17: 0 | GA17: 0 | GB17: 0 | GC17: 0 | GD17: 0 | GE17: 0 | GF17: 0 | GG17: 0 | GH17: 14 | GI17: 19 | GJ17: 33 | GK17: 0 | GL17: 25 | GM17: 18 | GN17: 13 | GO17: 20 | GP17: 12 | GQ17: 88 | GR17: 121 | GS17: 56 | GT17: 59 | GU17: 115 | GV17: 0 | GW17: 105 | GX17: 81 | GY17: 51 | GZ17: 51 | HA17: 28 | HB17: 316 | HC17: 431 | HD17: 1 | HE17: 2 | HF17: 3 | HG17: 0 | HH17: 0 | HI17: 0 | HJ17: 1 | HK17: 1 | HL17: 3 | HM17: 5 | HN17: 8 | HO17: 5 | HP17: 2 | HQ17: 7 | HR17: 0 | HS17: 6 | HT17: 3 | HU17: 0 | HV17: 1 | HW17: 1 | HX17: 11 | HY17: 18 | HZ17: 3 | IA17: 7 | IB17: 10 | IC17: 0 | ID17: 8 | IE17: 8 | IF17: 9 | IG17: 2 | IH17: 2 | II17: 29 | IJ17: 39 | IK17: 11 | IL17: 10 | IM17: 21 | IN17: 0 | IO17: 13 | IP17: 12 | IQ17: 4 | IR17: 10 | IS17: 3 | IT17: 42 | IU17: 63 | IV17: 16 | IW17: 16 | IX17: 32 | IY17: 0 | IZ17: 35 | JA17: 17 | JB17: 15 | JC17: 14 | JD17: 11 | JE17: 92 | JF17: 124 | JG17: 20 | JH17: 22 | JI17: 42 | JJ17: 0 | JK17: 43 | JL17: 41 | JM17: 22 | JN17: 23 | JO17: 8 | JP17: 137 | JQ17: 179 | JR17: 0 | JS17: 0 | JT17: 0 | JU17: 0 | JV17: 0 | JW17: 0 | JX17: 0 | JY17: 0 | JZ17: 0 | KA17: 0 | KB17: 0 | KC17: 56 | KD17: 59 | KE17: 115 | KF17: 0 | KG17: 105 | KH17: 81 | KI17: 51 | KJ17: 51 | KK17: 28 | KL17: 316 | KM17: 431
B18: 三浦市 | C18: 12 | D18: 10 | E18: 22 | F18: 0 | G18: 18 | H18: 17 | I18: 10 | J18: 8 | K18: 8 | L18: 61 | M18: 83 | N18: 1 | O18: 0 | P18: 1 | Q18: 0 | R18: 1 | S18: 0 | T18: 0 | U18: 1 | V18: 2 | W18: 4 | X18: 5 | Y18: 3 | Z18: 0 | AA18: 3 | AB18: 0 | AC18: 2 | AD18: 3 | AE18: 1 | AF18: 1 | AG18: 0 | AH18: 7 | AI18: 10 | AJ18: 3 | AK18: 2 | AL18: 5 | AM18: 0 | AN18: 5 | AO18: 1 | AP18: 3 | AQ18: 1 | AR18: 1 | AS18: 11 | AT18: 16 | AU18: 1 | AV18: 0 | AW18: 1 | AX18: 0 | AY18: 1 | AZ18: 5 | BA18: 2 | BB18: 1 | BC18: 5 | BD18: 14 | BE18: 15 | BF18: 2 | BG18: 4 | BH18: 6 | BI18: 0 | BJ18: 6 | BK18: 3 | BL18: 2 | BM18: 3 | BN18: 0 | BO18: 14 | BP18: 20 | BQ18: 2 | BR18: 4 | BS18: 6 | BT18: 0 | BU18: 3 | BV18: 5 | BW18: 2 | BX18: 1 | BY18: 0 | BZ18: 11 | CA18: 17 | CB18: 0 | CC18: 0 | CD18: 0 | CE18: 0 | CF18: 0 | CG18: 0 | CH18: 0 | CI18: 0 | CJ18: 0 | CK18: 0 | CL18: 0 | CM18: 12 | CN18: 10 | CO18: 22 | CP18: 0 | CQ18: 18 | CR18: 17 | CS18: 10 | CT18: 8 | CU18: 8 | CV18: 61 | CW18: 83 | CX18: 10 | CY18: 8 | CZ18: 18 | DA18: 0 | DB18: 7 | DC18: 9 | DD18: 2 | DE18: 6 | DF18: 3 | DG18: 27 | DH18: 45 | DI18: 1 | DJ18: 1 | DK18: 2 | DL18: 0 | DM18: 0 | DN18: 0 | DO18: 1 | DP18: 0 | DQ18: 0 | DR18: 1 | DS18: 3 | DT18: 2 | DU18: 0 | DV18: 2 | DW18: 0 | DX18: 0 | DY18: 0 | DZ18: 0 | EA18: 2 | EB18: 0 | EC18: 2 | ED18: 4 | EE18: 2 | EF18: 1 | EG18: 3 | EH18: 0 | EI18: 1 | EJ18: 4 | EK18: 1 | EL18: 1 | EM18: 0 | EN18: 7 | EO18: 10 | EP18: 3 | EQ18: 5 | ER18: 8 | ES18: 0 | ET18: 2 | EU18: 1 | EV18: 0 | EW18: 2 | EX18: 1 | EY18: 6 | EZ18: 14 | FA18: 1 | FB18: 0 | FC18: 1 | FD18: 0 | FE18: 2 | FF18: 1 | FG18: 0 | FH18: 0 | FI18: 2 | FJ18: 5 | FK18: 6 | FL18: 1 | FM18: 1 | FN18: 2 | FO18: 0 | FP18: 2 | FQ18: 3 | FR18: 0 | FS18: 1 | FT18: 0 | FU18: 6 | FV18: 8 | FW18: 0 | FX18: 0 | FY18: 0 | FZ18: 0 | GA18: 0 | GB18: 0 | GC18: 0 | GD18: 0 | GE18: 0 | GF18: 0 | GG18: 0 | GH18: 10 | GI18: 8 | GJ18: 18 | GK18: 0 | GL18: 7 | GM18: 9 | GN18: 2 | GO18: 6 | GP18: 3 | GQ18: 27 | GR18: 45 | GS18: 22 | GT18: 18 | GU18: 40 | GV18: 0 | GW18: 25 | GX18: 26 | GY18: 12 | GZ18: 14 | HA18: 11 | HB18: 88 | HC18: 128 | HD18: 2 | HE18: 1 | HF18: 3 | HG18: 0 | HH18: 1 | HI18: 0 | HJ18: 1 | HK18: 1 | HL18: 2 | HM18: 5 | HN18: 8 | HO18: 5 | HP18: 0 | HQ18: 5 | HR18: 0 | HS18: 2 | HT18: 3 | HU18: 1 | HV18: 3 | HW18: 0 | HX18: 9 | HY18: 14 | HZ18: 5 | IA18: 3 | IB18: 8 | IC18: 0 | ID18: 6 | IE18: 5 | IF18: 4 | IG18: 2 | IH18: 1 | II18: 18 | IJ18: 26 | IK18: 4 | IL18: 5 | IM18: 9 | IN18: 0 | IO18: 3 | IP18: 6 | IQ18: 2 | IR18: 3 | IS18: 6 | IT18: 20 | IU18: 29 | IV18: 3 | IW18: 4 | IX18: 7 | IY18: 0 | IZ18: 8 | JA18: 4 | JB18: 2 | JC18: 3 | JD18: 2 | JE18: 19 | JF18: 26 | JG18: 3 | JH18: 5 | JI18: 8 | JJ18: 0 | JK18: 5 | JL18: 8 | JM18: 2 | JN18: 2 | JO18: 0 | JP18: 17 | JQ18: 25 | JR18: 0 | JS18: 0 | JT18: 0 | JU18: 0 | JV18: 0 | JW18: 0 | JX18: 0 | JY18: 0 | JZ18: 0 | KA18: 0 | KB18: 0 | KC18: 22 | KD18: 18 | KE18: 40 | KF18: 0 | KG18: 25 | KH18: 26 | KI18: 12 | KJ18: 14 | KK18: 11 | KL18: 88 | KM18: 128
... B40: 清川村 | C40: 0 | D40: 0 | E40: 0 | F40: 0 | G40: 1 | H40: 0 | I40: 1 | J40: 0 | K40: 0 | L40: 2 | M40: 2 | N40: 0 | O40: 0 | P40: 0 | Q40: 0 | R40: 0 | S40: 0 | T40: 0 | U40: 0 | V40: 0 | W40: 0 | X40: 0 | Y40: 0 | Z40: 0 | AA40: 0 | AB40: 0 | AC40: 0 | AD40: 0 | AE40: 0 | AF40: 0 | AG40: 0 | AH40: 0 | AI40: 0 | AJ40: 0 | AK40: 0 | AL40: 0 | AM40: 0 | AN40: 0 | AO40: 0 | AP40: 1 | AQ40: 0 | AR40: 0 | AS40: 1 | AT40: 1 | AU40: 0 | AV40: 0 | AW40: 0 | AX40: 0 | AY40: 0 | AZ40: 0 | BA40: 0 | BB40: 0 | BC40: 0 | BD40: 0 | BE40: 0 | BF40: 0 | BG40: 0 | BH40: 0 | BI40: 0 | BJ40: 1 | BK40: 0 | BL40: 0 | BM40: 0 | BN40: 0 | BO40: 1 | BP40: 1 | BQ40: 0 | BR40: 0 | BS40: 0 | BT40: 0 | BU40: 0 | BV40: 0 | BW40: 0 | BX40: 0 | BY40: 0 | BZ40: 0 | CA40: 0 | CB40: 0 | CC40: 0 | CD40: 0 | CE40: 0 | CF40: 0 | CG40: 0 | CH40: 0 | CI40: 0 | CJ40: 0 | CK40: 0 | CL40: 0 | CM40: 0 | CN40: 0 | CO40: 0 | CP40: 0 | CQ40: 1 | CR40: 0 | CS40: 1 | CT40: 0 | CU40: 0 | CV40: 2 | CW40: 2 | CX40: 0 | CY40: 0 | CZ40: 0 | DA40: 0 | DB40: 0 | DC40: 0 | DD40: 0 | DE40: 0 | DF40: 0 | DG40: 0 | DH40: 0 | DI40: 0 | DJ40: 0 | DK40: 0 | DL40: 0 | DM40: 0 | DN40: 0 | DO40: 0 | DP40: 0 | DQ40: 0 | DR40: 0 | DS40: 0 | DT40: 0 | DU40: 0 | DV40: 0 | DW40: 0 | DX40: 0 | DY40: 0 | DZ40: 0 | EA40: 0 | EB40: 0 | EC40: 0 | ED40: 0 | EE40: 0 | EF40: 0 | EG40: 0 | EH40: 0 | EI40: 0 | EJ40: 0 | EK40: 0 | EL40: 0 | EM40: 0 | EN40: 0 | EO40: 0 | EP40: 0 | EQ40: 0 | ER40: 0 | ES40: 0 | ET40: 0 | EU40: 0 | EV40: 0 | EW40: 0 | EX40: 0 | EY40: 0 | EZ40: 0 | FA40: 0 | FB40: 0 | FC40: 0 | FD40: 0 | FE40: 0 | FF40: 0 | FG40: 0 | FH40: 0 | FI40: 0 | FJ40: 0 | FK40: 0 | FL40: 0 | FM40: 0 | FN40: 0 | FO40: 0 | FP40: 0 | FQ40: 0 | FR40: 0 | FS40: 0 | FT40: 0 | FU40: 0 | FV40: 0 | FW40: 0 | FX40: 0 | FY40: 0 | FZ40: 0 | GA40: 0 | GB40: 0 | GC40: 0 | GD40: 0 | GE40: 0 | GF40: 0 | GG40: 0 | GH40: 0 | GI40: 0 | GJ40: 0 | GK40: 0 | GL40: 0 | GM40: 0 | GN40: 0 | GO40: 0 | GP40: 0 | GQ40: 0 | GR40: 0 | GS40: 0 | GT40: 0 | GU40: 0 | GV40: 0 | GW40: 1 | GX40: 0 | GY40: 1 | GZ40: 0 | HA40: 0 | HB40: 2 | HC40: 2 | HD40: 0 | HE40: 0 | HF40: 0 | HG40: 0 | HH40: 0 | HI40: 0 | HJ40: 0 | HK40: 0 | HL40: 0 | HM40: 0 | HN40: 0 | HO40: 0 | HP40: 0 | HQ40: 0 | HR40: 0 | HS40: 0 | HT40: 0 | HU40: 0 | HV40: 0 | HW40: 0 | HX40: 0 | HY40: 0 | HZ40: 0 | IA40: 0 | IB40: 0 | IC40: 0 | ID40: 0 | IE40: 0 | IF40: 1 | IG40: 0 | IH40: 0 | II40: 1 | IJ40: 1 | IK40: 0 | IL40: 0 | IM40: 0 | IN40: 0 | IO40: 0 | IP40: 0 | IQ40: 0 | IR40: 0 | IS40: 0 | IT40: 0 | IU40: 0 | IV40: 0 | IW40: 0 | IX40: 0 | IY40: 0 | IZ40: 1 | JA40: 0 | JB40: 0 | JC40: 0 | JD40: 0 | JE40: 1 | JF40: 1 | JG40: 0 | JH40: 0 | JI40: 0 | JJ40: 0 | JK40: 0 | JL40: 0 | JM40: 0 | JN40: 0 | JO40: 0 | JP40: 0 | JQ40: 0 | JR40: 0 | JS40: 0 | JT40: 0 | JU40: 0 | JV40: 0 | JW40: 0 | JX40: 0 | JY40: 0 | JZ40: 0 | KA40: 0 | KB40: 0 | KC40: 0 | KD40: 0 | KE40: 0 | KF40: 0 | KG40: 1 | KH40: 0 | KI40: 1 | KJ40: 0 | KK40: 0 | KL40: 2 | KM40: 2

Sheet 第３-1表
B1: 居宅介護（介護予防）サービス受給者数 | G1: =第１表!F2 -> 8 | I1: =第１表!G2 -> 7 | J1: =IF(I1<3,I1+12-2,I1-2) -> 5
C3: 第１被保険者 | N3: 第２被保険者 | Y3: 総 計
B4: 市町村名 | C4: 要支援１ | D4: 要支援２ | E4: 計 | F4: 経過的 要介護 | G4: 要介護１ | H4: 要介護２ | I4: 要介護３ | J4: 要介護４ | K4: 要介護５ | L4: 計 | M4: 合計 | N4: 要支援１ | O4: 要支援２ | P4: 計 | Q4: 経過的 要介護 | R4: 要介護１ | S4: 要介護２ | T4: 要介護３ | U4: 要介護４ | V4: 要介護５ | W4: 計 | X4: 合計 | Y4: 要支援１ | Z4: 要支援２ | AA4: 計 | AB4: 経過的 要介護 | AC4: 要介護１ | AD4: 要介護２ | AE4: 要介護３ | AF4: 要介護４ | AG4: 要介護５ | AH4: 計 | AI4: 合計
B5: 神奈川県 | C5: 20116 | D5: 35698 | E5: 55814 | F5: 0 | G5: 67192 | H5: 68715 | I5: 38000 | J5: 29131 | K5: 16796 | L5: 219834 | M5: 275648 | N5: 336 | O5: 979 | P5: 1315 | Q5: 0 | R5: 1112 | S5: 2081 | T5: 1085 | U5: 898 | V5: 832 | W5: 6008 | X5: 7323 | Y5: 20452 | Z5: 36677 | AA5: 57129 | AB5: 0 | AC5: 68304 | AD5: 70796 | AE5: 39085 | AF5: 30029 | AG5: 17628 | AH5: 225842 | AI5: 282971
B6: 横浜市 | C6: 6952 | D6: 15813 | E6: 22765 | F6: 0 | G6: 17675 | H6: 25820 | I6: 12506 | J6: 9755 | K6: 5486 | L6: 71242 | M6: 94007 | N6: 117 | O6: 441 | P6: 558 | Q6: 0 | R6: 259 | S6: 855 | T6: 393 | U6: 333 | V6: 319 | W6: 2159 | X6: 2717 | Y6: 7069 | Z6: 16254 | AA6: 23323 | AB6: 0 | AC6: 17934 | AD6: 26675 | AE6: 12899 | AF6: 10088 | AG6: 5805 | AH6: 73401 | AI6: 96724
B7: 川崎市 | C7: 3045 | D7: 4240 | E7: 7285 | F7: 0 | G7: 12083 | H7: 9792 | I7: 5771 | J7: 4475 | K7: 2780 | L7: 34901 | M7: 42186 | N7: 60 | O7: 125 | P7: 185 | Q7: 0 | R7: 208 | S7: 296 | T7: 176 | U7: 149 | V7: 130 | W7: 959 | X7: 1144 | Y7: 3105 | Z7: 4365 | AA7: 7470 | AB7: 0 | AC7: 12291 | AD7: 10088 | AE7: 5947 | AF7: 4624 | AG7: 2910 | AH7: 35860 | AI7: 43330
B8: 相模原市 | C8: 1247 | D8: 3062 | E8: 4309 | F8: 0 | G8: 5156 | H8: 6579 | I8: 4061 | J8: 2720 | K8: 1586 | L8: 20102 | M8: 24411 | N8: 18 | O8: 98 | P8: 116 | Q8: 0 | R8: 55 | S8: 200 | T8: 107 | U8: 90 | V8: 68 | W8: 520 | X8: 636 | Y8: 1265 | Z8: 3160 | AA8: 4425 | AB8: 0 | AC8: 5211 | AD8: 6779 | AE8: 4168 | AF8: 2810 | AG8: 1654 | AH8: 20622 | AI8: 25047
B9: 横須賀市 | C9: 889 | D9: 1248 | E9: 2137 | F9: 0 | G9: 5608 | H9: 3367 | I9: 1904 | J9: 1583 | K9: 776 | L9: 13238 | M9: 15375 | N9: 9 | O9: 20 | P9: 29 | Q9: 0 | R9: 110 | S9: 82 | T9: 50 | U9: 47 | V9: 24 | W9: 313 | X9: 342 | Y9: 898 | Z9: 1268 | AA9: 2166 | AB9: 0 | AC9: 5718 | AD9: 3449 | AE9: 1954 | AF9: 1630 | AG9: 800 | AH9: 13551 | AI9: 15717
B10: 平塚市 | C10: 718 | D10: 777 | E10: 1495 | F10: 0 | G10: 2343 | H10: 2354 | I10: 1409 | J10: 991 | K10: 580 | L10: 7677 | M10: 9172 | N10: 6 | O10: 28 | P10: 34 | Q10: 0 | R10: 47 | S10: 74 | T10: 38 | U10: 24 | V10: 24 | W10: 207 | X10: 241 | Y10: 724 | Z10: 805 | AA10: 1529 | AB10: 0 | AC10: 2390 | AD10: 2428 | AE10: 1447 | AF10: 1015 | AG10: 604 | AH10: 7884 | AI10: 9413
B11: 鎌倉市 | C11: 624 | D11: 667 | E11: 1291 | F11: 0 | G11: 2205 | H11: 1663 | I11: 1085 | J11: 890 | K11: 585 | L11: 6428 | M11: 7719 | N11: 5 | O11: 5 | P11: 10 | Q11: 0 | R11: 38 | S11: 51 | T11: 15 | U11: 12 | V11: 16 | W11: 132 | X11: 142 | Y11: 629 | Z11: 672 | AA11: 1301 | AB11: 0 | AC11: 2243 | AD11: 1714 | AE11: 1100 | AF11: 902 | AG11: 601 | AH11: 6560 | AI11: 7861
B12: 藤沢市 | C12: 1673 | D12: 1772 | E12: 3445 | F12: 0 | G12: 4807 | H12: 2487 | I12: 1556 | J12: 1421 | K12: 908 | L12: 11179 | M12: 14624 | N12: 34 | O12: 35 | P12: 69 | Q12: 0 | R12: 89 | S12: 75 | T12: 47 | U12: 37 | V12: 55 | W12: 303 | X12: 372 | Y12: 1707 | Z12: 1807 | AA12: 3514 | AB12: 0 | AC12: 4896 | AD12: 2562 | AE12: 1603 | AF12: 1458 | AG12: 963 | AH12: 11482 | AI12: 14996
B13: 小田原市 | C13: 576 | D13: 721 | E13: 1297 | F13: 0 | G13: 2154 | H13: 1594 | I13: 1035 | J13: 834 | K13: 429 | L13: 6046 | M13: 7343 | N13: 9 | O13: 17 | P13: 26 | Q13: 0 | R13: 43 | S13: 30 | T13: 25 | U13: 31 | V13: 15 | W13: 144 | X13: 170 | Y13: 585 | Z13: 738 | AA13: 1323 | AB13: 0 | AC13: 2197 | AD13: 1624 | AE13: 1060 | AF13: 865 | AG13: 444 | AH13: 6190 | AI13: 7513
B14: 茅ヶ崎市 | C14: 847 | D14: 1442 | E14: 2289 | F14: 0 | G14: 2004 | H14: 1787 | I14: 1029 | J14: 920 | K14: 509 | L14: 6249 | M14: 8538 | N14: 9 | O14: 42 | P14: 51 | Q14: 0 | R14: 17 | S14: 51 | T14: 21 | U14: 24 | V14: 18 | W14: 131 | X14: 182 | Y14: 856 | Z14: 1484 | AA14: 2340 | AB14: 0 | AC14: 2021 | AD14: 1838 | AE14: 1050 | AF14: 944 | AG14: 527 | AH14: 6380 | AI14: 8720
B15: 逗子市 | C15: 140 | D15: 230 | E15: 370 | F15: 0 | G15: 742 | H15: 768 | I15: 398 | J15: 328 | K15: 211 | L15: 2447 | M15: 2817 | N15: 1 | O15: 2 | P15: 3 | Q15: 0 | R15: 14 | S15: 17 | T15: 11 | U15: 4 | V15: 11 | W15: 57 | X15: 60 | Y15: 141 | Z15: 232 | AA15: 373 | AB15: 0 | AC15: 756 | AD15: 785 | AE15: 409 | AF15: 332 | AG15: 222 | AH15: 2504 | AI15: 2877
B16: 三浦市 | C16: 122 | D16: 227 | E16: 349 | F16: 0 | G16: 542 | H16: 626 | I16: 325 | J16: 212 | K16: 122 | L16: 1827 | M16: 2176 | N16: 0 | O16: 7 | P16: 7 | Q16: 0 | R16: 7 | S16: 15 | T16: 9 | U16: 4 | V16: 7 | W16: 42 | X16: 49 | Y16: 122 | Z16: 234 | AA16: 356 | AB16: 0 | AC16: 549 | AD16: 641 | AE16: 334 | AF16: 216 | AG16: 129 | AH16: 1869 | AI16: 2225
... B38: 清川村 | C38: 8 | D38: 4 | E38: 12 | F38: 0 | G38: 28 | H38: 32 | I38: 13 | J38: 10 | K38: 6 | L38: 89 | M38: 101 | N38: 0 | O38: 0 | P38: 0 | Q38: 0 | R38: 0 | S38: 2 | T38: 0 | U38: 2 | V38: 0 | W38: 4 | X38: 4 | Y38: 8 | Z38: 4 | AA38: 12 | AB38: 0 | AC38: 28 | AD38: 34 | AE38: 13 | AF38: 12 | AG38: 6 | AH38: 93 | AI38: 105

Sheet 第３-2-1表
B1: 居宅介護(介護予防)サービスのサービス別受給者数【現物給付分】 | I1: =第１表!F2 -> 8 | K1: =第１表!G2 -> 7 | L1: =IF(K1<3,K1+12-2,K1-2) -> 5
B2: ①総数
C3: 訪問介護 | N3: 訪問入浴介護 | Y3: 訪問看護 | AJ3: 訪問リハビリテーション | AU3: 居宅療養管理指導 | BF3: 通所介護 | BQ3: 通所リハビリテーション | CB3: 短期入所生活介護 | CM3: 短期入所療養介護（介護老人保健施設） | CX3: 短期入所療養介護（病院等） | DI3: 短期入所療養介護（介護医療院） | DT3: 福祉用具貸与 | EE3: 特定施設入居者生活介護（短期利用以外） | EP3: 特定施設入居者生活介護（短期利用） | FA3: 介護予防支援・居宅介護支援
C4: 予防給付 | F4: 介護給付 | M4: 合計 | N4: 予防給付 | Q4: 介護給付 | X4: 合計 | Y4: 予防給付 | AB4: 介護給付 | AI4: 合計 | AJ4: 予防給付 | AM4: 介護給付 | AT4: 合計 | AU4: 予防給付 | AX4: 介護給付 | BE4: 合計 | BF4: 予防給付 | BI4: 介護給付 | BP4: 合計 | BQ4: 予防給付 | BT4: 介護給付 | CA4: 合計 | CB4: 予防給付 | CE4: 介護給付 | CL4: 合計 | CM4: 予防給付 | CP4: 介護給付 | CW4: 合計 | CX4: 予防給付 | DA4: 介護給付 | DH4: 合計 | DI4: 予防給付 | DL4: 介護給付 | DS4: 合計 | DT4: 予防給付 | DW4: 介護給付 | ED4: 合計 | EE4: 予防給付 | EH4: 介護給付 | EO4: 合計 | EP4: 予防給付 | ES4: 介護給付 | EZ4: 合計 | FA4: 予防給付 | FD4: 介護給付 | FK4: 合計
C5: 要支援１ | D5: 要支援２ | E5: 計 | F5: 経過的要介護 | G5: 要介護１ | H5: 要介護２ | I5: 要介護３ | J5: 要介護４ | K5: 要介護５ | L5: 計 | N5: 要支援１ | O5: 要支援２ | P5: 計 | Q5: 経過的要介護 | R5: 要介護１ | S5: 要介護２ | T5: 要介護３ | U5: 要介護４ | V5: 要介護５ | W5: 計 | Y5: 要支援１ | Z5: 要支援２ | AA5: 計 | AB5: 経過的要介護 | AC5: 要介護１ | AD5: 要介護２ | AE5: 要介護３ | AF5: 要介護４ | AG5: 要介護５ | AH5: 計 | AJ5: 要支援１ | AK5: 要支援２ | AL5: 計 | AM5: 経過的要介護 | AN5: 要介護１ | AO5: 要介護２ | AP5: 要介護３ | AQ5: 要介護４ | AR5: 要介護５ | AS5: 計 | AU5: 要支援１ | AV5: 要支援２ | AW5: 計 | AX5: 経過的要介護 | AY5: 要介護１ | AZ5: 要介護２ | BA5: 要介護３ | BB5: 要介護４ | BC5: 要介護５ | BD5: 計 | BF5: 要支援１ | BG5: 要支援２ | BH5: 計 | BI5: 経過的要介護 | BJ5: 要介護１ | BK5: 要介護２ | BL5: 要介護３ | BM5: 要介護４ | BN5: 要介護５ | BO5: 計 | BQ5: 要支援１ | BR5: 要支援２ | BS5: 計 | BT5: 経過的要介護 | BU5: 要介護１ | BV5: 要介護２ | BW5: 要介護３ | BX5: 要介護４ | BY5: 要介護５ | BZ5: 計 | CB5: 要支援１ | CC5: 要支援２ | CD5: 計 | CE5: 経過的要介護 | CF5: 要介護１ | CG5: 要介護２ | CH5: 要介護３ | CI5: 要介護４ | CJ5: 要介護５ | CK5: 計 | CM5: 要支援１ | CN5: 要支援２ | CO5: 計 | CP5: 経過的要介護 | CQ5: 要介護１ | CR5: 要介護２ | CS5: 要介護３ | CT5: 要介護４ | CU5: 要介護５ | CV5: 計 | CX5: 要支援１ | CY5: 要支援２ | CZ5: 計 | DA5: 経過的要介護 | DB5: 要介護１ | DC5: 要介護２ | DD5: 要介護３ | DE5: 要介護４ | DF5: 要介護５ | DG5: 計 | DI5: 要支援１ | DJ5: 要支援２ | DK5: 計 | DL5: 経過的要介護 | DM5: 要介護１ | DN5: 要介護２ | DO5: 要介護３ | DP5: 要介護４ | DQ5: 要介護５ | DR5: 計 | DT5: 要支援１ | DU5: 要支援２ | DV5: 計 | DW5: 経過的要介護 | DX5: 要介護１ | DY5: 要介護２ | DZ5: 要介護３ | EA5: 要介護４ | EB5: 要介護５ | EC5: 計 | EE5: 要支援１ | EF5: 要支援２ | EG5: 計 | EH5: 経過的要介護 | EI5: 要介護１ | EJ5: 要介護２ | EK5: 要介護３ | EL5: 要介護４ | EM5: 要介護５ | EN5: 計 | EP5: 要支援１ | EQ5: 要支援２ | ER5: 計 | ES5: 経過的要介護 | ET5: 要介護１ | EU5: 要介護２ | EV5: 要介護３ | EW5: 要介護４ | EX5: 要介護５ | EY5: 計 | FA5: 要支援１ | FB5: 要支援２ | FC5: 計 | FD5: 経過的要介護 | FE5: 要介護１ | FF5: 要介護２ | FG5: 要介護３ | FH5: 要介護４ | FI5: 要介護５ | FJ5: 計
B6: 神奈川県 | C6: 0 | D6: 0 | E6: 0 | F6: 0 | G6: 19922 | H6: 24610 | I6: 13515 | J6: 10859 | K6: 7929 | L6: 76835 | M6: 76835 | N6: 2 | O6: 19 | P6: 21 | Q6: 0 | R6: 99 | S6: 387 | T6: 760 | U6: 1884 | V6: 3365 | W6: 6495 | X6: 6516 | Y6: 3156 | Z6: 8071 | AA6: 11227 | AB6: 0 | AC6: 15866 | AD6: 22068 | AE6: 12325 | AF6: 9878 | AG6: 6862 | AH6: 66999 | AI6: 78226 | AJ6: 280 | AK6: 776 | AL6: 1056 | AM6: 0 | AN6: 1194 | AO6: 1752 | AP6: 1149 | AQ6: 871 | AR6: 583 | AS6: 5549 | AT6: 6605 | AU6: 3553 | AV6: 5231 | AW6: 8784 | AX6: 0 | AY6: 23033 | AZ6: 29060 | BA6: 23669 | BB6: 22424 | BC6: 15790 | BD6: 113976 | BE6: 122760 | BF6: 0 | BG6: 0 | BH6: 0 | BI6: 0 | BJ6: 24504 | BK6: 23183 | BL6: 11505 | BM6: 6449 | BN6: 2876 | BO6: 68517 | BP6: 68517 | BQ6: 1868 | BR6: 2939 | BS6: 4807 | BT6: 0 | BU6: 4964 | BV6: 6935 | BW6: 3649 | BX6: 2321 | BY6: 812 | BZ6: 18681 | CA6: 23488 | CB6: 57 | CC6: 230 | CD6: 287 | CE6: 0 | CF6: 2480 | CG6: 3823 | CH6: 4535 | CI6: 3150 | CJ6: 1697 | CK6: 15685 | CL6: 15972 | CM6: 7 | CN6: 15 | CO6: 22 | CP6: 0 | CQ6: 213 | CR6: 500 | CS6: 572 | CT6: 490 | CU6: 334 | CV6: 2109 | CW6: 2131 | CX6: 0 | CY6: 0 | CZ6: 0 | DA6: 0 | DB6: 0 | DC6: 0 | DD6: 0 | DE6: 0 | DF6: 0 | DG6: 0 | DH6: 0 | DI6: 0 | DJ6: 0 | DK6: 0 | DL6: 0 | DM6: 0 | DN6: 1 | DO6: 0 | DP6: 0 | DQ6: 0 | DR6: 1 | DS6: 1 | DT6: 13348 | DU6: 27836 | DV6: 41184 | DW6: 0 | DX6: 31607 | DY6: 52774 | DZ6: 29061 | EA6: 21864 | EB6: 13425 | EC6: 148731 | ED6: 189915 | EE6: 1740 | EF6: 1374 | EG6: 3114 | EH6: 0 | EI6: 6943 | EJ6: 6641 | EK6: 5318 | EL6: 5851 | EM6: 3101 | EN6: 27854 | EO6: 30968 | EP6: 0 | EQ6: 0 | ER6: 0 | ES6: 0 | ET6: 6 | EU6: 14 | EV6: 10 | EW6: 4 | EX6: 3 | EY6: 37 | EZ6: 37 | FA6: 17116 | FB6: 33380 | FC6: 50496 | FD6: 0 | FE6: 63351 | FF6: 67978 | FG6: 33636 | FH6: 23014 | FI6: 13621 | FJ6: 201600 | FK6: 252096
B7: 横浜市 | C7: 0 | D7: 0 | E7: 0 | F7: 0 | G7: 6950 | H7: 11899 | I7: 5746 | J7: 4350 | K7: 3122 | L7: 32067 | M7: 32067 | N7: 1 | O7: 8 | P7: 9 | Q7: 0 | R7: 20 | S7: 159 | T7: 268 | U7: 767 | V7: 1447 | W7: 2661 | X7: 2670 | Y7: 1262 | Z7: 4128 | AA7: 5390 | AB7: 0 | AC7: 5531 | AD7: 11062 | AE7: 5697 | AF7: 4325 | AG7: 2932 | AH7: 29547 | AI7: 34937 | AJ7: 102 | AK7: 371 | AL7: 473 | AM7: 0 | AN7: 288 | AO7: 755 | AP7: 495 | AQ7: 356 | AR7: 218 | AS7: 2112 | AT7: 2585 | AU7: 1354 | AV7: 2570 | AW7: 3924 | AX7: 0 | AY7: 8157 | AZ7: 12999 | BA7: 9637 | BB7: 8968 | BC7: 6297 | BD7: 46058 | BE7: 49982 | BF7: 0 | BG7: 0 | BH7: 0 | BI7: 0 | BJ7: 7739 | BK7: 9606 | BL7: 4226 | BM7: 2294 | BN7: 1019 | BO7: 24884 | BP7: 24884 | BQ7: 716 | BR7: 1251 | BS7: 1967 | BT7: 0 | BU7: 1406 | BV7: 3042 | BW7: 1594 | BX7: 1007 | BY7: 357 | BZ7: 7406 | CA7: 9373 | CB7: 19 | CC7: 110 | CD7: 129 | CE7: 0 | CF7: 690 | CG7: 1441 | CH7: 1740 | CI7: 1115 | CJ7: 607 | CK7: 5593 | CL7: 5722 | CM7: 2 | CN7: 13 | CO7: 15 | CP7: 0 | CQ7: 98 | CR7: 284 | CS7: 343 | CT7: 293 | CU7: 200 | CV7: 1218 | CW7: 1233 | CX7: 0 | CY7: 0 | CZ7: 0 | DA7: 0 | DB7: 0 | DC7: 0 | DD7: 0 | DE7: 0 | DF7: 0 | DG7: 0 | DH7: 0 | DI7: 0 | DJ7: 0 | DK7: 0 | DL7: 0 | DM7: 0 | DN7: 0 | DO7: 0 | DP7: 0 | DQ7: 0 | DR7: 0 | DS7: 0 | DT7: 4236 | DU7: 11833 | DV7: 16069 | DW7: 0 | DX7: 9052 | DY7: 23511 | DZ7: 11930 | EA7: 8621 | EB7: 5326 | EC7: 58440 | ED7: 74509 | EE7: 662 | EF7: 689 | EG7: 1351 | EH7: 0 | EI7: 2782 | EJ7: 3210 | EK7: 2388 | EL7: 2556 | EM7: 1328 | EN7: 12264 | EO7: 13615 | EP7: 0 | EQ7: 0 | ER7: 0 | ES7: 0 | ET7: 1 | EU7: 4 | EV7: 0 | EW7: 1 | EX7: 0 | EY7: 6 | EZ7: 6 | FA7: 5781 | FB7: 14647 | FC7: 20428 | FD7: 0 | FE7: 20647 | FF7: 30872 | FG7: 14051 | FH7: 9247 | FI7: 5486 | FJ7: 80303 | FK7: 100731
B8: 川崎市 | C8: 0 | D8: 0 | E8: 0 | F8: 0 | G8: 3530 | H8: 3282 | I8: 1940 | J8: 1602 | K8: 1246 | L8: 11600 | M8: 11600 | N8: 0 | O8: 1 | P8: 1 | Q8: 0 | R8: 23 | S8: 46 | T8: 115 | U8: 262 | V8: 479 | W8: 925 | X8: 926 | Y8: 518 | Z8: 1035 | AA8: 1553 | AB8: 0 | AC8: 2925 | AD8: 2800 | AE8: 1641 | AF8: 1306 | AG8: 949 | AH8: 9621 | AI8: 11174 | AJ8: 29 | AK8: 72 | AL8: 101 | AM8: 0 | AN8: 187 | AO8: 209 | AP8: 112 | AQ8: 108 | AR8: 72 | AS8: 688 | AT8: 789 | AU8: 646 | AV8: 716 | AW8: 1362 | AX8: 0 | AY8: 4373 | AZ8: 4551 | BA8: 3651 | BB8: 3471 | BC8: 2564 | BD8: 18610 | BE8: 19972 | BF8: 0 | BG8: 0 | BH8: 0 | BI8: 0 | BJ8: 4222 | BK8: 3127 | BL8: 1611 | BM8: 894 | BN8: 411 | BO8: 10265 | BP8: 10265 | BQ8: 155 | BR8: 257 | BS8: 412 | BT8: 0 | BU8: 679 | BV8: 744 | BW8: 389 | BX8: 288 | BY8: 109 | BZ8: 2209 | CA8: 2621 | CB8: 6 | CC8: 23 | CD8: 29 | CE8: 0 | CF8: 335 | CG8: 465 | CH8: 494 | CI8: 374 | CJ8: 192 | CK8: 1860 | CL8: 1889 | CM8: 1 | CN8: 0 | CO8: 1 | CP8: 0 | CQ8: 37 | CR8: 61 | CS8: 73 | CT8: 58 | CU8: 53 | CV8: 282 | CW8: 283 | CX8: 0 | CY8: 0 | CZ8: 0 | DA8: 0 | DB8: 0 | DC8: 0 | DD8: 0 | DE8: 0 | DF8: 0 | DG8: 0 | DH8: 0 | DI8: 0 | DJ8: 0 | DK8: 0 | DL8: 0 | DM8: 0 | DN8: 0 | DO8: 0 | DP8: 0 | DQ8: 0 | DR8: 0 | DS8: 0 | DT8: 2119 | DU8: 3421 | DV8: 5540 | DW8: 0 | DX8: 5641 | DY8: 6669 | DZ8: 3926 | EA8: 3028 | EB8: 2025 | EC8: 21289 | ED8: 26829 | EE8: 277 | EF8: 142 | EG8: 419 | EH8: 0 | EI8: 1072 | EJ8: 923 | EK8: 709 | EL8: 824 | EM8: 458 | EN8: 3986 | EO8: 4405 | EP8: 0 | EQ8: 0 | ER8: 0 | ES8: 0 | ET8: 0 | EU8: 1 | EV8: 0 | EW8: 0 | EX8: 0 | EY8: 1 | EZ8: 1 | FA8: 2592 | FB8: 4056 | FC8: 6648 | FD8: 0 | FE8: 10288 | FF8: 8324 | FG8: 4365 | FH8: 3132 | FI8: 2002 | FJ8: 28111 | FK8: 34759
B9: 相模原市 | C9: 0 | D9: 0 | E9: 0 | F9: 0 | G9: 1206 | H9: 1970 | I9: 1219 | J9: 883 | K9: 657 | L9: 5935 | M9: 5935 | N9: 1 | O9: 5 | P9: 6 | Q9: 0 | R9: 1 | S9: 17 | T9: 52 | U9: 120 | V9: 225 | W9: 415 | X9: 421 | Y9: 150 | Z9: 517 | AA9: 667 | AB9: 0 | AC9: 974 | AD9: 1668 | AE9: 1058 | AF9: 810 | AG9: 526 | AH9: 5036 | AI9: 5703 | AJ9: 6 | AK9: 32 | AL9: 38 | AM9: 0 | AN9: 26 | AO9: 68 | AP9: 58 | AQ9: 34 | AR9: 32 | AS9: 218 | AT9: 256 | AU9: 231 | AV9: 454 | AW9: 685 | AX9: 0 | AY9: 1593 | AZ9: 2331 | BA9: 2263 | BB9: 1899 | BC9: 1322 | BD9: 9408 | BE9: 10093 | BF9: 0 | BG9: 0 | BH9: 0 | BI9: 0 | BJ9: 1748 | BK9: 2150 | BL9: 1230 | BM9: 653 | BN9: 270 | BO9: 6051 | BP9: 6051 | BQ9: 69 | BR9: 160 | BS9: 229 | BT9: 0 | BU9: 161 | BV9: 388 | BW9: 246 | BX9: 146 | BY9: 57 | BZ9: 998 | CA9: 1227 | CB9: 1 | CC9: 19 | CD9: 20 | CE9: 0 | CF9: 161 | CG9: 286 | CH9: 377 | CI9: 319 | CJ9: 167 | CK9: 1310 | CL9: 1330 | CM9: 0 | CN9: 0 | CO9: 0 | CP9: 0 | CQ9: 2 | CR9: 9 | CS9: 8 | CT9: 12 | CU9: 6 | CV9: 37 | CW9: 37 | CX9: 0 | CY9: 0 | CZ9: 0 | DA9: 0 | DB9: 0 | DC9: 0 | DD9: 0 | DE9: 0 | DF9: 0 | DG9: 0 | DH9: 0 | DI9: 0 | DJ9: 0 | DK9: 0 | DL9: 0 | DM9: 0 | DN9: 0 | DO9: 0 | DP9: 0 | DQ9: 0 | DR9: 0 | DS9: 0 | DT9: 922 | DU9: 2619 | DV9: 3541 | DW9: 0 | DX9: 2220 | DY9: 4597 | DZ9: 2788 | EA9: 1977 | EB9: 1149 | EC9: 12731 | ED9: 16272 | EE9: 101 | EF9: 99 | EG9: 200 | EH9: 0 | EI9: 345 | EJ9: 346 | EK9: 328 | EL9: 321 | EM9: 178 | EN9: 1518 | EO9: 1718 | EP9: 0 | EQ9: 0 | ER9: 0 | ES9: 0 | ET9: 0 | EU9: 1 | EV9: 0 | EW9: 0 | EX9: 0 | EY9: 1 | EZ9: 1 | FA9: 1077 | FB9: 2907 | FC9: 3984 | FD9: 0 | FE9: 4425 | FF9: 5865 | FG9: 3179 | FH9: 2046 | FI9: 1167 | FJ9: 16682 | FK9: 20666
B10: 横須賀市 | C10: 0 | D10: 0 | E10: 0 | F10: 0 | G10: 1593 | H10: 1049 | I10: 597 | J10: 579 | K10: 337 | L10: 4155 | M10: 4155 | N10: 0 | O10: 1 | P10: 1 | Q10: 0 | R10: 11 | S10: 32 | T10: 55 | U10: 147 | V10: 194 | W10: 439 | X10: 440 | Y10: 32 | Z10: 83 | AA10: 115 | AB10: 0 | AC10: 762 | AD10: 587 | AE10: 333 | AF10: 390 | AG10: 257 | AH10: 2329 | AI10: 2444 | AJ10: 2 | AK10: 10 | AL10: 12 | AM10: 0 | AN10: 78 | AO10: 60 | AP10: 38 | AQ10: 40 | AR10: 18 | AS10: 234 | AT10: 246 | AU10: 189 | AV10: 192 | AW10: 381 | AX10: 0 | AY10: 1633 | AZ10: 1284 | BA10: 1063 | BB10: 1113 | BC10: 633 | BD10: 5726 | BE10: 6107 | BF10: 0 | BG10: 0 | BH10: 0 | BI10: 0 | BJ10: 1788 | BK10: 973 | BL10: 443 | BM10: 286 | BN10: 96 | BO10: 3586 | BP10: 3586 | BQ10: 77 | BR10: 79 | BS10: 156 | BT10: 0 | BU10: 340 | BV10: 205 | BW10: 137 | BX10: 91 | BY10: 22 | BZ10: 795 | CA10: 951 | CB10: 5 | CC10: 5 | CD10: 10 | CE10: 0 | CF10: 269 | CG10: 272 | CH10: 299 | CI10: 200 | CJ10: 107 | CK10: 1147 | CL10: 1157 | CM10: 1 | CN10: 0 | CO10: 1 | CP10: 0 | CQ10: 12 | CR10: 7 | CS10: 11 | CT10: 19 | CU10: 8 | CV10: 57 | CW10: 58 | CX10: 0 | CY10: 0 | CZ10: 0 | DA10: 0 | DB10: 0 | DC10: 0 | DD10: 0 | DE10: 0 | DF10: 0 | DG10: 0 | DH10: 0 | DI10: 0 | DJ10: 0 | DK10: 0 | DL10: 0 | DM10: 0 | DN10: 0 | DO10: 0 | DP10: 0 | DQ10: 0 | DR10: 0 | DS10: 0 | DT10: 597 | DU10: 1020 | DV10: 1617 | DW10: 0 | DX10: 2478 | DY10: 2229 | DZ10: 1185 | EA10: 1057 | EB10: 542 | EC10: 7491 | ED10: 9108 | EE10: 114 | EF10: 59 | EG10: 173 | EH10: 0 | EI10: 508 | EJ10: 297 | EK10: 277 | EL10: 293 | EM10: 124 | EN10: 1499 | EO10: 1672 | EP10: 0 | EQ10: 0 | ER10: 0 | ES10: 0 | ET10: 0 | EU10: 0 | EV10: 0 | EW10: 0 | EX10: 0 | EY10: 0 | EZ10: 0 | FA10: 687 | FB10: 1111 | FC10: 1798 | FD10: 0 | FE10: 4856 | FF10: 2894 | FG10: 1417 | FH10: 1125 | FI10: 556 | FJ10: 10848 | FK10: 12646
B11: 平塚市 | C11: 0 | D11: 0 | E11: 0 | F11: 0 | G11: 587 | H11: 697 | I11: 430 | J11: 359 | K11: 261 | L11: 2334 | M11: 2334 | N11: 0 | O11: 0 | P11: 0 | Q11: 0 | R11: 3 | S11: 13 | T11: 26 | U11: 51 | V11: 90 | W11: 183 | X11: 183 | Y11: 86 | Z11: 114 | AA11: 200 | AB11: 0 | AC11: 435 | AD11: 569 | AE11: 362 | AF11: 297 | AG11: 226 | AH11: 1889 | AI11: 2089 | AJ11: 9 | AK11: 26 | AL11: 35 | AM11: 0 | AN11: 71 | AO11: 101 | AP11: 56 | AQ11: 54 | AR11: 21 | AS11: 303 | AT11: 338 | AU11: 102 | AV11: 53 | AW11: 155 | AX11: 0 | AY11: 583 | AZ11: 705 | BA11: 668 | BB11: 620 | BC11: 476 | BD11: 3052 | BE11: 3207 | BF11: 0 | BG11: 0 | BH11: 0 | BI11: 0 | BJ11: 691 | BK11: 674 | BL11: 423 | BM11: 233 | BN11: 123 | BO11: 2144 | BP11: 2144 | BQ11: 81 | BR11: 75 | BS11: 156 | BT11: 0 | BU11: 188 | BV11: 224 | BW11: 101 | BX11: 59 | BY11: 22 | BZ11: 594 | CA11: 750 | CB11: 1 | CC11: 5 | CD11: 6 | CE11: 0 | CF11: 108 | CG11: 155 | CH11: 210 | CI11: 123 | CJ11: 67 | CK11: 663 | CL11: 669 | CM11: 1 | CN11: 0 | CO11: 1 | CP11: 0 | CQ11: 1 | CR11: 6 | CS11: 6 | CT11: 6 | CU11: 4 | CV11: 23 | CW11: 24 | CX11: 0 | CY11: 0 | CZ11: 0 | DA11: 0 | DB11: 0 | DC11: 0 | DD11: 0 | DE11: 0 | DF11: 0 | DG11: 0 | DH11: 0 | DI11: 0 | DJ11: 0 | DK11: 0 | DL11: 0 | DM11: 0 | DN11: 0 | DO11: 0 | DP11: 0 | DQ11: 0 | DR11: 0 | DS11: 0 | DT11: 501 | DU11: 680 | DV11: 1181 | DW11: 0 | DX11: 1160 | DY11: 1763 | DZ11: 1007 | EA11: 732 | EB11: 446 | EC11: 5108 | ED11: 6289 | EE11: 59 | EF11: 13 | EG11: 72 | EH11: 0 | EI11: 163 | EJ11: 141 | EK11: 125 | EL11: 125 | EM11: 68 | EN11: 622 | EO11: 694 | EP11: 0 | EQ11: 0 | ER11: 0 | ES11: 0 | ET11: 1 | EU11: 0 | EV11: 0 | EW11: 0 | EX11: 0 | EY11: 1 | EZ11: 1 | FA11: 627 | FB11: 767 | FC11: 1394 | FD11: 0 | FE11: 2112 | FF11: 2147 | FG11: 1153 | FH11: 761 | FI11: 460 | FJ11: 6633 | FK11: 8027
B12: 鎌倉市 | C12: 0 | D12: 0 | E12: 0 | F12: 0 | G12: 649 | H12: 522 | I12: 406 | J12: 341 | K12: 281 | L12: 2199 | M12: 2199 | N12: 0 | O12: 0 | P12: 0 | Q12: 0 | R12: 3 | S12: 10 | T12: 20 | U12: 48 | V12: 128 | W12: 209 | X12: 209 | Y12: 75 | Z12: 128 | AA12: 203 | AB12: 0 | AC12: 500 | AD12: 458 | AE12: 299 | AF12: 277 | AG12: 222 | AH12: 1756 | AI12: 1959 | AJ12: 5 | AK12: 9 | AL12: 14 | AM12: 0 | AN12: 36 | AO12: 38 | AP12: 34 | AQ12: 30 | AR12: 29 | AS12: 167 | AT12: 181 | AU12: 106 | AV12: 107 | AW12: 213 | AX12: 0 | AY12: 683 | AZ12: 659 | BA12: 635 | BB12: 639 | BC12: 488 | BD12: 3104 | BE12: 3317 | BF12: 0 | BG12: 0 | BH12: 0 | BI12: 0 | BJ12: 677 | BK12: 485 | BL12: 282 | BM12: 173 | BN12: 86 | BO12: 1703 | BP12: 1703 | BQ12: 61 | BR12: 70 | BS12: 131 | BT12: 0 | BU12: 190 | BV12: 165 | BW12: 88 | BX12: 62 | BY12: 23 | BZ12: 528 | CA12: 659 | CB12: 2 | CC12: 3 | CD12: 5 | CE12: 0 | CF12: 74 | CG12: 86 | CH12: 126 | CI12: 105 | CJ12: 62 | CK12: 453 | CL12: 458 | CM12: 0 | CN12: 0 | CO12: 0 | CP12: 0 | CQ12: 5 | CR12: 19 | CS12: 15 | CT12: 18 | CU12: 7 | CV12: 64 | CW12: 64 | CX12: 0 | CY12: 0 | CZ12: 0 | DA12: 0 | DB12: 0 | DC12: 0 | DD12: 0 | DE12: 0 | DF12: 0 | DG12: 0 | DH12: 0 | DI12: 0 | DJ12: 0 | DK12: 0 | DL12: 0 | DM12: 0 | DN12: 0 | DO12: 0 | DP12: 0 | DQ12: 0 | DR12: 0 | DS12: 0 | DT12: 431 | DU12: 523 | DV12: 954 | DW12: 0 | DX12: 1060 | DY12: 1123 | DZ12: 696 | EA12: 571 | EB12: 404 | EC12: 3854 | ED12: 4808 | EE12: 60 | EF12: 24 | EG12: 84 | EH12: 0 | EI12: 254 | EJ12: 177 | EK12: 160 | EL12: 183 | EM12: 119 | EN12: 893 | EO12: 977 | EP12: 0 | EQ12: 0 | ER12: 0 | ES12: 0 | ET12: 1 | EU12: 0 | EV12: 0 | EW12: 0 | EX12: 1 | EY12: 2 | EZ12: 2 | FA12: 523 | FB12: 614 | FC12: 1137 | FD12: 0 | FE12: 1880 | FF12: 1407 | FG12: 802 | FH12: 603 | FI12: 402 | FJ12: 5094 | FK12: 6231
B13: 藤沢市 | C13: 0 | D13: 0 | E13: 0 | F13: 0 | G13: 1392 | H13: 749 | I13: 520 | J13: 512 | K13: 376 | L13: 3549 | M13: 3549 | N13: 0 | O13: 0 | P13: 0 | Q13: 0 | R13: 8 | S13: 14 | T13: 29 | U13: 88 | V13: 161 | W13: 300 | X13: 300 | Y13: 264 | Z13: 390 | AA13: 654 | AB13: 0 | AC13: 1135 | AD13: 658 | AE13: 419 | AF13: 374 | AG13: 292 | AH13: 2878 | AI13: 3532 | AJ13: 32 | AK13: 63 | AL13: 95 | AM13: 0 | AN13: 124 | AO13: 87 | AP13: 65 | AQ13: 38 | AR13: 46 | AS13: 360 | AT13: 455 | AU13: 283 | AV13: 287 | AW13: 570 | AX13: 0 | AY13: 1717 | AZ13: 1204 | BA13: 1043 | BB13: 1123 | BC13: 828 | BD13: 5915 | BE13: 6485 | BF13: 0 | BG13: 0 | BH13: 0 | BI13: 0 | BJ13: 1942 | BK13: 797 | BL13: 486 | BM13: 276 | BN13: 131 | BO13: 3632 | BP13: 3632 | BQ13: 57 | BR13: 80 | BS13: 137 | BT13: 0 | BU13: 262 | BV13: 196 | BW13: 108 | BX13: 59 | BY13: 33 | BZ13: 658 | CA13: 795 | CB13: 7 | CC13: 13 | CD13: 20 | CE13: 0 | CF13: 212 | CG13: 190 | CH13: 169 | CI13: 149 | CJ13: 80 | CK13: 800 | CL13: 820 | CM13: 0 | CN13: 0 | CO13: 0 | CP13: 0 | CQ13: 10 | CR13: 11 | CS13: 17 | CT13: 13 | CU13: 6 | CV13: 57 | CW13: 57 | CX13: 0 | CY13: 0 | CZ13: 0 | DA13: 0 | DB13: 0 | DC13: 0 | DD13: 0 | DE13: 0 | DF13: 0 | DG13: 0 | DH13: 0 | DI13: 0 | DJ13: 0 | DK13: 0 | DL13: 0 | DM13: 0 | DN13: 0 | DO13: 0 | DP13: 0 | DQ13: 0 | DR13: 0 | DS13: 0 | DT13: 1189 | DU13: 1398 | DV13: 2587 | DW13: 0 | DX13: 2333 | DY13: 1708 | DZ13: 1053 | EA13: 935 | EB13: 627 | EC13: 6656 | ED13: 9243 | EE13: 107 | EF13: 65 | EG13: 172 | EH13: 0 | EI13: 397 | EJ13: 241 | EK13: 198 | EL13: 246 | EM13: 149 | EN13: 1231 | EO13: 1403 | EP13: 0 | EQ13: 0 | ER13: 0 | ES13: 0 | ET13: 0 | EU13: 0 | EV13: 0 | EW13: 0 | EX13: 0 | EY13: 0 | EZ13: 0 | FA13: 1422 | FB13: 1621 | FC13: 3043 | FD13: 0 | FE13: 4037 | FF13: 2000 | FG13: 1108 | FH13: 923 | FI13: 591 | FJ13: 8659 | FK13: 11702
B14: 小田原市 | C14: 0 | D14: 0 | E14: 0 | F14: 0 | G14: 494 | H14: 387 | I14: 285 | J14: 248 | K14: 190 | L14: 1604 | M14: 1604 | N14: 0 | O14: 0 | P14: 0 | Q14: 0 | R14: 4 | S14: 12 | T14: 25 | U14: 48 | V14: 76 | W14: 165 | X14: 165 | Y14: 56 | Z14: 104 | AA14: 160 | AB14: 0 | AC14: 411 | AD14: 350 | AE14: 244 | AF14: 236 | AG14: 181 | AH14: 1422 | AI14: 1582 | AJ14: 2 | AK14: 3 | AL14: 5 | AM14: 0 | AN14: 33 | AO14: 21 | AP14: 34 | AQ14: 13 | AR14: 10 | AS14: 111 | AT14: 116 | AU14: 52 | AV14: 68 | AW14: 120 | AX14: 0 | AY14: 504 | AZ14: 533 | BA14: 511 | BB14: 523 | BC14: 331 | BD14: 2402 | BE14: 2522 | BF14: 0 | BG14: 0 | BH14: 0 | BI14: 0 | BJ14: 636 | BK14: 507 | BL14: 276 | BM14: 197 | BN14: 95 | BO14: 1711 | BP14: 1711 | BQ14: 130 | BR14: 123 | BS14: 253 | BT14: 0 | BU14: 253 | BV14: 197 | BW14: 98 | BX14: 67 | BY14: 22 | BZ14: 637 | CA14: 890 | CB14: 2 | CC14: 3 | CD14: 5 | CE14: 0 | CF14: 75 | CG14: 105 | CH14: 101 | CI14: 85 | CJ14: 38 | CK14: 404 | CL14: 409 | CM14: 0 | CN14: 0 | CO14: 0 | CP14: 0 | CQ14: 7 | CR14: 12 | CS14: 10 | CT14: 9 | CU14: 9 | CV14: 47 | CW14: 47 | CX14: 0 | CY14: 0 | CZ14: 0 | DA14: 0 | DB14: 0 | DC14: 0 | DD14: 0 | DE14: 0 | DF14: 0 | DG14: 0 | DH14: 0 | DI14: 0 | DJ14: 0 | DK14: 0 | DL14: 0 | DM14: 0 | DN14: 0 | DO14: 0 | DP14: 0 | DQ14: 0 | DR14: 0 | DS14: 0 | DT14: 416 | DU14: 568 | DV14: 984 | DW14: 0 | DX14: 1056 | DY14: 1017 | DZ14: 682 | EA14: 552 | EB14: 325 | EC14: 3632 | ED14: 4616 | EE14: 37 | EF14: 24 | EG14: 61 | EH14: 0 | EI14: 202 | EJ14: 156 | EK14: 145 | EL14: 169 | EM14: 60 | EN14: 732 | EO14: 793 | EP14: 0 | EQ14: 0 | ER14: 0 | ES14: 0 | ET14: 1 | EU14: 3 | EV14: 4 | EW14: 2 | EX14: 1 | EY14: 11 | EZ14: 11 | FA14: 530 | FB14: 681 | FC14: 1211 | FD14: 0 | FE14: 1889 | FF14: 1324 | FG14: 790 | FH14: 573 | FI14: 333 | FJ14: 4909 | FK14: 6120
B15: 茅ヶ崎市 | C15: 0 | D15: 0 | E15: 0 | F15: 0 | G15: 559 | H15: 601 | I15: 374 | J15: 306 | K15: 207 | L15: 2047 | M15: 2047 | N15: 0 | O15: 2 | P15: 2 | Q15: 0 | R15: 0 | S15: 15 | T15: 25 | U15: 64 | V15: 72 | W15: 176 | X15: 178 | Y15: 155 | Z15: 420 | AA15: 575 | AB15: 0 | AC15: 484 | AD15: 548 | AE15: 304 | AF15: 287 | AG15: 180 | AH15: 1803 | AI15: 2378 | AJ15: 11 | AK15: 25 | AL15: 36 | AM15: 0 | AN15: 11 | AO15: 48 | AP15: 14 | AQ15: 32 | AR15: 15 | AS15: 120 | AT15: 156 | AU15: 90 | AV15: 162 | AW15: 252 | AX15: 0 | AY15: 403 | AZ15: 557 | BA15: 465 | BB15: 557 | BC15: 348 | BD15: 2330 | BE15: 2582 | BF15: 0 | BG15: 0 | BH15: 0 | BI15: 0 | BJ15: 799 | BK15: 580 | BL15: 276 | BM15: 194 | BN15: 72 | BO15: 1921 | BP15: 1921 | BQ15: 95 | BR15: 142 | BS15: 237 | BT15: 0 | BU15: 156 | BV15: 206 | BW15: 102 | BX15: 73 | BY15: 24 | BZ15: 561 | CA15: 798 | CB15: 4 | CC15: 7 | CD15: 11 | CE15: 0 | CF15: 105 | CG15: 116 | CH15: 126 | CI15: 78 | CJ15: 53 | CK15: 478 | CL15: 489 | CM15: 0 | CN15: 0 | CO15: 0 | CP15: 0 | CQ15: 4 | CR15: 5 | CS15: 7 | CT15: 4 | CU15: 1 | CV15: 21 | CW15: 21 | CX15: 0 | CY15: 0 | CZ15: 0 | DA15: 0 | DB15: 0 | DC15: 0 | DD15: 0 | DE15: 0 | DF15: 0 | DG15: 0 | DH15: 0 | DI15: 0 | DJ15: 0 | DK15: 0 | DL15: 0 | DM15: 0 | DN15: 0 | DO15: 0 | DP15: 0 | DQ15: 0 | DR15: 0 | DS15: 0 | DT15: 571 | DU15: 1143 | DV15: 1714 | DW15: 0 | DX15: 756 | DY15: 1252 | DZ15: 732 | EA15: 662 | EB15: 349 | EC15: 3751 | ED15: 5465 | EE15: 53 | EF15: 55 | EG15: 108 | EH15: 0 | EI15: 115 | EJ15: 143 | EK15: 114 | EL15: 159 | EM15: 85 | EN15: 616 | EO15: 724 | EP15: 0 | EQ15: 0 | ER15: 0 | ES15: 0 | ET15: 0 | EU15: 0 | EV15: 0 | EW15: 0 | EX15: 0 | EY15: 0 | EZ15: 0 | FA15: 754 | FB15: 1379 | FC15: 2133 | FD15: 0 | FE15: 1795 | FF15: 1557 | FG15: 805 | FH15: 646 | FI15: 330 | FJ15: 5133 | FK15: 7266
B16: 逗子市 | C16: 0 | D16: 0 | E16: 0 | F16: 0 | G16: 245 | H16: 241 | I16: 138 | J16: 119 | K16: 97 | L16: 840 | M16: 840 | N16: 0 | O16: 0 | P16: 0 | Q16: 0 | R16: 0 | S16: 2 | T16: 6 | U16: 18 | V16: 37 | W16: 63 | X16: 63 | Y16: 15 | Z16: 32 | AA16: 47 | AB16: 0 | AC16: 153 | AD16: 200 | AE16: 118 | AF16: 84 | AG16: 71 | AH16: 626 | AI16: 673 | AJ16: 0 | AK16: 2 | AL16: 2 | AM16: 0 | AN16: 13 | AO16: 17 | AP16: 9 | AQ16: 7 | AR16: 8 | AS16: 54 | AT16: 56 | AU16: 43 | AV16: 32 | AW16: 75 | AX16: 0 | AY16: 231 | AZ16: 270 | BA16: 229 | BB16: 233 | BC16: 179 | BD16: 1142 | BE16: 1217 | BF16: 0 | BG16: 0 | BH16: 0 | BI16: 0 | BJ16: 211 | BK16: 236 | BL16: 110 | BM16: 65 | BN16: 31 | BO16: 653 | BP16: 653 | BQ16: 12 | BR16: 23 | BS16: 35 | BT16: 0 | BU16: 35 | BV16: 44 | BW16: 20 | BX16: 19 | BY16: 14 | BZ16: 132 | CA16: 167 | CB16: 0 | CC16: 2 | CD16: 2 | CE16: 0 | CF16: 15 | CG16: 38 | CH16: 49 | CI16: 34 | CJ16: 27 | CK16: 163 | CL16: 165 | CM16: 0 | CN16: 0 | CO16: 0 | CP16: 0 | CQ16: 0 | CR16: 2 | CS16: 3 | CT16: 1 | CU16: 0 | CV16: 6 | CW16: 6 | CX16: 0 | CY16: 0 | CZ16: 0 | DA16: 0 | DB16: 0 | DC16: 0 | DD16: 0 | DE16: 0 | DF16: 0 | DG16: 0 | DH16: 0 | DI16: 0 | DJ16: 0 | DK16: 0 | DL16: 0 | DM16: 0 | DN16: 0 | DO16: 0 | DP16: 0 | DQ16: 0 | DR16: 0 | DS16: 0 | DT16: 75 | DU16: 174 | DV16: 249 | DW16: 0 | DX16: 333 | DY16: 485 | DZ16: 248 | EA16: 183 | EB16: 138 | EC16: 1387 | ED16: 1636 | EE16: 23 | EF16: 7 | EG16: 30 | EH16: 0 | EI16: 83 | EJ16: 82 | EK16: 62 | EL16: 86 | EM16: 43 | EN16: 356 | EO16: 386 | EP16: 0 | EQ16: 0 | ER16: 0 | ES16: 0 | ET16: 0 | EU16: 0 | EV16: 0 | EW16: 0 | EX16: 0 | EY16: 0 | EZ16: 0 | FA16: 97 | FB16: 204 | FC16: 301 | FD16: 0 | FE16: 659 | FF16: 671 | FG16: 320 | FH16: 214 | FI16: 157 | FJ16: 2021 | FK16: 2322
B17: 三浦市 | C17: 0 | D17: 0 | E17: 0 | F17: 0 | G17: 135 | H17: 186 | I17: 97 | J17: 52 | K17: 49 | L17: 519 | M17: 519 | N17: 0 | O17: 0 | P17: 0 | Q17: 0 | R17: 1 | S17: 2 | T17: 10 | U17: 7 | V17: 31 | W17: 51 | X17: 51 | Y17: 4 | Z17: 22 | AA17: 26 | AB17: 0 | AC17: 78 | AD17: 111 | AE17: 66 | AF17: 46 | AG17: 52 | AH17: 353 | AI17: 379 | AJ17: 1 | AK17: 2 | AL17: 3 | AM17: 0 | AN17: 14 | AO17: 15 | AP17: 8 | AQ17: 5 | AR17: 5 | AS17: 47 | AT17: 50 | AU17: 16 | AV17: 16 | AW17: 32 | AX17: 0 | AY17: 127 | AZ17: 138 | BA17: 111 | BB17: 104 | BC17: 72 | BD17: 552 | BE17: 584 | BF17: 0 | BG17: 0 | BH17: 0 | BI17: 0 | BJ17: 93 | BK17: 125 | BL17: 73 | BM17: 25 | BN17: 8 | BO17: 324 | BP17: 324 | BQ17: 3 | BR17: 8 | BS17: 11 | BT17: 0 | BU17: 21 | BV17: 46 | BW17: 25 | BX17: 18 | BY17: 6 | BZ17: 116 | CA17: 127 | CB17: 0 | CC17: 0 | CD17: 0 | CE17: 0 | CF17: 14 | CG17: 37 | CH17: 64 | CI17: 34 | CJ17: 31 | CK17: 180 | CL17: 180 | CM17: 0 | CN17: 0 | CO17: 0 | CP17: 0 | CQ17: 0 | CR17: 3 | CS17: 2 | CT17: 3 | CU17: 1 | CV17: 9 | CW17: 9 | CX17: 0 | CY17: 0 | CZ17: 0 | DA17: 0 | DB17: 0 | DC17: 0 | DD17: 0 | DE17: 0 | DF17: 0 | DG17: 0 | DH17: 0 | DI17: 0 | DJ17: 0 | DK17: 0 | DL17: 0 | DM17: 0 | DN17: 0 | DO17: 0 | DP17: 0 | DQ17: 0 | DR17: 0 | DS17: 0 | DT17: 94 | DU17: 187 | DV17: 281 | DW17: 0 | DX17: 246 | DY17: 426 | DZ17: 215 | EA17: 121 | EB17: 86 | EC17: 1094 | ED17: 1375 | EE17: 17 | EF17: 8 | EG17: 25 | EH17: 0 | EI17: 52 | EJ17: 37 | EK17: 26 | EL17: 28 | EM17: 18 | EN17: 161 | EO17: 186 | EP17: 0 | EQ17: 0 | ER17: 0 | ES17: 0 | ET17: 0 | EU17: 0 | EV17: 0 | EW17: 0 | EX17: 0 | EY17: 0 | EZ17: 0 | FA17: 100 | FB17: 211 | FC17: 311 | FD17: 0 | FE17: 451 | FF17: 531 | FG17: 263 | FH17: 148 | FI17: 97 | FJ17: 1490 | FK17: 1801
... B39: 清川村 | C39: 0 | D39: 0 | E39: 0 | F39: 0 | G39: 4 | H39: 7 | I39: 4 | J39: 0 | K39: 1 | L39: 16 | M39: 16 | N39: 0 | O39: 0 | P39: 0 | Q39: 0 | R39: 0 | S39: 0 | T39: 0 | U39: 0 | V39: 1 | W39: 1 | X39: 1 | Y39: 1 | Z39: 0 | AA39: 1 | AB39: 0 | AC39: 2 | AD39: 7 | AE39: 4 | AF39: 4 | AG39: 4 | AH39: 21 | AI39: 22 | AJ39: 0 | AK39: 0 | AL39: 0 | AM39: 0 | AN39: 0 | AO39: 1 | AP39: 0 | AQ39: 0 | AR39: 0 | AS39: 1 | AT39: 1 | AU39: 0 | AV39: 1 | AW39: 1 | AX39: 0 | AY39: 4 | AZ39: 10 | BA39: 6 | BB39: 7 | BC39: 5 | BD39: 32 | BE39: 33 | BF39: 0 | BG39: 0 | BH39: 0 | BI39: 0 | BJ39: 3 | BK39: 3 | BL39: 4 | BM39: 1 | BN39: 3 | BO39: 14 | BP39: 14 | BQ39: 1 | BR39: 2 | BS39: 3 | BT39: 0 | BU39: 5 | BV39: 5 | BW39: 1 | BX39: 3 | BY39: 0 | BZ39: 14 | CA39: 17 | CB39: 0 | CC39: 0 | CD39: 0 | CE39: 0 | CF39: 0 | CG39: 0 | CH39: 1 | CI39: 1 | CJ39: 2 | CK39: 4 | CL39: 4 | CM39: 0 | CN39: 0 | CO39: 0 | CP39: 0 | CQ39: 0 | CR39: 0 | CS39: 0 | CT39: 1 | CU39: 0 | CV39: 1 | CW39: 1 | CX39: 0 | CY39: 0 | CZ39: 0 | DA39: 0 | DB39: 0 | DC39: 0 | DD39: 0 | DE39: 0 | DF39: 0 | DG39: 0 | DH39: 0 | DI39: 0 | DJ39: 0 | DK39: 0 | DL39: 0 | DM39: 0 | DN39: 0 | DO39: 0 | DP39: 0 | DQ39: 0 | DR39: 0 | DS39: 0 | DT39: 6 | DU39: 2 | DV39: 8 | DW39: 0 | DX39: 16 | DY39: 22 | DZ39: 11 | EA39: 7 | EB39: 4 | EC39: 60 | ED39: 68 | EE39: 0 | EF39: 0 | EG39: 0 | EH39: 0 | EI39: 2 | EJ39: 1 | EK39: 1 | EL39: 0 | EM39: 0 | EN39: 4 | EO39: 4 | EP39: 0 | EQ39: 0 | ER39: 0 | ES39: 0 | ET39: 0 | EU39: 0 | EV39: 0 | EW39: 0 | EX39: 0 | EY39: 0 | EZ39: 0 | FA39: 8 | FB39: 2 | FC39: 10 | FD39: 0 | FE39: 23 | FF39: 26 | FG39: 12 | FH39: 7 | FI39: 5 | FJ39: 73 | FK39: 83

Sheet 第３-2-2表
B1: 居宅介護(介護予防)サービスのサービス別受給者数【現物給付分】 | I1: =第１表!F2 -> 8 | K1: =第１表!G2 -> 7 | L1: =IF(K1<3,K1+12-2,K1-2) -> 5
B2: ②総数（再掲：第1号被保険者の2割負担対象者分）
C3: 訪問介護 | N3: 訪問入浴介護 | Y3: 訪問看護 | AJ3: 訪問リハビリテーション | AU3: 居宅療養管理指導 | BF3: 通所介護 | BQ3: 通所リハビリテーション | CB3: 短期入所生活介護 | CM3: 短期入所療養介護（介護老人保健施設） | CX3: 短期入所療養介護（病院等） | DI3: 短期入所療養介護（介護医療院） | DT3: 福祉用具貸与 | EE3: 特定施設入居者生活介護（短期利用以外） | EP3: 特定施設入居者生活介護（短期利用） | FA3: 介護予防支援・居宅介護支援
C4: 予防給付 | F4: 介護給付 | M4: 合計 | N4: 予防給付 | Q4: 介護給付 | X4: 合計 | Y4: 予防給付 | AB4: 介護給付 | AI4: 合計 | AJ4: 予防給付 | AM4: 介護給付 | AT4: 合計 | AU4: 予防給付 | AX4: 介護給付 | BE4: 合計 | BF4: 予防給付 | BI4: 介護給付 | BP4: 合計 | BQ4: 予防給付 | BT4: 介護給付 | CA4: 合計 | CB4: 予防給付 | CE4: 介護給付 | CL4: 合計 | CM4: 予防給付 | CP4: 介護給付 | CW4: 合計 | CX4: 予防給付 | DA4: 介護給付 | DH4: 合計 | DI4: 予防給付 | DL4: 介護給付 | DS4: 合計 | DT4: 予防給付 | DW4: 介護給付 | ED4: 合計 | EE4: 予防給付 | EH4: 介護給付 | EO4: 合計 | EP4: 予防給付 | ES4: 介護給付 | EZ4: 合計 | FA4: 予防給付 | FD4: 介護給付 | FK4: 合計
C5: 要支援１ | D5: 要支援２ | E5: 計 | F5: 経過的要介護 | G5: 要介護１ | H5: 要介護２ | I5: 要介護３ | J5: 要介護４ | K5: 要介護５ | L5: 計 | N5: 要支援１ | O5: 要支援２ | P5: 計 | Q5: 経過的要介護 | R5: 要介護１ | S5: 要介護２ | T5: 要介護３ | U5: 要介護４ | V5: 要介護５ | W5: 計 | Y5: 要支援１ | Z5: 要支援２ | AA5: 計 | AB5: 経過的要介護 | AC5: 要介護１ | AD5: 要介護２ | AE5: 要介護３ | AF5: 要介護４ | AG5: 要介護５ | AH5: 計 | AJ5: 要支援１ | AK5: 要支援２ | AL5: 計 | AM5: 経過的要介護 | AN5: 要介護１ | AO5: 要介護２ | AP5: 要介護３ | AQ5: 要介護４ | AR5: 要介護５ | AS5: 計 | AU5: 要支援１ | AV5: 要支援２ | AW5: 計 | AX5: 経過的要介護 | AY5: 要介護１ | AZ5: 要介護２ | BA5: 要介護３ | BB5: 要介護４ | BC5: 要介護５ | BD5: 計 | BF5: 要支援１ | BG5: 要支援２ | BH5: 計 | BI5: 経過的要介護 | BJ5: 要介護１ | BK5: 要介護２ | BL5: 要介護３ | BM5: 要介護４ | BN5: 要介護５ | BO5: 計 | BQ5: 要支援１ | BR5: 要支援２ | BS5: 計 | BT5: 経過的要介護 | BU5: 要介護１ | BV5: 要介護２ | BW5: 要介護３ | BX5: 要介護４ | BY5: 要介護５ | BZ5: 計 | CB5: 要支援１ | CC5: 要支援２ | CD5: 計 | CE5: 経過的要介護 | CF5: 要介護１ | CG5: 要介護２ | CH5: 要介護３ | CI5: 要介護４ | CJ5: 要介護５ | CK5: 計 | CM5: 要支援１ | CN5: 要支援２ | CO5: 計 | CP5: 経過的要介護 | CQ5: 要介護１ | CR5: 要介護２ | CS5: 要介護３ | CT5: 要介護４ | CU5: 要介護５ | CV5: 計 | CX5: 要支援１ | CY5: 要支援２ | CZ5: 計 | DA5: 経過的要介護 | DB5: 要介護１ | DC5: 要介護２ | DD5: 要介護３ | DE5: 要介護４ | DF5: 要介護５ | DG5: 計 | DI5: 要支援１ | DJ5: 要支援２ | DK5: 計 | DL5: 経過的要介護 | DM5: 要介護１ | DN5: 要介護２ | DO5: 要介護３ | DP5: 要介護４ | DQ5: 要介護５ | DR5: 計 | DT5: 要支援１ | DU5: 要支援２ | DV5: 計 | DW5: 経過的要介護 | DX5: 要介護１ | DY5: 要介護２ | DZ5: 要介護３ | EA5: 要介護４ | EB5: 要介護５ | EC5: 計 | EE5: 要支援１ | EF5: 要支援２ | EG5: 計 | EH5: 経過的要介護 | EI5: 要介護１ | EJ5: 要介護２ | EK5: 要介護３ | EL5: 要介護４ | EM5: 要介護５ | EN5: 計 | EP5: 要支援１ | EQ5: 要支援２ | ER5: 計 | ES5: 経過的要介護 | ET5: 要介護１ | EU5: 要介護２ | EV5: 要介護３ | EW5: 要介護４ | EX5: 要介護５ | EY5: 計 | FA5: 要支援１ | FB5: 要支援２ | FC5: 計 | FD5: 経過的要介護 | FE5: 要介護１ | FF5: 要介護２ | FG5: 要介護３ | FH5: 要介護４ | FI5: 要介護５ | FJ5: 計
B6: 神奈川県 | C6: 0 | D6: 0 | E6: 0 | F6: 0 | G6: 1286 | H6: 1512 | I6: 789 | J6: 596 | K6: 442 | L6: 4625 | M6: 4625 | N6: 0 | O6: 3 | P6: 3 | Q6: 0 | R6: 8 | S6: 35 | T6: 50 | U6: 103 | V6: 185 | W6: 381 | X6: 384 | Y6: 282 | Z6: 605 | AA6: 887 | AB6: 0 | AC6: 1238 | AD6: 1652 | AE6: 942 | AF6: 637 | AG6: 405 | AH6: 4874 | AI6: 5761 | AJ6: 26 | AK6: 48 | AL6: 74 | AM6: 0 | AN6: 89 | AO6: 119 | AP6: 89 | AQ6: 55 | AR6: 33 | AS6: 385 | AT6: 459 | AU6: 356 | AV6: 439 | AW6: 795 | AX6: 0 | AY6: 1719 | AZ6: 2099 | BA6: 1653 | BB6: 1408 | BC6: 920 | BD6: 7799 | BE6: 8594 | BF6: 0 | BG6: 0 | BH6: 0 | BI6: 0 | BJ6: 1906 | BK6: 1736 | BL6: 798 | BM6: 366 | BN6: 174 | BO6: 4980 | BP6: 4980 | BQ6: 174 | BR6: 216 | BS6: 390 | BT6: 0 | BU6: 460 | BV6: 581 | BW6: 299 | BX6: 183 | BY6: 61 | BZ6: 1584 | CA6: 1974 | CB6: 9 | CC6: 25 | CD6: 34 | CE6: 0 | CF6: 210 | CG6: 293 | CH6: 369 | CI6: 209 | CJ6: 107 | CK6: 1188 | CL6: 1222 | CM6: 1 | CN6: 2 | CO6: 3 | CP6: 0 | CQ6: 30 | CR6: 40 | CS6: 48 | CT6: 44 | CU6: 18 | CV6: 180 | CW6: 183 | CX6: 0 | CY6: 0 | CZ6: 0 | DA6: 0 | DB6: 0 | DC6: 0 | DD6: 0 | DE6: 0 | DF6: 0 | DG6: 0 | DH6: 0 | DI6: 0 | DJ6: 0 | DK6: 0 | DL6: 0 | DM6: 0 | DN6: 1 | DO6: 0 | DP6: 0 | DQ6: 0 | DR6: 1 | DS6: 1 | DT6: 839 | DU6: 1635 | DV6: 2474 | DW6: 0 | DX6: 2212 | DY6: 3777 | DZ6: 1967 | EA6: 1317 | EB6: 789 | EC6: 10062 | ED6: 12536 | EE6: 209 | EF6: 147 | EG6: 356 | EH6: 0 | EI6: 610 | EJ6: 572 | EK6: 489 | EL6: 490 | EM6: 228 | EN6: 2389 | EO6: 2745 | EP6: 0 | EQ6: 0 | ER6: 0 | ES6: 0 | ET6: 1 | EU6: 1 | EV6: 0 | EW6: 0 | EX6: 1 | EY6: 3 | EZ6: 3 | FA6: 1210 | FB6: 2103 | FC6: 3313 | FD6: 0 | FE6: 4959 | FF6: 5018 | FG6: 2367 | FH6: 1401 | FI6: 816 | FJ6: 14561 | FK6: 17874
B7: 横浜市 | C7: 0 | D7: 0 | E7: 0 | F7: 0 | G7: 492 | H7: 749 | I7: 363 | J7: 254 | K7: 203 | L7: 2061 | M7: 2061 | N7: 0 | O7: 2 | P7: 2 | Q7: 0 | R7: 1 | S7: 15 | T7: 13 | U7: 43 | V7: 82 | W7: 154 | X7: 156 | Y7: 104 | Z7: 333 | AA7: 437 | AB7: 0 | AC7: 468 | AD7: 880 | AE7: 467 | AF7: 295 | AG7: 187 | AH7: 2297 | AI7: 2734 | AJ7: 8 | AK7: 20 | AL7: 28 | AM7: 0 | AN7: 26 | AO7: 58 | AP7: 44 | AQ7: 24 | AR7: 12 | AS7: 164 | AT7: 192 | AU7: 135 | AV7: 218 | AW7: 353 | AX7: 0 | AY7: 641 | AZ7: 971 | BA7: 706 | BB7: 592 | BC7: 393 | BD7: 3303 | BE7: 3656 | BF7: 0 | BG7: 0 | BH7: 0 | BI7: 0 | BJ7: 681 | BK7: 762 | BL7: 349 | BM7: 142 | BN7: 66 | BO7: 2000 | BP7: 2000 | BQ7: 69 | BR7: 99 | BS7: 168 | BT7: 0 | BU7: 131 | BV7: 278 | BW7: 141 | BX7: 91 | BY7: 34 | BZ7: 675 | CA7: 843 | CB7: 4 | CC7: 13 | CD7: 17 | CE7: 0 | CF7: 61 | CG7: 135 | CH7: 160 | CI7: 79 | CJ7: 36 | CK7: 471 | CL7: 488 | CM7: 1 | CN7: 2 | CO7: 3 | CP7: 0 | CQ7: 14 | CR7: 21 | CS7: 31 | CT7: 24 | CU7: 11 | CV7: 101 | CW7: 104 | CX7: 0 | CY7: 0 | CZ7: 0 | DA7: 0 | DB7: 0 | DC7: 0 | DD7: 0 | DE7: 0 | DF7: 0 | DG7: 0 | DH7: 0 | DI7: 0 | DJ7: 0 | DK7: 0 | DL7: 0 | DM7: 0 | DN7: 0 | DO7: 0 | DP7: 0 | DQ7: 0 | DR7: 0 | DS7: 0 | DT7: 280 | DU7: 734 | DV7: 1014 | DW7: 0 | DX7: 704 | DY7: 1783 | DZ7: 864 | EA7: 555 | EB7: 348 | EC7: 4254 | ED7: 5268 | EE7: 71 | EF7: 71 | EG7: 142 | EH7: 0 | EI7: 242 | EJ7: 267 | EK7: 219 | EL7: 221 | EM7: 104 | EN7: 1053 | EO7: 1195 | EP7: 0 | EQ7: 0 | ER7: 0 | ES7: 0 | ET7: 0 | EU7: 0 | EV7: 0 | EW7: 0 | EX7: 0 | EY7: 0 | EZ7: 0 | FA7: 432 | FB7: 995 | FC7: 1427 | FD7: 0 | FE7: 1756 | FF7: 2400 | FG7: 1065 | FH7: 616 | FI7: 364 | FJ7: 6201 | FK7: 7628
B8: 川崎市 | C8: 0 | D8: 0 | E8: 0 | F8: 0 | G8: 177 | H8: 171 | I8: 79 | J8: 59 | K8: 49 | L8: 535 | M8: 535 | N8: 0 | O8: 0 | P8: 0 | Q8: 0 | R8: 2 | S8: 4 | T8: 6 | U8: 11 | V8: 22 | W8: 45 | X8: 45 | Y8: 37 | Z8: 73 | AA8: 110 | AB8: 0 | AC8: 190 | AD8: 147 | AE8: 91 | AF8: 67 | AG8: 51 | AH8: 546 | AI8: 656 | AJ8: 2 | AK8: 2 | AL8: 4 | AM8: 0 | AN8: 15 | AO8: 9 | AP8: 5 | AQ8: 5 | AR8: 4 | AS8: 38 | AT8: 42 | AU8: 61 | AV8: 56 | AW8: 117 | AX8: 0 | AY8: 275 | AZ8: 264 | BA8: 195 | BB8: 172 | BC8: 125 | BD8: 1031 | BE8: 1148 | BF8: 0 | BG8: 0 | BH8: 0 | BI8: 0 | BJ8: 281 | BK8: 183 | BL8: 83 | BM8: 40 | BN8: 19 | BO8: 606 | BP8: 606 | BQ8: 14 | BR8: 16 | BS8: 30 | BT8: 0 | BU8: 58 | BV8: 57 | BW8: 24 | BX8: 18 | BY8: 4 | BZ8: 161 | CA8: 191 | CB8: 0 | CC8: 0 | CD8: 0 | CE8: 0 | CF8: 20 | CG8: 25 | CH8: 36 | CI8: 20 | CJ8: 11 | CK8: 112 | CL8: 112 | CM8: 0 | CN8: 0 | CO8: 0 | CP8: 0 | CQ8: 5 | CR8: 3 | CS8: 6 | CT8: 5 | CU8: 2 | CV8: 21 | CW8: 21 | CX8: 0 | CY8: 0 | CZ8: 0 | DA8: 0 | DB8: 0 | DC8: 0 | DD8: 0 | DE8: 0 | DF8: 0 | DG8: 0 | DH8: 0 | DI8: 0 | DJ8: 0 | DK8: 0 | DL8: 0 | DM8: 0 | DN8: 0 | DO8: 0 | DP8: 0 | DQ8: 0 | DR8: 0 | DS8: 0 | DT8: 109 | DU8: 174 | DV8: 283 | DW8: 0 | DX8: 342 | DY8: 370 | DZ8: 195 | EA8: 135 | EB8: 97 | EC8: 1139 | ED8: 1422 | EE8: 38 | EF8: 14 | EG8: 52 | EH8: 0 | EI8: 88 | EJ8: 77 | EK8: 60 | EL8: 67 | EM8: 31 | EN8: 323 | EO8: 375 | EP8: 0 | EQ8: 0 | ER8: 0 | ES8: 0 | ET8: 0 | EU8: 0 | EV8: 0 | EW8: 0 | EX8: 0 | EY8: 0 | EZ8: 0 | FA8: 148 | FB8: 221 | FC8: 369 | FD8: 0 | FE8: 701 | FF8: 493 | FG8: 228 | FH8: 140 | FI8: 96 | FJ8: 1658 | FK8: 2027
B9: 相模原市 | C9: 0 | D9: 0 | E9: 0 | F9: 0 | G9: 77 | H9: 127 | I9: 77 | J9: 48 | K9: 45 | L9: 374 | M9: 374 | N9: 0 | O9: 1 | P9: 1 | Q9: 0 | R9: 0 | S9: 1 | T9: 3 | U9: 8 | V9: 11 | W9: 23 | X9: 24 | Y9: 15 | Z9: 28 | AA9: 43 | AB9: 0 | AC9: 76 | AD9: 131 | AE9: 90 | AF9: 62 | AG9: 31 | AH9: 390 | AI9: 433 | AJ9: 0 | AK9: 7 | AL9: 7 | AM9: 0 | AN9: 2 | AO9: 4 | AP9: 3 | AQ9: 3 | AR9: 0 | AS9: 12 | AT9: 19 | AU9: 22 | AV9: 32 | AW9: 54 | AX9: 0 | AY9: 117 | AZ9: 166 | BA9: 155 | BB9: 125 | BC9: 86 | BD9: 649 | BE9: 703 | BF9: 0 | BG9: 0 | BH9: 0 | BI9: 0 | BJ9: 132 | BK9: 155 | BL9: 98 | BM9: 35 | BN9: 20 | BO9: 440 | BP9: 440 | BQ9: 4 | BR9: 13 | BS9: 17 | BT9: 0 | BU9: 14 | BV9: 23 | BW9: 17 | BX9: 11 | BY9: 2 | BZ9: 67 | CA9: 84 | CB9: 0 | CC9: 2 | CD9: 2 | CE9: 0 | CF9: 14 | CG9: 26 | CH9: 35 | CI9: 19 | CJ9: 13 | CK9: 107 | CL9: 109 | CM9: 0 | CN9: 0 | CO9: 0 | CP9: 0 | CQ9: 0 | CR9: 0 | CS9: 0 | CT9: 2 | CU9: 2 | CV9: 4 | CW9: 4 | CX9: 0 | CY9: 0 | CZ9: 0 | DA9: 0 | DB9: 0 | DC9: 0 | DD9: 0 | DE9: 0 | DF9: 0 | DG9: 0 | DH9: 0 | DI9: 0 | DJ9: 0 | DK9: 0 | DL9: 0 | DM9: 0 | DN9: 0 | DO9: 0 | DP9: 0 | DQ9: 0 | DR9: 0 | DS9: 0 | DT9: 47 | DU9: 135 | DV9: 182 | DW9: 0 | DX9: 151 | DY9: 312 | DZ9: 203 | EA9: 118 | EB9: 71 | EC9: 855 | ED9: 1037 | EE9: 12 | EF9: 11 | EG9: 23 | EH9: 0 | EI9: 34 | EJ9: 32 | EK9: 32 | EL9: 27 | EM9: 7 | EN9: 132 | EO9: 155 | EP9: 0 | EQ9: 0 | ER9: 0 | ES9: 0 | ET9: 0 | EU9: 0 | EV9: 0 | EW9: 0 | EX9: 0 | EY9: 0 | EZ9: 0 | FA9: 63 | FB9: 157 | FC9: 220 | FD9: 0 | FE9: 337 | FF9: 416 | FG9: 246 | FH9: 123 | FI9: 75 | FJ9: 1197 | FK9: 1417
B10: 横須賀市 | C10: 0 | D10: 0 | E10: 0 | F10: 0 | G10: 114 | H10: 82 | I10: 51 | J10: 36 | K10: 21 | L10: 304 | M10: 304 | N10: 0 | O10: 0 | P10: 0 | Q10: 0 | R10: 4 | S10: 4 | T10: 4 | U10: 9 | V10: 18 | W10: 39 | X10: 39 | Y10: 3 | Z10: 5 | AA10: 8 | AB10: 0 | AC10: 63 | AD10: 38 | AE10: 22 | AF10: 26 | AG10: 20 | AH10: 169 | AI10: 177 | AJ10: 0 | AK10: 2 | AL10: 2 | AM10: 0 | AN10: 9 | AO10: 5 | AP10: 0 | AQ10: 3 | AR10: 3 | AS10: 20 | AT10: 22 | AU10: 27 | AV10: 15 | AW10: 42 | AX10: 0 | AY10: 153 | AZ10: 125 | BA10: 87 | BB10: 71 | BC10: 48 | BD10: 484 | BE10: 526 | BF10: 0 | BG10: 0 | BH10: 0 | BI10: 0 | BJ10: 152 | BK10: 86 | BL10: 36 | BM10: 20 | BN10: 9 | BO10: 303 | BP10: 303 | BQ10: 4 | BR10: 6 | BS10: 10 | BT10: 0 | BU10: 32 | BV10: 15 | BW10: 15 | BX10: 6 | BY10: 3 | BZ10: 71 | CA10: 81 | CB10: 1 | CC10: 1 | CD10: 2 | CE10: 0 | CF10: 31 | CG10: 19 | CH10: 22 | CI10: 19 | CJ10: 17 | CK10: 108 | CL10: 110 | CM10: 0 | CN10: 0 | CO10: 0 | CP10: 0 | CQ10: 2 | CR10: 1 | CS10: 1 | CT10: 2 | CU10: 1 | CV10: 7 | CW10: 7 | CX10: 0 | CY10: 0 | CZ10: 0 | DA10: 0 | DB10: 0 | DC10: 0 | DD10: 0 | DE10: 0 | DF10: 0 | DG10: 0 | DH10: 0 | DI10: 0 | DJ10: 0 | DK10: 0 | DL10: 0 | DM10: 0 | DN10: 0 | DO10: 0 | DP10: 0 | DQ10: 0 | DR10: 0 | DS10: 0 | DT10: 40 | DU10: 71 | DV10: 111 | DW10: 0 | DX10: 191 | DY10: 177 | DZ10: 97 | EA10: 71 | EB10: 40 | EC10: 576 | ED10: 687 | EE10: 22 | EF10: 7 | EG10: 29 | EH10: 0 | EI10: 58 | EJ10: 39 | EK10: 23 | EL10: 24 | EM10: 15 | EN10: 159 | EO10: 188 | EP10: 0 | EQ10: 0 | ER10: 0 | ES10: 0 | ET10: 0 | EU10: 0 | EV10: 0 | EW10: 0 | EX10: 0 | EY10: 0 | EZ10: 0 | FA10: 47 | FB10: 77 | FC10: 124 | FD10: 0 | FE10: 410 | FF10: 236 | FG10: 123 | FH10: 76 | FI10: 42 | FJ10: 887 | FK10: 1011
B11: 平塚市 | C11: 0 | D11: 0 | E11: 0 | F11: 0 | G11: 33 | H11: 34 | I11: 15 | J11: 17 | K11: 8 | L11: 107 | M11: 107 | N11: 0 | O11: 0 | P11: 0 | Q11: 0 | R11: 0 | S11: 1 | T11: 3 | U11: 2 | V11: 2 | W11: 8 | X11: 8 | Y11: 8 | Z11: 6 | AA11: 14 | AB11: 0 | AC11: 29 | AD11: 42 | AE11: 23 | AF11: 25 | AG11: 6 | AH11: 125 | AI11: 139 | AJ11: 1 | AK11: 0 | AL11: 1 | AM11: 0 | AN11: 5 | AO11: 3 | AP11: 4 | AQ11: 1 | AR11: 0 | AS11: 13 | AT11: 14 | AU11: 11 | AV11: 3 | AW11: 14 | AX11: 0 | AY11: 38 | AZ11: 46 | BA11: 38 | BB11: 35 | BC11: 17 | BD11: 174 | BE11: 188 | BF11: 0 | BG11: 0 | BH11: 0 | BI11: 0 | BJ11: 41 | BK11: 46 | BL11: 23 | BM11: 14 | BN11: 4 | BO11: 128 | BP11: 128 | BQ11: 7 | BR11: 3 | BS11: 10 | BT11: 0 | BU11: 17 | BV11: 20 | BW11: 6 | BX11: 4 | BY11: 1 | BZ11: 48 | CA11: 58 | CB11: 0 | CC11: 2 | CD11: 2 | CE11: 0 | CF11: 7 | CG11: 9 | CH11: 10 | CI11: 10 | CJ11: 3 | CK11: 39 | CL11: 41 | CM11: 0 | CN11: 0 | CO11: 0 | CP11: 0 | CQ11: 0 | CR11: 0 | CS11: 0 | CT11: 1 | CU11: 0 | CV11: 1 | CW11: 1 | CX11: 0 | CY11: 0 | CZ11: 0 | DA11: 0 | DB11: 0 | DC11: 0 | DD11: 0 | DE11: 0 | DF11: 0 | DG11: 0 | DH11: 0 | DI11: 0 | DJ11: 0 | DK11: 0 | DL11: 0 | DM11: 0 | DN11: 0 | DO11: 0 | DP11: 0 | DQ11: 0 | DR11: 0 | DS11: 0 | DT11: 26 | DU11: 27 | DV11: 53 | DW11: 0 | DX11: 67 | DY11: 112 | DZ11: 53 | EA11: 42 | EB11: 18 | EC11: 292 | ED11: 345 | EE11: 7 | EF11: 2 | EG11: 9 | EH11: 0 | EI11: 19 | EJ11: 8 | EK11: 9 | EL11: 7 | EM11: 2 | EN11: 45 | EO11: 54 | EP11: 0 | EQ11: 0 | ER11: 0 | ES11: 0 | ET11: 1 | EU11: 0 | EV11: 0 | EW11: 0 | EX11: 0 | EY11: 1 | EZ11: 1 | FA11: 38 | FB11: 33 | FC11: 71 | FD11: 0 | FE11: 134 | FF11: 136 | FG11: 64 | FH11: 43 | FI11: 20 | FJ11: 397 | FK11: 468
B12: 鎌倉市 | C12: 0 | D12: 0 | E12: 0 | F12: 0 | G12: 53 | H12: 36 | I12: 40 | J12: 26 | K12: 27 | L12: 182 | M12: 182 | N12: 0 | O12: 0 | P12: 0 | Q12: 0 | R12: 0 | S12: 0 | T12: 4 | U12: 3 | V12: 12 | W12: 19 | X12: 19 | Y12: 9 | Z12: 16 | AA12: 25 | AB12: 0 | AC12: 43 | AD12: 48 | AE12: 37 | AF12: 27 | AG12: 15 | AH12: 170 | AI12: 195 | AJ12: 0 | AK12: 0 | AL12: 0 | AM12: 0 | AN12: 1 | AO12: 1 | AP12: 2 | AQ12: 4 | AR12: 4 | AS12: 12 | AT12: 12 | AU12: 7 | AV12: 13 | AW12: 20 | AX12: 0 | AY12: 60 | AZ12: 49 | BA12: 66 | BB12: 51 | BC12: 35 | BD12: 261 | BE12: 281 | BF12: 0 | BG12: 0 | BH12: 0 | BI12: 0 | BJ12: 54 | BK12: 43 | BL12: 27 | BM12: 12 | BN12: 9 | BO12: 145 | BP12: 145 | BQ12: 4 | BR12: 3 | BS12: 7 | BT12: 0 | BU12: 19 | BV12: 17 | BW12: 13 | BX12: 6 | BY12: 2 | BZ12: 57 | CA12: 64 | CB12: 1 | CC12: 1 | CD12: 2 | CE12: 0 | CF12: 5 | CG12: 8 | CH12: 14 | CI12: 7 | CJ12: 4 | CK12: 38 | CL12: 40 | CM12: 0 | CN12: 0 | CO12: 0 | CP12: 0 | CQ12: 2 | CR12: 4 | CS12: 4 | CT12: 0 | CU12: 0 | CV12: 10 | CW12: 10 | CX12: 0 | CY12: 0 | CZ12: 0 | DA12: 0 | DB12: 0 | DC12: 0 | DD12: 0 | DE12: 0 | DF12: 0 | DG12: 0 | DH12: 0 | DI12: 0 | DJ12: 0 | DK12: 0 | DL12: 0 | DM12: 0 | DN12: 0 | DO12: 0 | DP12: 0 | DQ12: 0 | DR12: 0 | DS12: 0 | DT12: 30 | DU12: 40 | DV12: 70 | DW12: 0 | DX12: 75 | DY12: 105 | DZ12: 68 | EA12: 46 | EB12: 34 | EC12: 328 | ED12: 398 | EE12: 4 | EF12: 3 | EG12: 7 | EH12: 0 | EI12: 22 | EJ12: 17 | EK12: 19 | EL12: 20 | EM12: 10 | EN12: 88 | EO12: 95 | EP12: 0 | EQ12: 0 | ER12: 0 | ES12: 0 | ET12: 0 | EU12: 0 | EV12: 0 | EW12: 0 | EX12: 0 | EY12: 0 | EZ12: 0 | FA12: 39 | FB12: 53 | FC12: 92 | FD12: 0 | FE12: 163 | FF12: 132 | FG12: 87 | FH12: 48 | FI12: 35 | FJ12: 465 | FK12: 557
B13: 藤沢市 | C13: 0 | D13: 0 | E13: 0 | F13: 0 | G13: 96 | H13: 50 | I13: 34 | J13: 30 | K13: 17 | L13: 227 | M13: 227 | N13: 0 | O13: 0 | P13: 0 | Q13: 0 | R13: 0 | S13: 0 | T13: 3 | U13: 5 | V13: 12 | W13: 20 | X13: 20 | Y13: 32 | Z13: 25 | AA13: 57 | AB13: 0 | AC13: 83 | AD13: 55 | AE13: 37 | AF13: 20 | AG13: 13 | AH13: 208 | AI13: 265 | AJ13: 4 | AK13: 10 | AL13: 14 | AM13: 0 | AN13: 7 | AO13: 7 | AP13: 4 | AQ13: 6 | AR13: 4 | AS13: 28 | AT13: 42 | AU13: 34 | AV13: 20 | AW13: 54 | AX13: 0 | AY13: 114 | AZ13: 87 | BA13: 78 | BB13: 85 | BC13: 40 | BD13: 404 | BE13: 458 | BF13: 0 | BG13: 0 | BH13: 0 | BI13: 0 | BJ13: 155 | BK13: 72 | BL13: 35 | BM13: 16 | BN13: 11 | BO13: 289 | BP13: 289 | BQ13: 8 | BR13: 9 | BS13: 17 | BT13: 0 | BU13: 25 | BV13: 19 | BW13: 7 | BX13: 6 | BY13: 1 | BZ13: 58 | CA13: 75 | CB13: 3 | CC13: 0 | CD13: 3 | CE13: 0 | CF13: 16 | CG13: 13 | CH13: 10 | CI13: 9 | CJ13: 4 | CK13: 52 | CL13: 55 | CM13: 0 | CN13: 0 | CO13: 0 | CP13: 0 | CQ13: 0 | CR13: 1 | CS13: 1 | CT13: 3 | CU13: 1 | CV13: 6 | CW13: 6 | CX13: 0 | CY13: 0 | CZ13: 0 | DA13: 0 | DB13: 0 | DC13: 0 | DD13: 0 | DE13: 0 | DF13: 0 | DG13: 0 | DH13: 0 | DI13: 0 | DJ13: 0 | DK13: 0 | DL13: 0 | DM13: 0 | DN13: 0 | DO13: 0 | DP13: 0 | DQ13: 0 | DR13: 0 | DS13: 0 | DT13: 104 | DU13: 97 | DV13: 201 | DW13: 0 | DX13: 150 | DY13: 141 | DZ13: 81 | EA13: 53 | EB13: 36 | EC13: 461 | ED13: 662 | EE13: 20 | EF13: 4 | EG13: 24 | EH13: 0 | EI13: 23 | EJ13: 14 | EK13: 18 | EL13: 31 | EM13: 7 | EN13: 93 | EO13: 117 | EP13: 0 | EQ13: 0 | ER13: 0 | ES13: 0 | ET13: 0 | EU13: 0 | EV13: 0 | EW13: 0 | EX13: 0 | EY13: 0 | EZ13: 0 | FA13: 133 | FB13: 111 | FC13: 244 | FD13: 0 | FE13: 298 | FF13: 165 | FG13: 86 | FH13: 56 | FI13: 33 | FJ13: 638 | FK13: 882
B14: 小田原市 | C14: 0 | D14: 0 | E14: 0 | F14: 0 | G14: 20 | H14: 21 | I14: 14 | J14: 19 | K14: 9 | L14: 83 | M14: 83 | N14: 0 | O14: 0 | P14: 0 | Q14: 0 | R14: 0 | S14: 2 | T14: 3 | U14: 4 | V14: 4 | W14: 13 | X14: 13 | Y14: 6 | Z14: 6 | AA14: 12 | AB14: 0 | AC14: 26 | AD14: 31 | AE14: 24 | AF14: 15 | AG14: 12 | AH14: 108 | AI14: 120 | AJ14: 1 | AK14: 0 | AL14: 1 | AM14: 0 | AN14: 1 | AO14: 2 | AP14: 5 | AQ14: 0 | AR14: 0 | AS14: 8 | AT14: 9 | AU14: 5 | AV14: 9 | AW14: 14 | AX14: 0 | AY14: 29 | AZ14: 40 | BA14: 31 | BB14: 36 | BC14: 18 | BD14: 154 | BE14: 168 | BF14: 0 | BG14: 0 | BH14: 0 | BI14: 0 | BJ14: 37 | BK14: 35 | BL14: 14 | BM14: 11 | BN14: 8 | BO14: 105 | BP14: 105 | BQ14: 14 | BR14: 3 | BS14: 17 | BT14: 0 | BU14: 23 | BV14: 16 | BW14: 12 | BX14: 2 | BY14: 2 | BZ14: 55 | CA14: 72 | CB14: 0 | CC14: 1 | CD14: 1 | CE14: 0 | CF14: 10 | CG14: 3 | CH14: 8 | CI14: 7 | CJ14: 1 | CK14: 29 | CL14: 30 | CM14: 0 | CN14: 0 | CO14: 0 | CP14: 0 | CQ14: 1 | CR14: 1 | CS14: 2 | CT14: 1 | CU14: 0 | CV14: 5 | CW14: 5 | CX14: 0 | CY14: 0 | CZ14: 0 | DA14: 0 | DB14: 0 | DC14: 0 | DD14: 0 | DE14: 0 | DF14: 0 | DG14: 0 | DH14: 0 | DI14: 0 | DJ14: 0 | DK14: 0 | DL14: 0 | DM14: 0 | DN14: 0 | DO14: 0 | DP14: 0 | DQ14: 0 | DR14: 0 | DS14: 0 | DT14: 19 | DU14: 24 | DV14: 43 | DW14: 0 | DX14: 58 | DY14: 69 | DZ14: 46 | EA14: 37 | EB14: 17 | EC14: 227 | ED14: 270 | EE14: 5 | EF14: 1 | EG14: 6 | EH14: 0 | EI14: 14 | EJ14: 17 | EK14: 11 | EL14: 12 | EM14: 5 | EN14: 59 | EO14: 65 | EP14: 0 | EQ14: 0 | ER14: 0 | ES14: 0 | ET14: 0 | EU14: 1 | EV14: 0 | EW14: 0 | EX14: 1 | EY14: 2 | EZ14: 2 | FA14: 32 | FB14: 30 | FC14: 62 | FD14: 0 | FE14: 115 | FF14: 89 | FG14: 56 | FH14: 37 | FI14: 18 | FJ14: 315 | FK14: 377
B15: 茅ヶ崎市 | C15: 0 | D15: 0 | E15: 0 | F15: 0 | G15: 44 | H15: 43 | I15: 23 | J15: 22 | K15: 8 | L15: 140 | M15: 140 | N15: 0 | O15: 0 | P15: 0 | Q15: 0 | R15: 0 | S15: 2 | T15: 1 | U15: 5 | V15: 0 | W15: 8 | X15: 8 | Y15: 17 | Z15: 40 | AA15: 57 | AB15: 0 | AC15: 39 | AD15: 47 | AE15: 25 | AF15: 22 | AG15: 13 | AH15: 146 | AI15: 203 | AJ15: 1 | AK15: 0 | AL15: 1 | AM15: 0 | AN15: 0 | AO15: 2 | AP15: 0 | AQ15: 2 | AR15: 0 | AS15: 4 | AT15: 5 | AU15: 7 | AV15: 16 | AW15: 23 | AX15: 0 | AY15: 33 | AZ15: 54 | BA15: 27 | BB15: 47 | BC15: 18 | BD15: 179 | BE15: 202 | BF15: 0 | BG15: 0 | BH15: 0 | BI15: 0 | BJ15: 71 | BK15: 47 | BL15: 19 | BM15: 9 | BN15: 3 | BO15: 149 | BP15: 149 | BQ15: 13 | BR15: 11 | BS15: 24 | BT15: 0 | BU15: 13 | BV15: 21 | BW15: 6 | BX15: 9 | BY15: 4 | BZ15: 53 | CA15: 77 | CB15: 0 | CC15: 0 | CD15: 0 | CE15: 0 | CF15: 7 | CG15: 3 | CH15: 11 | CI15: 4 | CJ15: 2 | CK15: 27 | CL15: 27 | CM15: 0 | CN15: 0 | CO15: 0 | CP15: 0 | CQ15: 1 | CR15: 0 | CS15: 0 | CT15: 0 | CU15: 0 | CV15: 1 | CW15: 1 | CX15: 0 | CY15: 0 | CZ15: 0 | DA15: 0 | DB15: 0 | DC15: 0 | DD15: 0 | DE15: 0 | DF15: 0 | DG15: 0 | DH15: 0 | DI15: 0 | DJ15: 0 | DK15: 0 | DL15: 0 | DM15: 0 | DN15: 0 | DO15: 0 | DP15: 0 | DQ15: 0 | DR15: 0 | DS15: 0 | DT15: 47 | DU15: 93 | DV15: 140 | DW15: 0 | DX15: 51 | DY15: 103 | DZ15: 52 | EA15: 47 | EB15: 21 | EC15: 274 | ED15: 414 | EE15: 3 | EF15: 6 | EG15: 9 | EH15: 0 | EI15: 10 | EJ15: 19 | EK15: 11 | EL15: 18 | EM15: 8 | EN15: 66 | EO15: 75 | EP15: 0 | EQ15: 0 | ER15: 0 | ES15: 0 | ET15: 0 | EU15: 0 | EV15: 0 | EW15: 0 | EX15: 0 | EY15: 0 | EZ15: 0 | FA15: 71 | FB15: 117 | FC15: 188 | FD15: 0 | FE15: 152 | FF15: 129 | FG15: 55 | FH15: 47 | FI15: 17 | FJ15: 400 | FK15: 588
B16: 逗子市 | C16: 0 | D16: 0 | E16: 0 | F16: 0 | G16: 27 | H16: 15 | I16: 7 | J16: 5 | K16: 6 | L16: 60 | M16: 60 | N16: 0 | O16: 0 | P16: 0 | Q16: 0 | R16: 0 | S16: 0 | T16: 1 | U16: 2 | V16: 2 | W16: 5 | X16: 5 | Y16: 1 | Z16: 5 | AA16: 6 | AB16: 0 | AC16: 17 | AD16: 18 | AE16: 11 | AF16: 3 | AG16: 6 | AH16: 55 | AI16: 61 | AJ16: 0 | AK16: 0 | AL16: 0 | AM16: 0 | AN16: 1 | AO16: 2 | AP16: 2 | AQ16: 0 | AR16: 0 | AS16: 5 | AT16: 5 | AU16: 1 | AV16: 5 | AW16: 6 | AX16: 0 | AY16: 29 | AZ16: 22 | BA16: 20 | BB16: 15 | BC16: 12 | BD16: 98 | BE16: 104 | BF16: 0 | BG16: 0 | BH16: 0 | BI16: 0 | BJ16: 21 | BK16: 31 | BL16: 5 | BM16: 2 | BN16: 2 | BO16: 61 | BP16: 61 | BQ16: 2 | BR16: 1 | BS16: 3 | BT16: 0 | BU16: 3 | BV16: 5 | BW16: 3 | BX16: 0 | BY16: 1 | BZ16: 12 | CA16: 15 | CB16: 0 | CC16: 0 | CD16: 0 | CE16: 0 | CF16: 2 | CG16: 5 | CH16: 4 | CI16: 3 | CJ16: 1 | CK16: 15 | CL16: 15 | CM16: 0 | CN16: 0 | CO16: 0 | CP16: 0 | CQ16: 0 | CR16: 0 | CS16: 0 | CT16: 0 | CU16: 0 | CV16: 0 | CW16: 0 | CX16: 0 | CY16: 0 | CZ16: 0 | DA16: 0 | DB16: 0 | DC16: 0 | DD16: 0 | DE16: 0 | DF16: 0 | DG16: 0 | DH16: 0 | DI16: 0 | DJ16: 0 | DK16: 0 | DL16: 0 | DM16: 0 | DN16: 0 | DO16: 0 | DP16: 0 | DQ16: 0 | DR16: 0 | DS16: 0 | DT16: 7 | DU16: 14 | DV16: 21 | DW16: 0 | DX16: 33 | DY16: 48 | DZ16: 18 | EA16: 11 | EB16: 8 | EC16: 118 | ED16: 139 | EE16: 2 | EF16: 1 | EG16: 3 | EH16: 0 | EI16: 7 | EJ16: 5 | EK16: 8 | EL16: 7 | EM16: 5 | EN16: 32 | EO16: 35 | EP16: 0 | EQ16: 0 | ER16: 0 | ES16: 0 | ET16: 0 | EU16: 0 | EV16: 0 | EW16: 0 | EX16: 0 | EY16: 0 | EZ16: 0 | FA16: 10 | FB16: 17 | FC16: 27 | FD16: 0 | FE16: 71 | FF16: 69 | FG16: 25 | FH16: 12 | FI16: 10 | FJ16: 187 | FK16: 214
B17: 三浦市 | C17: 0 | D17: 0 | E17: 0 | F17: 0 | G17: 10 | H17: 11 | I17: 2 | J17: 5 | K17: 1 | L17: 29 | M17: 29 | N17: 0 | O17: 0 | P17: 0 | Q17: 0 | R17: 0 | S17: 1 | T17: 0 | U17: 0 | V17: 1 | W17: 2 | X17: 2 | Y17: 0 | Z17: 2 | AA17: 2 | AB17: 0 | AC17: 2 | AD17: 10 | AE17: 4 | AF17: 3 | AG17: 3 | AH17: 22 | AI17: 24 | AJ17: 0 | AK17: 0 | AL17: 0 | AM17: 0 | AN17: 2 | AO17: 2 | AP17: 0 | AQ17: 0 | AR17: 1 | AS17: 5 | AT17: 5 | AU17: 0 | AV17: 2 | AW17: 2 | AX17: 0 | AY17: 7 | AZ17: 15 | BA17: 7 | BB17: 7 | BC17: 5 | BD17: 41 | BE17: 43 | BF17: 0 | BG17: 0 | BH17: 0 | BI17: 0 | BJ17: 1 | BK17: 8 | BL17: 2 | BM17: 4 | BN17: 0 | BO17: 15 | BP17: 15 | BQ17: 0 | BR17: 0 | BS17: 0 | BT17: 0 | BU17: 0 | BV17: 3 | BW17: 3 | BX17: 1 | BY17: 0 | BZ17: 7 | CA17: 7 | CB17: 0 | CC17: 0 | CD17: 0 | CE17: 0 | CF17: 0 | CG17: 1 | CH17: 2 | CI17: 0 | CJ17: 2 | CK17: 5 | CL17: 5 | CM17: 0 | CN17: 0 | CO17: 0 | CP17: 0 | CQ17: 0 | CR17: 0 | CS17: 0 | CT17: 1 | CU17: 0 | CV17: 1 | CW17: 1 | CX17: 0 | CY17: 0 | CZ17: 0 | DA17: 0 | DB17: 0 | DC17: 0 | DD17: 0 | DE17: 0 | DF17: 0 | DG17: 0 | DH17: 0 | DI17: 0 | DJ17: 0 | DK17: 0 | DL17: 0 | DM17: 0 | DN17: 0 | DO17: 0 | DP17: 0 | DQ17: 0 | DR17: 0 | DS17: 0 | DT17: 3 | DU17: 3 | DV17: 6 | DW17: 0 | DX17: 11 | DY17: 32 | DZ17: 11 | EA17: 8 | EB17: 5 | EC17: 67 | ED17: 73 | EE17: 0 | EF17: 1 | EG17: 1 | EH17: 0 | EI17: 4 | EJ17: 7 | EK17: 5 | EL17: 1 | EM17: 2 | EN17: 19 | EO17: 20 | EP17: 0 | EQ17: 0 | ER17: 0 | ES17: 0 | ET17: 0 | EU17: 0 | EV17: 0 | EW17: 0 | EX17: 0 | EY17: 0 | EZ17: 0 | FA17: 3 | FB17: 6 | FC17: 9 | FD17: 0 | FE17: 22 | FF17: 38 | FG17: 12 | FH17: 9 | FI17: 6 | FJ17: 87 | FK17: 96
... B39: 清川村 | C39: 0 | D39: 0 | E39: 0 | F39: 0 | G39: 2 | H39: 0 | I39: 0 | J39: 0 | K39: 0 | L39: 2 | M39: 2 | N39: 0 | O39: 0 | P39: 0 | Q39: 0 | R39: 0 | S39: 0 | T39: 0 | U39: 0 | V39: 0 | W39: 0 | X39: 0 | Y39: 0 | Z39: 0 | AA39: 0 | AB39: 0 | AC39: 0 | AD39: 0 | AE39: 1 | AF39: 1 | AG39: 0 | AH39: 2 | AI39: 2 | AJ39: 0 | AK39: 0 | AL39: 0 | AM39: 0 | AN39: 0 | AO39: 0 | AP39: 0 | AQ39: 0 | AR39: 0 | AS39: 0 | AT39: 0 | AU39: 0 | AV39: 0 | AW39: 0 | AX39: 0 | AY39: 0 | AZ39: 1 | BA39: 1 | BB39: 0 | BC39: 0 | BD39: 2 | BE39: 2 | BF39: 0 | BG39: 0 | BH39: 0 | BI39: 0 | BJ39: 0 | BK39: 0 | BL39: 0 | BM39: 1 | BN39: 0 | BO39: 1 | BP39: 1 | BQ39: 0 | BR39: 0 | BS39: 0 | BT39: 0 | BU39: 1 | BV39: 0 | BW39: 0 | BX39: 1 | BY39: 0 | BZ39: 2 | CA39: 2 | CB39: 0 | CC39: 0 | CD39: 0 | CE39: 0 | CF39: 0 | CG39: 0 | CH39: 0 | CI39: 1 | CJ39: 0 | CK39: 1 | CL39: 1 | CM39: 0 | CN39: 0 | CO39: 0 | CP39: 0 | CQ39: 0 | CR39: 0 | CS39: 0 | CT39: 0 | CU39: 0 | CV39: 0 | CW39: 0 | CX39: 0 | CY39: 0 | CZ39: 0 | DA39: 0 | DB39: 0 | DC39: 0 | DD39: 0 | DE39: 0 | DF39: 0 | DG39: 0 | DH39: 0 | DI39: 0 | DJ39: 0 | DK39: 0 | DL39: 0 | DM39: 0 | DN39: 0 | DO39: 0 | DP39: 0 | DQ39: 0 | DR39: 0 | DS39: 0 | DT39: 0 | DU39: 0 | DV39: 0 | DW39: 0 | DX39: 3 | DY39: 0 | DZ39: 1 | EA39: 2 | EB39: 0 | EC39: 6 | ED39: 6 | EE39: 0 | EF39: 0 | EG39: 0 | EH39: 0 | EI39: 0 | EJ39: 0 | EK39: 0 | EL39: 0 | EM39: 0 | EN39: 0 | EO39: 0 | EP39: 0 | EQ39: 0 | ER39: 0 | ES39: 0 | ET39: 0 | EU39: 0 | EV39: 0 | EW39: 0 | EX39: 0 | EY39: 0 | EZ39: 0 | FA39: 0 | FB39: 0 | FC39: 0 | FD39: 0 | FE39: 4 | FF39: 0 | FG39: 1 | FH39: 2 | FI39: 0 | FJ39: 7 | FK39: 7

Sheet 第３-2-3表 
B1: 居宅介護(介護予防)サービスのサービス別受給者数【現物給付分】 | I1: =第１表!F2 -> 8 | K1: =第１表!G2 -> 7 | L1: =IF(K1<3,K1+12-2,K1-2) -> 5
B2: ②総数（再掲：第1号被保険者の3割負担対象者分）
C3: 訪問介護 | N3: 訪問入浴介護 | Y3: 訪問看護 | AJ3: 訪問リハビリテーション | AU3: 居宅療養管理指導 | BF3: 通所介護 | BQ3: 通所リハビリテーション | CB3: 短期入所生活介護 | CM3: 短期入所療養介護（介護老人保健施設） | CX3: 短期入所療養介護（病院等） | DI3: 短期入所療養介護（介護医療院） | DT3: 福祉用具貸与 | EE3: 特定施設入居者生活介護（短期利用以外） | EP3: 特定施設入居者生活介護（短期利用） | FA3: 介護予防支援・居宅介護支援
C4: 予防給付 | F4: 介護給付 | M4: 合計 | N4: 予防給付 | Q4: 介護給付 | X4: 合計 | Y4: 予防給付 | AB4: 介護給付 | AI4: 合計 | AJ4: 予防給付 | AM4: 介護給付 | AT4: 合計 | AU4: 予防給付 | AX4: 介護給付 | BE4: 合計 | BF4: 予防給付 | BI4: 介護給付 | BP4: 合計 | BQ4: 予防給付 | BT4: 介護給付 | CA4: 合計 | CB4: 予防給付 | CE4: 介護給付 | CL4: 合計 | CM4: 予防給付 | CP4: 介護給付 | CW4: 合計 | CX4: 予防給付 | DA4: 介護給付 | DH4: 合計 | DI4: 予防給付 | DL4: 介護給付 | DS4: 合計 | DT4: 予防給付 | DW4: 介護給付 | ED4: 合計 | EE4: 予防給付 | EH4: 介護給付 | EO4: 合計 | EP4: 予防給付 | ES4: 介護給付 | EZ4: 合計 | FA4: 予防給付 | FD4: 介護給付 | FK4: 合計
C5: 要支援１ | D5: 要支援２ | E5: 計 | F5: 経過的要介護 | G5: 要介護１ | H5: 要介護２ | I5: 要介護３ | J5: 要介護４ | K5: 要介護５ | L5: 計 | N5: 要支援１ | O5: 要支援２ | P5: 計 | Q5: 経過的要介護 | R5: 要介護１ | S5: 要介護２ | T5: 要介護３ | U5: 要介護４ | V5: 要介護５ | W5: 計 | Y5: 要支援１ | Z5: 要支援２ | AA5: 計 | AB5: 経過的要介護 | AC5: 要介護１ | AD5: 要介護２ | AE5: 要介護３ | AF5: 要介護４ | AG5: 要介護５ | AH5: 計 | AJ5: 要支援１ | AK5: 要支援２ | AL5: 計 | AM5: 経過的要介護 | AN5: 要介護１ | AO5: 要介護２ | AP5: 要介護３ | AQ5: 要介護４ | AR5: 要介護５ | AS5: 計 | AU5: 要支援１ | AV5: 要支援２ | AW5: 計 | AX5: 経過的要介護 | AY5: 要介護１ | AZ5: 要介護２ | BA5: 要介護３ | BB5: 要介護４ | BC5: 要介護５ | BD5: 計 | BF5: 要支援１ | BG5: 要支援２ | BH5: 計 | BI5: 経過的要介護 | BJ5: 要介護１ | BK5: 要介護２ | BL5: 要介護３ | BM5: 要介護４ | BN5: 要介護５ | BO5: 計 | BQ5: 要支援１ | BR5: 要支援２ | BS5: 計 | BT5: 経過的要介護 | BU5: 要介護１ | BV5: 要介護２ | BW5: 要介護３ | BX5: 要介護４ | BY5: 要介護５ | BZ5: 計 | CB5: 要支援１ | CC5: 要支援２ | CD5: 計 | CE5: 経過的要介護 | CF5: 要介護１ | CG5: 要介護２ | CH5: 要介護３ | CI5: 要介護４ | CJ5: 要介護５ | CK5: 計 | CM5: 要支援１ | CN5: 要支援２ | CO5: 計 | CP5: 経過的要介護 | CQ5: 要介護１ | CR5: 要介護２ | CS5: 要介護３ | CT5: 要介護４ | CU5: 要介護５ | CV5: 計 | CX5: 要支援１ | CY5: 要支援２ | CZ5: 計 | DA5: 経過的要介護 | DB5: 要介護１ | DC5: 要介護２ | DD5: 要介護３ | DE5: 要介護４ | DF5: 要介護５ | DG5: 計 | DI5: 要支援１ | DJ5: 要支援２ | DK5: 計 | DL5: 経過的要介護 | DM5: 要介護１ | DN5: 要介護２ | DO5: 要介護３ | DP5: 要介護４ | DQ5: 要介護５ | DR5: 計 | DT5: 要支援１ | DU5: 要支援２ | DV5: 計 | DW5: 経過的要介護 | DX5: 要介護１ | DY5: 要介護２ | DZ5: 要介護３ | EA5: 要介護４ | EB5: 要介護５ | EC5: 計 | EE5: 要支援１ | EF5: 要支援２ | EG5: 計 | EH5: 経過的要介護 | EI5: 要介護１ | EJ5: 要介護２ | EK5: 要介護３ | EL5: 要介護４ | EM5: 要介護５ | EN5: 計 | EP5: 要支援１ | EQ5: 要支援２ | ER5: 計 | ES5: 経過的要介護 | ET5: 要介護１ | EU5: 要介護２ | EV5: 要介護３ | EW5: 要介護４ | EX5: 要介護５ | EY5: 計 | FA5: 要支援１ | FB5: 要支援２ | FC5: 計 | FD5: 経過的要介護 | FE5: 要介護１ | FF5: 要介護２ | FG5: 要介護３ | FH5: 要介護４ | FI5: 要介護５ | FJ5: 計
B6: 神奈川県 | C6: 0 | D6: 0 | E6: 0 | F6: 0 | G6: 1330 | H6: 1492 | I6: 748 | J6: 672 | K6: 472 | L6: 4714 | M6: 4714 | N6: 0 | O6: 2 | P6: 2 | Q6: 0 | R6: 4 | S6: 27 | T6: 60 | U6: 129 | V6: 206 | W6: 426 | X6: 428 | Y6: 300 | Z6: 677 | AA6: 977 | AB6: 0 | AC6: 1275 | AD6: 1707 | AE6: 901 | AF6: 756 | AG6: 420 | AH6: 5059 | AI6: 6036 | AJ6: 29 | AK6: 78 | AL6: 107 | AM6: 0 | AN6: 115 | AO6: 160 | AP6: 83 | AQ6: 85 | AR6: 52 | AS6: 495 | AT6: 602 | AU6: 410 | AV6: 496 | AW6: 906 | AX6: 0 | AY6: 1844 | AZ6: 2158 | BA6: 1743 | BB6: 1699 | BC6: 1126 | BD6: 8570 | BE6: 9476 | BF6: 0 | BG6: 0 | BH6: 0 | BI6: 0 | BJ6: 1693 | BK6: 1502 | BL6: 664 | BM6: 380 | BN6: 116 | BO6: 4355 | BP6: 4355 | BQ6: 153 | BR6: 194 | BS6: 347 | BT6: 0 | BU6: 410 | BV6: 532 | BW6: 284 | BX6: 202 | BY6: 72 | BZ6: 1500 | CA6: 1847 | CB6: 3 | CC6: 17 | CD6: 20 | CE6: 0 | CF6: 181 | CG6: 282 | CH6: 278 | CI6: 177 | CJ6: 73 | CK6: 991 | CL6: 1011 | CM6: 0 | CN6: 1 | CO6: 1 | CP6: 0 | CQ6: 21 | CR6: 49 | CS6: 47 | CT6: 51 | CU6: 26 | CV6: 194 | CW6: 195 | CX6: 0 | CY6: 0 | CZ6: 0 | DA6: 0 | DB6: 0 | DC6: 0 | DD6: 0 | DE6: 0 | DF6: 0 | DG6: 0 | DH6: 0 | DI6: 0 | DJ6: 0 | DK6: 0 | DL6: 0 | DM6: 0 | DN6: 0 | DO6: 0 | DP6: 0 | DQ6: 0 | DR6: 0 | DS6: 0 | DT6: 788 | DU6: 1646 | DV6: 2434 | DW6: 0 | DX6: 2053 | DY6: 3444 | DZ6: 1841 | EA6: 1450 | EB6: 804 | EC6: 9592 | ED6: 12026 | EE6: 277 | EF6: 224 | EG6: 501 | EH6: 0 | EI6: 851 | EJ6: 852 | EK6: 675 | EL6: 675 | EM6: 384 | EN6: 3437 | EO6: 3938 | EP6: 0 | EQ6: 0 | ER6: 0 | ES6: 0 | ET6: 1 | EU6: 0 | EV6: 1 | EW6: 0 | EX6: 1 | EY6: 3 | EZ6: 3 | FA6: 1145 | FB6: 2149 | FC6: 3294 | FD6: 0 | FE6: 4503 | FF6: 4807 | FG6: 2193 | FH6: 1541 | FI6: 849 | FJ6: 13893 | FK6: 17187
